Back to Multiple platform build/check report for BioC 3.14
ABCDEFGHIJKLMNOPQR[S]TUVWXYZ

This page was generated on 2022-01-14 13:07:06 -0500 (Fri, 14 Jan 2022).

HostnameOSArch (*)R versionInstalled pkgs
nebbiolo2Linux (Ubuntu 20.04.4 LTS)x86_644.1.2 (2021-11-01) -- "Bird Hippie" 4327
tokay2Windows Server 2012 R2 Standardx644.1.2 (2021-11-01) -- "Bird Hippie" 4076
machv2macOS 10.14.6 Mojavex86_644.1.2 (2021-11-01) -- "Bird Hippie" 4137
Click on any hostname to see more info about the system (e.g. compilers)      (*) as reported by 'uname -p', except on Windows and Mac OS X

INSTALL results for sarks on tokay2


To the developers/maintainers of the sarks package:
- Please allow up to 24 hours (and sometimes 48 hours) for your latest push to git@git.bioconductor.org:packages/sarks.git to
reflect on this report. See How and When does the builder pull? When will my changes propagate? here for more information.
- Make sure to use the following settings in order to reproduce any error or warning you see on this page.

raw results

Package 1694/2083HostnameOS / ArchINSTALLBUILDCHECKBUILD BIN
sarks 1.6.0  (landing page)
Dennis Wylie
Snapshot Date: 2022-01-13 01:55:04 -0500 (Thu, 13 Jan 2022)
git_url: https://git.bioconductor.org/packages/sarks
git_branch: RELEASE_3_14
git_last_commit: 16bb3c7
git_last_commit_date: 2021-10-26 12:57:51 -0500 (Tue, 26 Oct 2021)
nebbiolo2Linux (Ubuntu 20.04.4 LTS) / x86_64  OK    OK    OK  UNNEEDED, same version is already published
tokay2Windows Server 2012 R2 Standard / x64  OK    OK    OK    OK  UNNEEDED, same version is already published
machv2macOS 10.14.6 Mojave / x86_64  OK    OK    OK    OK  UNNEEDED, same version is already published

Summary

Package: sarks
Version: 1.6.0
Command: C:\Users\biocbuild\bbs-3.14-bioc\R\bin\R.exe --arch x64 CMD INSTALL --no-multiarch sarks
StartedAt: 2022-01-13 04:37:20 -0500 (Thu, 13 Jan 2022)
EndedAt: 2022-01-13 04:37:47 -0500 (Thu, 13 Jan 2022)
EllapsedTime: 27.0 seconds
RetCode: 0
Status:   OK  

Command output

##############################################################################
##############################################################################
###
### Running command:
###
###   C:\Users\biocbuild\bbs-3.14-bioc\R\bin\R.exe --arch x64 CMD INSTALL --no-multiarch sarks
###
##############################################################################
##############################################################################


* installing to library 'C:/Users/biocbuild/bbs-3.14-bioc/R/library'
* installing *source* package 'sarks' ...
** using staged installation
** R
** data
** inst
** byte-compile and prepare package for lazy loading
** help
*** installing help indices
  converting help for package 'sarks'
    finding HTML links ... done
    Sarks                                   html  
    blockInfo                               html  
    blockScores                             html  
    clusterCounts                           html  
    clusterKmers                            html  
    estimateFalsePositiveRate               html  
    extendKmers                             html  
    kmerCounts                              html  
    kmerPeaks                               html  
    locateClusters                          html  
    locateKmers                             html  
    mergedKmerSubPeaks                      html  
    permutationDistribution                 html  
    permutationThresholds                   html  
    pruneIntervals                          html  
    regexCounts                             html  
    regexLocate                             html  
    sarksFilters                            html  
    simulatedScores                         html  
    simulatedSeqs                           html  
    sourceBlock                             html  
** building package indices
** installing vignettes
** testing if installed package can be loaded from temporary location
** testing if installed package can be loaded from final location
** testing if installed package keeps a record of temporary installation path
* DONE (sarks)
Making 'packages.html' ... done