Name | Last modified | Size | Description | |
---|---|---|---|---|
Parent Directory | - | |||
buildbin-out.txt | 14-Apr-2022 01:07 | 2.4K | ||
buildbin-summary.dcf | 14-Apr-2022 01:07 | 557 | ||
buildsrc-out.txt | 14-Apr-2022 01:07 | 860 | ||
buildsrc-summary.dcf | 14-Apr-2022 01:07 | 471 | ||
checksrc-out.txt | 14-Apr-2022 01:07 | 8.6K | ||
checksrc-summary.dcf | 14-Apr-2022 01:07 | 474 | ||
install-out.txt | 14-Apr-2022 01:07 | 3.2K | ||
install-summary.dcf | 14-Apr-2022 01:07 | 667 | ||