Back to Multiple platform build/check report for BioC 3.14
ABCDEFGHIJKLMNO[P]QRSTUVWXYZ

This page was generated on 2021-10-22 12:04:09 -0400 (Fri, 22 Oct 2021).

BUILD results for proFIA on nebbiolo2

To the developers/maintainers of the proFIA package:
- Please allow up to 24 hours (and sometimes 48 hours) for your latest push to git@git.bioconductor.org:packages/proFIA.git to
reflect on this report. See How and When does the builder pull? When will my changes propagate? here for more information.
- Make sure to use the following settings in order to reproduce any error or warning you see on this page.

raw results

Package 1458/2075HostnameOS / ArchINSTALLBUILDCHECKBUILD BIN
proFIA 1.19.0  (landing page)
Alexis Delabriere
Snapshot Date: 2021-10-21 14:50:08 -0400 (Thu, 21 Oct 2021)
git_url: https://git.bioconductor.org/packages/proFIA
git_branch: master
git_last_commit: 8bd7af7
git_last_commit_date: 2021-05-19 12:24:19 -0400 (Wed, 19 May 2021)
nebbiolo2Linux (Ubuntu 20.04.2 LTS) / x86_64  OK    OK    WARNINGS  UNNEEDED, same version is already published
riesling1Windows Server 2019 Standard / x64  OK    OK    WARNINGS    OK  UNNEEDED, same version is already published
merida1macOS 10.14.6 Mojave / x86_64  OK    OK    WARNINGS    NA  

Summary

Package: proFIA
Version: 1.19.0
Command: /home/biocbuild/bbs-3.14-bioc/R/bin/R CMD build --keep-empty-dirs --no-resave-data proFIA
StartedAt: 2021-10-21 18:13:24 -0400 (Thu, 21 Oct 2021)
EndedAt: 2021-10-21 18:17:38 -0400 (Thu, 21 Oct 2021)
EllapsedTime: 254.0 seconds
RetCode: 0
Status:   OK  
PackageFile: proFIA_1.19.0.tar.gz
PackageFileSize: 3.219 MiB

Command output

##############################################################################
##############################################################################
###
### Running command:
###
###   /home/biocbuild/bbs-3.14-bioc/R/bin/R CMD build --keep-empty-dirs --no-resave-data proFIA
###
##############################################################################
##############################################################################


* checking for file ‘proFIA/DESCRIPTION’ ... OK
* preparing ‘proFIA’:
* checking DESCRIPTION meta-information ... OK
* cleaning src
* installing the package to build vignettes
* creating vignettes ... OK
* cleaning src
* checking for LF line-endings in source and make files and shell scripts
* checking for empty or unneeded directories
* building ‘proFIA_1.19.0.tar.gz’