Back to Multiple platform build/check report for BioC 3.14
ABCDEFGHIJKLMNO[P]QRSTUVWXYZ

This page was generated on 2022-01-17 13:06:44 -0500 (Mon, 17 Jan 2022).

HostnameOSArch (*)R versionInstalled pkgs
nebbiolo2Linux (Ubuntu 20.04.4 LTS)x86_644.1.2 (2021-11-01) -- "Bird Hippie" 4328
tokay2Windows Server 2012 R2 Standardx644.1.2 (2021-11-01) -- "Bird Hippie" 4077
machv2macOS 10.14.6 Mojavex86_644.1.2 (2021-11-01) -- "Bird Hippie" 4138
Click on any hostname to see more info about the system (e.g. compilers)      (*) as reported by 'uname -p', except on Windows and Mac OS X

BUILD results for pairkat on tokay2


To the developers/maintainers of the pairkat package:
- Please allow up to 24 hours (and sometimes 48 hours) for your latest push to git@git.bioconductor.org:packages/pairkat.git to
reflect on this report. See How and When does the builder pull? When will my changes propagate? here for more information.
- Make sure to use the following settings in order to reproduce any error or warning you see on this page.

raw results

Package 1365/2083HostnameOS / ArchINSTALLBUILDCHECKBUILD BIN
pairkat 1.0.0  (landing page)
Cameron Severn
Snapshot Date: 2022-01-16 01:55:05 -0500 (Sun, 16 Jan 2022)
git_url: https://git.bioconductor.org/packages/pairkat
git_branch: RELEASE_3_14
git_last_commit: 3a57a26
git_last_commit_date: 2021-10-26 13:12:59 -0500 (Tue, 26 Oct 2021)
nebbiolo2Linux (Ubuntu 20.04.4 LTS) / x86_64  OK    OK    OK  UNNEEDED, same version is already published
tokay2Windows Server 2012 R2 Standard / x64  OK    OK    OK    OK  UNNEEDED, same version is already published
machv2macOS 10.14.6 Mojave / x86_64  OK    OK    OK    OK  UNNEEDED, same version is already published

Summary

Package: pairkat
Version: 1.0.0
Command: chmod a+r pairkat -R && C:\Users\biocbuild\bbs-3.14-bioc\R\bin\R.exe CMD build --keep-empty-dirs --no-resave-data pairkat
StartedAt: 2022-01-16 12:59:34 -0500 (Sun, 16 Jan 2022)
EndedAt: 2022-01-16 13:02:13 -0500 (Sun, 16 Jan 2022)
EllapsedTime: 158.3 seconds
RetCode: 0
Status:   OK  
PackageFile: pairkat_1.0.0.tar.gz
PackageFileSize: 753.3 KiB

Command output

##############################################################################
##############################################################################
###
### Running command:
###
###   chmod a+r pairkat -R && C:\Users\biocbuild\bbs-3.14-bioc\R\bin\R.exe CMD build --keep-empty-dirs --no-resave-data pairkat
###
##############################################################################
##############################################################################


* checking for file 'pairkat/DESCRIPTION' ... OK
* preparing 'pairkat':
* checking DESCRIPTION meta-information ... OK
* installing the package to build vignettes
* creating vignettes ... OK
* checking for LF line-endings in source and make files and shell scripts
* checking for empty or unneeded directories
* looking to see if a 'data/datalist' file should be added
* building 'pairkat_1.0.0.tar.gz'