Back to Multiple platform build/check report for BioC 3.14
ABCDEFGHIJKLMNO[P]QRSTUVWXYZ

This page was generated on 2022-01-14 13:08:19 -0500 (Fri, 14 Jan 2022).

HostnameOSArch (*)R versionInstalled pkgs
nebbiolo2Linux (Ubuntu 20.04.4 LTS)x86_644.1.2 (2021-11-01) -- "Bird Hippie" 4327
tokay2Windows Server 2012 R2 Standardx644.1.2 (2021-11-01) -- "Bird Hippie" 4076
machv2macOS 10.14.6 Mojavex86_644.1.2 (2021-11-01) -- "Bird Hippie" 4137
Click on any hostname to see more info about the system (e.g. compilers)      (*) as reported by 'uname -p', except on Windows and Mac OS X

CHECK results for paircompviz on machv2


To the developers/maintainers of the paircompviz package:
- Please allow up to 24 hours (and sometimes 48 hours) for your latest push to git@git.bioconductor.org:packages/paircompviz.git to
reflect on this report. See How and When does the builder pull? When will my changes propagate? here for more information.
- Make sure to use the following settings in order to reproduce any error or warning you see on this page.

raw results

Package 1364/2083HostnameOS / ArchINSTALLBUILDCHECKBUILD BIN
paircompviz 1.32.0  (landing page)
Michal Burda
Snapshot Date: 2022-01-13 01:55:04 -0500 (Thu, 13 Jan 2022)
git_url: https://git.bioconductor.org/packages/paircompviz
git_branch: RELEASE_3_14
git_last_commit: 18e2cee
git_last_commit_date: 2021-10-26 12:08:31 -0500 (Tue, 26 Oct 2021)
nebbiolo2Linux (Ubuntu 20.04.4 LTS) / x86_64  OK    OK    OK  UNNEEDED, same version is already published
tokay2Windows Server 2012 R2 Standard / x64  OK    OK    OK    OK  UNNEEDED, same version is already published
machv2macOS 10.14.6 Mojave / x86_64  OK    OK    OK    OK  UNNEEDED, same version is already published

Summary

Package: paircompviz
Version: 1.32.0
Command: /Library/Frameworks/R.framework/Resources/bin/R CMD check --install=check:paircompviz.install-out.txt --library=/Library/Frameworks/R.framework/Resources/library --no-vignettes --timings paircompviz_1.32.0.tar.gz
StartedAt: 2022-01-13 16:09:59 -0500 (Thu, 13 Jan 2022)
EndedAt: 2022-01-13 16:11:09 -0500 (Thu, 13 Jan 2022)
EllapsedTime: 70.0 seconds
RetCode: 0
Status:   OK  
CheckDir: paircompviz.Rcheck
Warnings: 0

Command output

##############################################################################
##############################################################################
###
### Running command:
###
###   /Library/Frameworks/R.framework/Resources/bin/R CMD check --install=check:paircompviz.install-out.txt --library=/Library/Frameworks/R.framework/Resources/library --no-vignettes --timings paircompviz_1.32.0.tar.gz
###
##############################################################################
##############################################################################


* using log directory ‘/Users/biocbuild/bbs-3.14-bioc/meat/paircompviz.Rcheck’
* using R version 4.1.2 (2021-11-01)
* using platform: x86_64-apple-darwin17.0 (64-bit)
* using session charset: UTF-8
* using option ‘--no-vignettes’
* checking for file ‘paircompviz/DESCRIPTION’ ... OK
* checking extension type ... Package
* this is package ‘paircompviz’ version ‘1.32.0’
* checking package namespace information ... OK
* checking package dependencies ... OK
* checking if this is a source package ... OK
* checking if there is a namespace ... OK
* checking for hidden files and directories ... OK
* checking for portable file names ... OK
* checking for sufficient/correct file permissions ... OK
* checking whether package ‘paircompviz’ can be installed ... OK
* checking installed package size ... OK
* checking package directory ... OK
* checking ‘build’ directory ... OK
* checking DESCRIPTION meta-information ... NOTE
Package listed in more than one of Depends, Imports, Suggests, Enhances:
  ‘Rgraphviz’
A package should be listed in only one of these fields.
* checking top-level files ... OK
* checking for left-over files ... OK
* checking index information ... OK
* checking package subdirectories ... OK
* checking R files for non-ASCII characters ... OK
* checking R files for syntax errors ... OK
* checking whether the package can be loaded ... OK
* checking whether the package can be loaded with stated dependencies ... OK
* checking whether the package can be unloaded cleanly ... OK
* checking whether the namespace can be loaded with stated dependencies ... OK
* checking whether the namespace can be unloaded cleanly ... OK
* checking dependencies in R code ... NOTE
'library' or 'require' calls in package code:
  ‘multcomp’ ‘reshape’
  Please use :: or requireNamespace() instead.
  See section 'Suggested packages' in the 'Writing R Extensions' manual.
* checking S3 generic/method consistency ... OK
* checking replacement functions ... OK
* checking foreign function calls ... OK
* checking R code for possible problems ... NOTE
hasse: no visible global function definition for ‘as’
hasse: no visible global function definition for ‘adj’
hasse: no visible global function definition for ‘nodes’
hasse: no visible global function definition for ‘removeEdge’
hasse: no visible global function definition for ‘addNode’
hasse: no visible global function definition for ‘addEdge’
hasse: no visible global function definition for ‘edgeMatrix’
hasse: no visible global function definition for ‘par’
hasse: no visible global function definition for ‘title’
paircomp: no visible global function definition for ‘is’
paircomp: no visible global function definition for ‘combn’
paircomp: no visible global function definition for ‘cast’
paircomp: no visible global function definition for ‘pairwise.t.test’
paircomp: no visible binding for global variable ‘median’
paircomp: no visible global function definition for
  ‘pairwise.wilcox.test’
paircomp: no visible global function definition for
  ‘pairwise.prop.test’
paircomp: no visible global function definition for ‘gray’
Undefined global functions or variables:
  addEdge addNode adj as cast combn edgeMatrix gray is median nodes
  pairwise.prop.test pairwise.t.test pairwise.wilcox.test par
  removeEdge title
Consider adding
  importFrom("grDevices", "gray")
  importFrom("graphics", "par", "title")
  importFrom("methods", "as", "is")
  importFrom("stats", "median", "pairwise.prop.test", "pairwise.t.test",
             "pairwise.wilcox.test")
  importFrom("utils", "combn")
to your NAMESPACE file (and ensure that your DESCRIPTION Imports field
contains 'methods').
* checking Rd files ... OK
* checking Rd metadata ... OK
* checking Rd cross-references ... OK
* checking for missing documentation entries ... OK
* checking for code/documentation mismatches ... OK
* checking Rd \usage sections ... OK
* checking Rd contents ... OK
* checking for unstated dependencies in examples ... OK
* checking contents of ‘data’ directory ... OK
* checking data for non-ASCII characters ... OK
* checking data for ASCII and uncompressed saves ... OK
* checking sizes of PDF files under ‘inst/doc’ ... OK
* checking files in ‘vignettes’ ... NOTE
The following files are already in R: ‘jss.bst’, ‘jss.cls’
Please remove them from your package.
* checking examples ... OK
Examples with CPU (user + system) or elapsed time > 5s
          user system elapsed
paircomp 4.064  0.134   7.194
* checking for unstated dependencies in vignettes ... OK
* checking package vignettes in ‘inst/doc’ ... OK
* checking running R code from vignettes ... SKIPPED
* checking re-building of vignette outputs ... SKIPPED
* checking PDF version of manual ... OK
* DONE

Status: 4 NOTEs
See
  ‘/Users/biocbuild/bbs-3.14-bioc/meat/paircompviz.Rcheck/00check.log’
for details.



Installation output

paircompviz.Rcheck/00install.out

##############################################################################
##############################################################################
###
### Running command:
###
###   /Library/Frameworks/R.framework/Resources/bin/R CMD INSTALL paircompviz
###
##############################################################################
##############################################################################


* installing to library ‘/Library/Frameworks/R.framework/Versions/4.1/Resources/library’
* installing *source* package ‘paircompviz’ ...
** using staged installation
** R
** data
** byte-compile and prepare package for lazy loading
** help
*** installing help indices
** building package indices
** installing vignettes
** testing if installed package can be loaded from temporary location
** testing if installed package can be loaded from final location
** testing if installed package keeps a record of temporary installation path
* DONE (paircompviz)

Tests output


Example timings

paircompviz.Rcheck/paircompviz-Ex.timings

nameusersystemelapsed
brokentrans0.0340.0100.073
hasse0.6550.0101.141
paircomp4.0640.1347.194
paircompviz-package0.0510.0010.089
transReduct0.0010.0000.001