Back to Multiple platform build/check report for BioC 3.14
ABCDEFGHIJKLMN[O]PQRSTUVWXYZ

This page was generated on 2022-01-24 13:06:42 -0500 (Mon, 24 Jan 2022).

HostnameOSArch (*)R versionInstalled pkgs
nebbiolo2Linux (Ubuntu 20.04.4 LTS)x86_644.1.2 (2021-11-01) -- "Bird Hippie" 4329
tokay2Windows Server 2012 R2 Standardx644.1.2 (2021-11-01) -- "Bird Hippie" 4080
machv2macOS 10.14.6 Mojavex86_644.1.2 (2021-11-01) -- "Bird Hippie" 4141
Click on any hostname to see more info about the system (e.g. compilers)      (*) as reported by 'uname -p', except on Windows and Mac OS X

INSTALL results for optimalFlow on tokay2


To the developers/maintainers of the optimalFlow package:
- Please allow up to 24 hours (and sometimes 48 hours) for your latest push to git@git.bioconductor.org:packages/optimalFlow.git to
reflect on this report. See How and When does the builder pull? When will my changes propagate? here for more information.
- Make sure to use the following settings in order to reproduce any error or warning you see on this page.

raw results

Package 1345/2083HostnameOS / ArchINSTALLBUILDCHECKBUILD BIN
optimalFlow 1.6.0  (landing page)
Hristo Inouzhe
Snapshot Date: 2022-01-23 01:55:04 -0500 (Sun, 23 Jan 2022)
git_url: https://git.bioconductor.org/packages/optimalFlow
git_branch: RELEASE_3_14
git_last_commit: ea8a7af
git_last_commit_date: 2021-10-26 12:59:43 -0500 (Tue, 26 Oct 2021)
nebbiolo2Linux (Ubuntu 20.04.4 LTS) / x86_64  OK    OK    OK  UNNEEDED, same version is already published
tokay2Windows Server 2012 R2 Standard / x64  OK    OK    OK    OK  UNNEEDED, same version is already published
machv2macOS 10.14.6 Mojave / x86_64  OK    OK    OK    OK  UNNEEDED, same version is already published

Summary

Package: optimalFlow
Version: 1.6.0
Command: C:\cygwin\bin\curl.exe -O http://155.52.207.166/BBS/3.14/bioc/src/contrib/optimalFlow_1.6.0.tar.gz && rm -rf optimalFlow.buildbin-libdir && mkdir optimalFlow.buildbin-libdir && C:\Users\biocbuild\bbs-3.14-bioc\R\bin\R.exe CMD INSTALL --merge-multiarch --build --library=optimalFlow.buildbin-libdir optimalFlow_1.6.0.tar.gz && C:\Users\biocbuild\bbs-3.14-bioc\R\bin\R.exe CMD INSTALL optimalFlow_1.6.0.zip && rm optimalFlow_1.6.0.tar.gz optimalFlow_1.6.0.zip
StartedAt: 2022-01-23 07:35:11 -0500 (Sun, 23 Jan 2022)
EndedAt: 2022-01-23 07:36:17 -0500 (Sun, 23 Jan 2022)
EllapsedTime: 65.7 seconds
RetCode: 0
Status:   OK  

Command output

##############################################################################
##############################################################################
###
### Running command:
###
###   C:\cygwin\bin\curl.exe -O http://155.52.207.166/BBS/3.14/bioc/src/contrib/optimalFlow_1.6.0.tar.gz && rm -rf optimalFlow.buildbin-libdir && mkdir optimalFlow.buildbin-libdir && C:\Users\biocbuild\bbs-3.14-bioc\R\bin\R.exe CMD INSTALL --merge-multiarch --build --library=optimalFlow.buildbin-libdir optimalFlow_1.6.0.tar.gz && C:\Users\biocbuild\bbs-3.14-bioc\R\bin\R.exe CMD INSTALL optimalFlow_1.6.0.zip && rm optimalFlow_1.6.0.tar.gz optimalFlow_1.6.0.zip
###
##############################################################################
##############################################################################


  % Total    % Received % Xferd  Average Speed   Time    Time     Time  Current
                                 Dload  Upload   Total   Spent    Left  Speed

  0     0    0     0    0     0      0      0 --:--:-- --:--:-- --:--:--     0
100  958k  100  958k    0     0  3151k      0 --:--:-- --:--:-- --:--:-- 3164k

install for i386

* installing *source* package 'optimalFlow' ...
** using staged installation
** R
** byte-compile and prepare package for lazy loading
** help
*** installing help indices
  converting help for package 'optimalFlow'
    finding HTML links ... done
    costWasserMatchingEllipse               html  
    cytoPlot                                html  
    cytoPlot3d                              html  
    cytoPlotDatabase                        html  
    cytoPlotDatabase3d                      html  
    estimCovCellGeneral                     html  
    estimationCellBarycenter                html  
    f1Score                                 html  
    f1ScoreVoting                           html  
    labelTransfer                           html  
    labelTransferEllipse                    html  
    optimalFlowClassification               html  
    optimalFlowTemplates                    html  
    qdaClassification                       html  
    tclustWithInitialization                html  
    tclust_H                                html  
    trimmedKBarycenter                      html  
    voteLabelTransfer                       html  
    w2dist                                  html  
    wasserCostFunction                      html  
** building package indices
** installing vignettes
** testing if installed package can be loaded from temporary location
** testing if installed package can be loaded from final location
** testing if installed package keeps a record of temporary installation path

install for x64

* installing *source* package 'optimalFlow' ...
** testing if installed package can be loaded
* MD5 sums
packaged installation of 'optimalFlow' as optimalFlow_1.6.0.zip
* DONE (optimalFlow)
* installing to library 'C:/Users/biocbuild/bbs-3.14-bioc/R/library'
package 'optimalFlow' successfully unpacked and MD5 sums checked