Back to Multiple platform build/check report for BioC 3.14
ABCDEFGHIJKLMN[O]PQRSTUVWXYZ

This page was generated on 2022-01-19 13:05:45 -0500 (Wed, 19 Jan 2022).

HostnameOSArch (*)R versionInstalled pkgs
nebbiolo2Linux (Ubuntu 20.04.4 LTS)x86_644.1.2 (2021-11-01) -- "Bird Hippie" 4328
tokay2Windows Server 2012 R2 Standardx644.1.2 (2021-11-01) -- "Bird Hippie" 4077
machv2macOS 10.14.6 Mojavex86_644.1.2 (2021-11-01) -- "Bird Hippie" 4138
Click on any hostname to see more info about the system (e.g. compilers)      (*) as reported by 'uname -p', except on Windows and Mac OS X

INSTALL results for oppar on nebbiolo2


To the developers/maintainers of the oppar package:
- Please allow up to 24 hours (and sometimes 48 hours) for your latest push to git@git.bioconductor.org:packages/oppar.git to
reflect on this report. See How and When does the builder pull? When will my changes propagate? here for more information.
- Make sure to use the following settings in order to reproduce any error or warning you see on this page.

raw results

Package 1343/2083HostnameOS / ArchINSTALLBUILDCHECKBUILD BIN
oppar 1.22.0  (landing page)
Soroor Hediyeh zadeh
Snapshot Date: 2022-01-18 01:55:07 -0500 (Tue, 18 Jan 2022)
git_url: https://git.bioconductor.org/packages/oppar
git_branch: RELEASE_3_14
git_last_commit: 7e04b67
git_last_commit_date: 2021-10-26 12:27:11 -0500 (Tue, 26 Oct 2021)
nebbiolo2Linux (Ubuntu 20.04.4 LTS) / x86_64  OK    OK    WARNINGS  UNNEEDED, same version is already published
tokay2Windows Server 2012 R2 Standard / x64  OK    OK    WARNINGS    OK  UNNEEDED, same version is already published
machv2macOS 10.14.6 Mojave / x86_64  OK    OK    WARNINGS    OK  UNNEEDED, same version is already published

Summary

Package: oppar
Version: 1.22.0
Command: /home/biocbuild/bbs-3.14-bioc/R/bin/R CMD INSTALL oppar
StartedAt: 2022-01-18 03:18:13 -0500 (Tue, 18 Jan 2022)
EndedAt: 2022-01-18 03:18:45 -0500 (Tue, 18 Jan 2022)
EllapsedTime: 31.6 seconds
RetCode: 0
Status:   OK  

Command output

##############################################################################
##############################################################################
###
### Running command:
###
###   /home/biocbuild/bbs-3.14-bioc/R/bin/R CMD INSTALL oppar
###
##############################################################################
##############################################################################


* installing to library ‘/home/biocbuild/bbs-3.14-bioc/R/library’
* installing *source* package ‘oppar’ ...
** using staged installation
** libs
gcc -I"/home/biocbuild/bbs-3.14-bioc/R/include" -DNDEBUG   -I/usr/local/include   -fpic  -g -O2  -Wall -c R_init_oppar.c -o R_init_oppar.o
gcc -I"/home/biocbuild/bbs-3.14-bioc/R/include" -DNDEBUG   -I/usr/local/include   -fpic  -g -O2  -Wall -c kernel_estimation.c -o kernel_estimation.o
gcc -I"/home/biocbuild/bbs-3.14-bioc/R/include" -DNDEBUG   -I/usr/local/include   -fpic  -g -O2  -Wall -c ks_test.c -o ks_test.o
ks_test.c: In function ‘ks_sample’:
ks_test.c:22:9: warning: unused variable ‘mx_value’ [-Wunused-variable]
   22 |  double mx_value = 0.0;
      |         ^~~~~~~~
gcc -shared -L/home/biocbuild/bbs-3.14-bioc/R/lib -L/usr/local/lib -o oppar.so R_init_oppar.o kernel_estimation.o ks_test.o -L/home/biocbuild/bbs-3.14-bioc/R/lib -lR
installing to /home/biocbuild/bbs-3.14-bioc/R/library/00LOCK-oppar/00new/oppar/libs
** R
** data
*** moving datasets to lazyload DB
** inst
** byte-compile and prepare package for lazy loading
** help
*** installing help indices
** building package indices
** installing vignettes
** testing if installed package can be loaded from temporary location
** checking absolute paths in shared objects and dynamic libraries
** testing if installed package can be loaded from final location
** testing if installed package keeps a record of temporary installation path
* DONE (oppar)