Back to Multiple platform build/check report for BioC 3.14
ABCDEFGHIJKL[M]NOPQRSTUVWXYZ

This page was generated on 2022-01-14 13:06:41 -0500 (Fri, 14 Jan 2022).

HostnameOSArch (*)R versionInstalled pkgs
nebbiolo2Linux (Ubuntu 20.04.4 LTS)x86_644.1.2 (2021-11-01) -- "Bird Hippie" 4327
tokay2Windows Server 2012 R2 Standardx644.1.2 (2021-11-01) -- "Bird Hippie" 4076
machv2macOS 10.14.6 Mojavex86_644.1.2 (2021-11-01) -- "Bird Hippie" 4137
Click on any hostname to see more info about the system (e.g. compilers)      (*) as reported by 'uname -p', except on Windows and Mac OS X

BUILD BIN results for metaSeq on tokay2


To the developers/maintainers of the metaSeq package:
- Please allow up to 24 hours (and sometimes 48 hours) for your latest push to git@git.bioconductor.org:packages/metaSeq.git to
reflect on this report. See How and When does the builder pull? When will my changes propagate? here for more information.
- Make sure to use the following settings in order to reproduce any error or warning you see on this page.

raw results

Package 1105/2083HostnameOS / ArchINSTALLBUILDCHECKBUILD BIN
metaSeq 1.34.0  (landing page)
Koki Tsuyuzaki
Snapshot Date: 2022-01-13 01:55:04 -0500 (Thu, 13 Jan 2022)
git_url: https://git.bioconductor.org/packages/metaSeq
git_branch: RELEASE_3_14
git_last_commit: 08a332b
git_last_commit_date: 2021-10-26 12:10:48 -0500 (Tue, 26 Oct 2021)
nebbiolo2Linux (Ubuntu 20.04.4 LTS) / x86_64  OK    OK    OK  UNNEEDED, same version is already published
tokay2Windows Server 2012 R2 Standard / x64  OK    OK    OK    OK  UNNEEDED, same version is already published
machv2macOS 10.14.6 Mojave / x86_64  OK    OK    OK    OK  UNNEEDED, same version is already published

Summary

Package: metaSeq
Version: 1.34.0
Command: rm -rf metaSeq.buildbin-libdir && mkdir metaSeq.buildbin-libdir && C:\Users\biocbuild\bbs-3.14-bioc\R\bin\R.exe CMD INSTALL --merge-multiarch --build --library=metaSeq.buildbin-libdir metaSeq_1.34.0.tar.gz
StartedAt: 2022-01-14 06:02:15 -0500 (Fri, 14 Jan 2022)
EndedAt: 2022-01-14 06:02:29 -0500 (Fri, 14 Jan 2022)
EllapsedTime: 14.5 seconds
RetCode: 0
Status:   OK  
PackageFile: metaSeq_1.34.0.zip
PackageFileSize: 6.107 MiB

Command output

##############################################################################
##############################################################################
###
### Running command:
###
###   rm -rf metaSeq.buildbin-libdir && mkdir metaSeq.buildbin-libdir && C:\Users\biocbuild\bbs-3.14-bioc\R\bin\R.exe CMD INSTALL --merge-multiarch --build --library=metaSeq.buildbin-libdir metaSeq_1.34.0.tar.gz
###
##############################################################################
##############################################################################



install for i386

* installing *source* package 'metaSeq' ...
** using staged installation
** R
** data
** inst
** byte-compile and prepare package for lazy loading
** help
*** installing help indices
  converting help for package 'metaSeq'
    finding HTML links ... done
    Accelerate.NOISeq                       html  
    BreastCancer                            html  
    Fisher.test                             html  
    Reset.Accelerate.NOISeq                 html  
    Result.Meta                             html  
    Stouffer.test                           html  
    StudyA                                  html  
    meta.oneside.noiseq                     html  
    meta.readData                           html  
    metaSeq-package                         html  
    other.oneside.pvalues                   html  
    pvals                                   html  
    text.busca_unix                         html  
    text.busca_win                          html  
    text.n.menor_unix                       html  
    text.n.menor_win                        html  
** building package indices
** installing vignettes
** testing if installed package can be loaded from temporary location
** testing if installed package can be loaded from final location
** testing if installed package keeps a record of temporary installation path

install for x64

* installing *source* package 'metaSeq' ...
** testing if installed package can be loaded
* MD5 sums
packaged installation of 'metaSeq' as metaSeq_1.34.0.zip
* DONE (metaSeq)