Back to Multiple platform build/check report for BioC 3.14
ABCDEFGHIJK[L]MNOPQRSTUVWXYZ

This page was generated on 2022-01-21 13:06:34 -0500 (Fri, 21 Jan 2022).

HostnameOSArch (*)R versionInstalled pkgs
nebbiolo2Linux (Ubuntu 20.04.4 LTS)x86_644.1.2 (2021-11-01) -- "Bird Hippie" 4329
tokay2Windows Server 2012 R2 Standardx644.1.2 (2021-11-01) -- "Bird Hippie" 4079
machv2macOS 10.14.6 Mojavex86_644.1.2 (2021-11-01) -- "Bird Hippie" 4140
Click on any hostname to see more info about the system (e.g. compilers)      (*) as reported by 'uname -p', except on Windows and Mac OS X

BUILD BIN results for lpsymphony on tokay2


To the developers/maintainers of the lpsymphony package:
- Please allow up to 24 hours (and sometimes 48 hours) for your latest push to git@git.bioconductor.org:packages/lpsymphony.git to
reflect on this report. See How and When does the builder pull? When will my changes propagate? here for more information.
- Make sure to use the following settings in order to reproduce any error or warning you see on this page.

raw results

Package 1017/2083HostnameOS / ArchINSTALLBUILDCHECKBUILD BIN
lpsymphony 1.22.0  (landing page)
Vladislav Kim
Snapshot Date: 2022-01-20 01:55:04 -0500 (Thu, 20 Jan 2022)
git_url: https://git.bioconductor.org/packages/lpsymphony
git_branch: RELEASE_3_14
git_last_commit: 49017bb
git_last_commit_date: 2021-10-26 12:24:22 -0500 (Tue, 26 Oct 2021)
nebbiolo2Linux (Ubuntu 20.04.4 LTS) / x86_64  OK    OK    OK  UNNEEDED, same version is already published
tokay2Windows Server 2012 R2 Standard / x64  OK    OK    OK    OK  UNNEEDED, same version is already published
machv2macOS 10.14.6 Mojave / x86_64  OK    OK    OK    OK  UNNEEDED, same version is already published

Summary

Package: lpsymphony
Version: 1.22.0
Command: rm -rf lpsymphony.buildbin-libdir && mkdir lpsymphony.buildbin-libdir && C:\Users\biocbuild\bbs-3.14-bioc\R\bin\R.exe CMD INSTALL --merge-multiarch --build --library=lpsymphony.buildbin-libdir lpsymphony_1.22.0.tar.gz
StartedAt: 2022-01-21 06:27:46 -0500 (Fri, 21 Jan 2022)
EndedAt: 2022-01-21 06:28:34 -0500 (Fri, 21 Jan 2022)
EllapsedTime: 47.8 seconds
RetCode: 0
Status:   OK  
PackageFile: lpsymphony_1.22.0.zip
PackageFileSize: 4.827 MiB

Command output

##############################################################################
##############################################################################
###
### Running command:
###
###   rm -rf lpsymphony.buildbin-libdir && mkdir lpsymphony.buildbin-libdir && C:\Users\biocbuild\bbs-3.14-bioc\R\bin\R.exe CMD INSTALL --merge-multiarch --build --library=lpsymphony.buildbin-libdir lpsymphony_1.22.0.tar.gz
###
##############################################################################
##############################################################################



install for i386

* installing *source* package 'lpsymphony' ...
** using staged installation
** libs
cp WinLib/i386/*.dll .
installing to C:/Users/biocbuild/bbs-3.14-bioc/meat/lpsymphony.buildbin-libdir/00LOCK-lpsymphony/00new/lpsymphony/libs/i386
** R
** inst
** byte-compile and prepare package for lazy loading
** help
*** installing help indices
  converting help for package 'lpsymphony'
    finding HTML links ... done
    lpsymphony_solve                        html  
** building package indices
** installing vignettes
** testing if installed package can be loaded from temporary location
** testing if installed package can be loaded from final location
** testing if installed package keeps a record of temporary installation path

install for x64

* installing *source* package 'lpsymphony' ...
** libs
cp WinLib/x64/*.dll .
installing to C:/Users/biocbuild/bbs-3.14-bioc/meat/lpsymphony.buildbin-libdir/lpsymphony/libs/x64
** testing if installed package can be loaded
* MD5 sums
packaged installation of 'lpsymphony' as lpsymphony_1.22.0.zip
* DONE (lpsymphony)