Back to Multiple platform build/check report for BioC 3.14
ABCDEFGH[I]JKLMNOPQRSTUVWXYZ

This page was generated on 2022-01-26 13:06:47 -0500 (Wed, 26 Jan 2022).

HostnameOSArch (*)R versionInstalled pkgs
nebbiolo2Linux (Ubuntu 20.04.4 LTS)x86_644.1.2 (2021-11-01) -- "Bird Hippie" 4329
tokay2Windows Server 2012 R2 Standardx644.1.2 (2021-11-01) -- "Bird Hippie" 4080
machv2macOS 10.14.6 Mojavex86_644.1.2 (2021-11-01) -- "Bird Hippie" 4141
Click on any hostname to see more info about the system (e.g. compilers)      (*) as reported by 'uname -p', except on Windows and Mac OS X

CHECK results for iteremoval on tokay2


To the developers/maintainers of the iteremoval package:
- Please allow up to 24 hours (and sometimes 48 hours) for your latest push to git@git.bioconductor.org:packages/iteremoval.git to
reflect on this report. See How and When does the builder pull? When will my changes propagate? here for more information.
- Make sure to use the following settings in order to reproduce any error or warning you see on this page.

raw results

Package 971/2083HostnameOS / ArchINSTALLBUILDCHECKBUILD BIN
iteremoval 1.14.0  (landing page)
Jiacheng Chuan
Snapshot Date: 2022-01-25 01:55:07 -0500 (Tue, 25 Jan 2022)
git_url: https://git.bioconductor.org/packages/iteremoval
git_branch: RELEASE_3_14
git_last_commit: 59d81e1
git_last_commit_date: 2021-10-26 12:41:40 -0500 (Tue, 26 Oct 2021)
nebbiolo2Linux (Ubuntu 20.04.4 LTS) / x86_64  OK    OK    OK  UNNEEDED, same version is already published
tokay2Windows Server 2012 R2 Standard / x64  OK    OK    OK    OK  UNNEEDED, same version is already published
machv2macOS 10.14.6 Mojave / x86_64  OK    OK    OK    OK  UNNEEDED, same version is already published

Summary

Package: iteremoval
Version: 1.14.0
Command: C:\Users\biocbuild\bbs-3.14-bioc\R\bin\R.exe CMD check --force-multiarch --install=check:iteremoval.install-out.txt --library=C:\Users\biocbuild\bbs-3.14-bioc\R\library --no-vignettes --timings iteremoval_1.14.0.tar.gz
StartedAt: 2022-01-25 21:51:24 -0500 (Tue, 25 Jan 2022)
EndedAt: 2022-01-25 21:55:22 -0500 (Tue, 25 Jan 2022)
EllapsedTime: 237.9 seconds
RetCode: 0
Status:   OK  
CheckDir: iteremoval.Rcheck
Warnings: 0

Command output

##############################################################################
##############################################################################
###
### Running command:
###
###   C:\Users\biocbuild\bbs-3.14-bioc\R\bin\R.exe CMD check --force-multiarch --install=check:iteremoval.install-out.txt --library=C:\Users\biocbuild\bbs-3.14-bioc\R\library --no-vignettes --timings iteremoval_1.14.0.tar.gz
###
##############################################################################
##############################################################################


* using log directory 'C:/Users/biocbuild/bbs-3.14-bioc/meat/iteremoval.Rcheck'
* using R version 4.1.2 (2021-11-01)
* using platform: x86_64-w64-mingw32 (64-bit)
* using session charset: ISO8859-1
* using option '--no-vignettes'
* checking for file 'iteremoval/DESCRIPTION' ... OK
* this is package 'iteremoval' version '1.14.0'
* package encoding: UTF-8
* checking package namespace information ... OK
* checking package dependencies ... OK
* checking if this is a source package ... OK
* checking if there is a namespace ... OK
* checking for hidden files and directories ... OK
* checking for portable file names ... OK
* checking whether package 'iteremoval' can be installed ... OK
* checking installed package size ... OK
* checking package directory ... OK
* checking 'build' directory ... OK
* checking DESCRIPTION meta-information ... OK
* checking top-level files ... OK
* checking for left-over files ... OK
* checking index information ... OK
* checking package subdirectories ... OK
* checking R files for non-ASCII characters ... OK
* checking R files for syntax errors ... OK
* loading checks for arch 'i386'
** checking whether the package can be loaded ... OK
** checking whether the package can be loaded with stated dependencies ... OK
** checking whether the package can be unloaded cleanly ... OK
** checking whether the namespace can be loaded with stated dependencies ... OK
** checking whether the namespace can be unloaded cleanly ... OK
* loading checks for arch 'x64'
** checking whether the package can be loaded ... OK
** checking whether the package can be loaded with stated dependencies ... OK
** checking whether the package can be unloaded cleanly ... OK
** checking whether the namespace can be loaded with stated dependencies ... OK
** checking whether the namespace can be unloaded cleanly ... OK
* checking dependencies in R code ... OK
* checking S3 generic/method consistency ... OK
* checking replacement functions ... OK
* checking foreign function calls ... OK
* checking R code for possible problems ... OK
* checking Rd files ... OK
* checking Rd metadata ... OK
* checking Rd cross-references ... OK
* checking for missing documentation entries ... OK
* checking for code/documentation mismatches ... OK
* checking Rd \usage sections ... OK
* checking Rd contents ... OK
* checking for unstated dependencies in examples ... OK
* checking contents of 'data' directory ... OK
* checking data for non-ASCII characters ... OK
* checking LazyData ... OK
* checking data for ASCII and uncompressed saves ... OK
* checking files in 'vignettes' ... OK
* checking examples ...
** running examples for arch 'i386' ... OK
** running examples for arch 'x64' ... OK
* checking for unstated dependencies in 'tests' ... OK
* checking tests ...
** running tests for arch 'i386' ...
  Running 'testthat.R'
 OK
** running tests for arch 'x64' ...
  Running 'testthat.R'
 OK
* checking for unstated dependencies in vignettes ... OK
* checking package vignettes in 'inst/doc' ... OK
* checking running R code from vignettes ... SKIPPED
* checking re-building of vignette outputs ... SKIPPED
* checking PDF version of manual ... OK
* DONE

Status: OK


Installation output

iteremoval.Rcheck/00install.out

##############################################################################
##############################################################################
###
### Running command:
###
###   C:\cygwin\bin\curl.exe -O http://155.52.207.166/BBS/3.14/bioc/src/contrib/iteremoval_1.14.0.tar.gz && rm -rf iteremoval.buildbin-libdir && mkdir iteremoval.buildbin-libdir && C:\Users\biocbuild\bbs-3.14-bioc\R\bin\R.exe CMD INSTALL --merge-multiarch --build --library=iteremoval.buildbin-libdir iteremoval_1.14.0.tar.gz && C:\Users\biocbuild\bbs-3.14-bioc\R\bin\R.exe CMD INSTALL iteremoval_1.14.0.zip && rm iteremoval_1.14.0.tar.gz iteremoval_1.14.0.zip
###
##############################################################################
##############################################################################


  % Total    % Received % Xferd  Average Speed   Time    Time     Time  Current
                                 Dload  Upload   Total   Spent    Left  Speed

  0     0    0     0    0     0      0      0 --:--:-- --:--:-- --:--:--     0
100  278k  100  278k    0     0  1066k      0 --:--:-- --:--:-- --:--:-- 1070k

install for i386

* installing *source* package 'iteremoval' ...
** using staged installation
** R
** data
*** moving datasets to lazyload DB
** demo
** inst
** byte-compile and prepare package for lazy loading
** help
*** installing help indices
  converting help for package 'iteremoval'
    finding HTML links ... done
    SWRG0                                   html  
    SWRG1                                   html  
    SummarizedData                          html  
    feature_hist                            html  
    feature_prevalence                      html  
    feature_removal                         html  
    feature_screen                          html  
    funcOrExp                               html  
    ggiteration_trace                       html  
    score_combine_methods                   html  
    score_standardization_methods           html  
    weight_methods                          html  
** building package indices
** installing vignettes
** testing if installed package can be loaded from temporary location
** testing if installed package can be loaded from final location
** testing if installed package keeps a record of temporary installation path

install for x64

* installing *source* package 'iteremoval' ...
** testing if installed package can be loaded
* MD5 sums
packaged installation of 'iteremoval' as iteremoval_1.14.0.zip
* DONE (iteremoval)
* installing to library 'C:/Users/biocbuild/bbs-3.14-bioc/R/library'
package 'iteremoval' successfully unpacked and MD5 sums checked

Tests output

iteremoval.Rcheck/tests_i386/testthat.Rout


R version 4.1.2 (2021-11-01) -- "Bird Hippie"
Copyright (C) 2021 The R Foundation for Statistical Computing
Platform: i386-w64-mingw32/i386 (32-bit)

R is free software and comes with ABSOLUTELY NO WARRANTY.
You are welcome to redistribute it under certain conditions.
Type 'license()' or 'licence()' for distribution details.

R is a collaborative project with many contributors.
Type 'contributors()' for more information and
'citation()' on how to cite R or R packages in publications.

Type 'demo()' for some demos, 'help()' for on-line help, or
'help.start()' for an HTML browser interface to help.
Type 'q()' to quit R.

> library(testthat)
> library(iteremoval)
Loading required package: ggplot2
> 
> test_check("iteremoval")
Current offset: 1
Current offset: 0.5
Current offset: 2
Current offset: 0.5
Current offset: 2
Current offset: 1
Current offset: 0.5
Current offset: 1
Current offset: 2
[ FAIL 0 | WARN 0 | SKIP 2 | PASS 15 ]

== Skipped tests ===============================================================
* empty test (2)

[ FAIL 0 | WARN 0 | SKIP 2 | PASS 15 ]
> 
> proc.time()
   user  system elapsed 
   9.43    0.65   10.51 

iteremoval.Rcheck/tests_x64/testthat.Rout


R version 4.1.2 (2021-11-01) -- "Bird Hippie"
Copyright (C) 2021 The R Foundation for Statistical Computing
Platform: x86_64-w64-mingw32/x64 (64-bit)

R is free software and comes with ABSOLUTELY NO WARRANTY.
You are welcome to redistribute it under certain conditions.
Type 'license()' or 'licence()' for distribution details.

R is a collaborative project with many contributors.
Type 'contributors()' for more information and
'citation()' on how to cite R or R packages in publications.

Type 'demo()' for some demos, 'help()' for on-line help, or
'help.start()' for an HTML browser interface to help.
Type 'q()' to quit R.

> library(testthat)
> library(iteremoval)
Loading required package: ggplot2
> 
> test_check("iteremoval")
Current offset: 1
Current offset: 0.5
Current offset: 2
Current offset: 0.5
Current offset: 2
Current offset: 1
Current offset: 0.5
Current offset: 1
Current offset: 2
[ FAIL 0 | WARN 0 | SKIP 2 | PASS 15 ]

== Skipped tests ===============================================================
* empty test (2)

[ FAIL 0 | WARN 0 | SKIP 2 | PASS 15 ]
> 
> proc.time()
   user  system elapsed 
  10.06    0.35   10.84 

Example timings

iteremoval.Rcheck/examples_i386/iteremoval-Ex.timings

nameusersystemelapsed
feature_hist0.860.080.93
feature_prevalence0.850.000.85
feature_removal1.360.001.36
feature_screen0.820.000.81
funcOrExp000
ggiteration_trace1.150.021.17
score_combine_methods000
score_standardization_methods000
weight_methods000

iteremoval.Rcheck/examples_x64/iteremoval-Ex.timings

nameusersystemelapsed
feature_hist1.280.001.28
feature_prevalence0.780.000.78
feature_removal1.240.001.23
feature_screen0.830.000.83
funcOrExp000
ggiteration_trace1.060.001.08
score_combine_methods000
score_standardization_methods000
weight_methods000