Back to Multiple platform build/check report for BioC 3.14
ABCDEFG[H]IJKLMNOPQRSTUVWXYZ

This page was generated on 2021-11-29 15:04:57 -0500 (Mon, 29 Nov 2021).

BUILD results for hiReadsProcessor on nebbiolo2

To the developers/maintainers of the hiReadsProcessor package:
- Please allow up to 24 hours (and sometimes 48 hours) for your latest push to git@git.bioconductor.org:packages/hiReadsProcessor.git to
reflect on this report. See How and When does the builder pull? When will my changes propagate? here for more information.
- Make sure to use the following settings in order to reproduce any error or warning you see on this page.

raw results

Package 877/2083HostnameOS / ArchINSTALLBUILDCHECKBUILD BIN
hiReadsProcessor 1.30.0  (landing page)
Nirav V Malani
Snapshot Date: 2021-11-28 04:15:06 -0500 (Sun, 28 Nov 2021)
git_url: https://git.bioconductor.org/packages/hiReadsProcessor
git_branch: RELEASE_3_14
git_last_commit: 2f94596
git_last_commit_date: 2021-10-26 12:15:30 -0500 (Tue, 26 Oct 2021)
nebbiolo2Linux (Ubuntu 20.04.3 LTS) / x86_64  OK    OK    OK  UNNEEDED, same version is already published
tokay2Windows Server 2012 R2 Standard / x64... NOT SUPPORTED ...
machv2macOS 10.14.6 Mojave / x86_64  OK    OK    OK    OK  UNNEEDED, same version is already published

Summary

Package: hiReadsProcessor
Version: 1.30.0
Command: /home/biocbuild/bbs-3.14-bioc/R/bin/R CMD build --keep-empty-dirs --no-resave-data hiReadsProcessor
StartedAt: 2021-11-28 06:34:39 -0500 (Sun, 28 Nov 2021)
EndedAt: 2021-11-28 06:35:31 -0500 (Sun, 28 Nov 2021)
EllapsedTime: 52.6 seconds
RetCode: 0
Status:   OK  
PackageFile: hiReadsProcessor_1.30.0.tar.gz
PackageFileSize: 3.154 MiB

Command output

##############################################################################
##############################################################################
###
### Running command:
###
###   /home/biocbuild/bbs-3.14-bioc/R/bin/R CMD build --keep-empty-dirs --no-resave-data hiReadsProcessor
###
##############################################################################
##############################################################################


* checking for file ‘hiReadsProcessor/DESCRIPTION’ ... OK
* preparing ‘hiReadsProcessor’:
* checking DESCRIPTION meta-information ... OK
* installing the package to build vignettes
* creating vignettes ... OK
* checking for LF line-endings in source and make files and shell scripts
* checking for empty or unneeded directories
* looking to see if a ‘data/datalist’ file should be added
* building ‘hiReadsProcessor_1.30.0.tar.gz’