Back to Multiple platform build/check report for BioC 3.14
ABCDEF[G]HIJKLMNOPQRSTUVWXYZ

This page was generated on 2022-01-19 13:06:43 -0500 (Wed, 19 Jan 2022).

HostnameOSArch (*)R versionInstalled pkgs
nebbiolo2Linux (Ubuntu 20.04.4 LTS)x86_644.1.2 (2021-11-01) -- "Bird Hippie" 4328
tokay2Windows Server 2012 R2 Standardx644.1.2 (2021-11-01) -- "Bird Hippie" 4077
machv2macOS 10.14.6 Mojavex86_644.1.2 (2021-11-01) -- "Bird Hippie" 4138
Click on any hostname to see more info about the system (e.g. compilers)      (*) as reported by 'uname -p', except on Windows and Mac OS X

INSTALL results for gtrellis on tokay2


To the developers/maintainers of the gtrellis package:
- Please allow up to 24 hours (and sometimes 48 hours) for your latest push to git@git.bioconductor.org:packages/gtrellis.git to
reflect on this report. See How and When does the builder pull? When will my changes propagate? here for more information.
- Make sure to use the following settings in order to reproduce any error or warning you see on this page.

raw results

Package 841/2083HostnameOS / ArchINSTALLBUILDCHECKBUILD BIN
gtrellis 1.26.0  (landing page)
Zuguang Gu
Snapshot Date: 2022-01-18 01:55:07 -0500 (Tue, 18 Jan 2022)
git_url: https://git.bioconductor.org/packages/gtrellis
git_branch: RELEASE_3_14
git_last_commit: f2c3121
git_last_commit_date: 2021-10-26 12:19:28 -0500 (Tue, 26 Oct 2021)
nebbiolo2Linux (Ubuntu 20.04.4 LTS) / x86_64  OK    OK    OK  UNNEEDED, same version is already published
tokay2Windows Server 2012 R2 Standard / x64  OK    OK    OK    OK  UNNEEDED, same version is already published
machv2macOS 10.14.6 Mojave / x86_64  OK    OK    OK    OK  UNNEEDED, same version is already published

Summary

Package: gtrellis
Version: 1.26.0
Command: C:\cygwin\bin\curl.exe -O http://155.52.207.166/BBS/3.14/bioc/src/contrib/gtrellis_1.26.0.tar.gz && rm -rf gtrellis.buildbin-libdir && mkdir gtrellis.buildbin-libdir && C:\Users\biocbuild\bbs-3.14-bioc\R\bin\R.exe CMD INSTALL --merge-multiarch --build --library=gtrellis.buildbin-libdir gtrellis_1.26.0.tar.gz && C:\Users\biocbuild\bbs-3.14-bioc\R\bin\R.exe CMD INSTALL gtrellis_1.26.0.zip && rm gtrellis_1.26.0.tar.gz gtrellis_1.26.0.zip
StartedAt: 2022-01-18 05:01:13 -0500 (Tue, 18 Jan 2022)
EndedAt: 2022-01-18 05:02:25 -0500 (Tue, 18 Jan 2022)
EllapsedTime: 71.8 seconds
RetCode: 0
Status:   OK  

Command output

##############################################################################
##############################################################################
###
### Running command:
###
###   C:\cygwin\bin\curl.exe -O http://155.52.207.166/BBS/3.14/bioc/src/contrib/gtrellis_1.26.0.tar.gz && rm -rf gtrellis.buildbin-libdir && mkdir gtrellis.buildbin-libdir && C:\Users\biocbuild\bbs-3.14-bioc\R\bin\R.exe CMD INSTALL --merge-multiarch --build --library=gtrellis.buildbin-libdir gtrellis_1.26.0.tar.gz && C:\Users\biocbuild\bbs-3.14-bioc\R\bin\R.exe CMD INSTALL gtrellis_1.26.0.zip && rm gtrellis_1.26.0.tar.gz gtrellis_1.26.0.zip
###
##############################################################################
##############################################################################


  % Total    % Received % Xferd  Average Speed   Time    Time     Time  Current
                                 Dload  Upload   Total   Spent    Left  Speed

  0     0    0     0    0     0      0      0 --:--:-- --:--:-- --:--:--     0
  1 12.0M    1  165k    0     0   905k      0  0:00:13 --:--:--  0:00:13  906k
 54 12.0M   54 6778k    0     0  5748k      0  0:00:02  0:00:01  0:00:01 5749k
100 12.0M  100 12.0M    0     0  6524k      0  0:00:01  0:00:01 --:--:-- 6524k

install for i386

* installing *source* package 'gtrellis' ...
** using staged installation
** R
** inst
** byte-compile and prepare package for lazy loading
** help
*** installing help indices
  converting help for package 'gtrellis'
    finding HTML links ... done
    add_heatmap_track                       html  
    add_ideogram_track                      html  
    add_lines_track                         html  
    add_points_track                        html  
    add_rect_track                          html  
    add_segments_track                      html  
    add_track                               html  
    current_track                           html  
    get_cell_meta_data                      html  
    gtrellis_layout                         html  
    gtrellis_show_index                     html  
** building package indices
** installing vignettes
** testing if installed package can be loaded from temporary location
** testing if installed package can be loaded from final location
** testing if installed package keeps a record of temporary installation path

install for x64

* installing *source* package 'gtrellis' ...
** testing if installed package can be loaded
* MD5 sums
packaged installation of 'gtrellis' as gtrellis_1.26.0.zip
* DONE (gtrellis)
* installing to library 'C:/Users/biocbuild/bbs-3.14-bioc/R/library'
package 'gtrellis' successfully unpacked and MD5 sums checked