Name | Last modified | Size | Description | |
---|---|---|---|---|
Parent Directory | - | |||
checksrc-out.txt | 14-Apr-2022 01:06 | 3.8K | ||
install-out.txt | 14-Apr-2022 01:06 | 3.3K | ||
buildbin-out.txt | 14-Apr-2022 01:06 | 2.7K | ||
buildsrc-out.txt | 14-Apr-2022 01:06 | 845 | ||
install-summary.dcf | 14-Apr-2022 01:06 | 640 | ||
buildbin-summary.dcf | 14-Apr-2022 01:06 | 539 | ||
checksrc-summary.dcf | 14-Apr-2022 01:06 | 462 | ||
buildsrc-summary.dcf | 14-Apr-2022 01:06 | 456 | ||