Back to Multiple platform build/check report for BioC 3.14
ABCDEF[G]HIJKLMNOPQRSTUVWXYZ

This page was generated on 2022-01-21 13:06:22 -0500 (Fri, 21 Jan 2022).

HostnameOSArch (*)R versionInstalled pkgs
nebbiolo2Linux (Ubuntu 20.04.4 LTS)x86_644.1.2 (2021-11-01) -- "Bird Hippie" 4329
tokay2Windows Server 2012 R2 Standardx644.1.2 (2021-11-01) -- "Bird Hippie" 4079
machv2macOS 10.14.6 Mojavex86_644.1.2 (2021-11-01) -- "Bird Hippie" 4140
Click on any hostname to see more info about the system (e.g. compilers)      (*) as reported by 'uname -p', except on Windows and Mac OS X

INSTALL results for genArise on tokay2


To the developers/maintainers of the genArise package:
- Please allow up to 24 hours (and sometimes 48 hours) for your latest push to git@git.bioconductor.org:packages/genArise.git to
reflect on this report. See How and When does the builder pull? When will my changes propagate? here for more information.
- Make sure to use the following settings in order to reproduce any error or warning you see on this page.

raw results

Package 714/2083HostnameOS / ArchINSTALLBUILDCHECKBUILD BIN
genArise 1.70.0  (landing page)
IFC Development Team
Snapshot Date: 2022-01-20 01:55:04 -0500 (Thu, 20 Jan 2022)
git_url: https://git.bioconductor.org/packages/genArise
git_branch: RELEASE_3_14
git_last_commit: c1ee2fa
git_last_commit_date: 2021-10-26 11:47:16 -0500 (Tue, 26 Oct 2021)
nebbiolo2Linux (Ubuntu 20.04.4 LTS) / x86_64  OK    OK    WARNINGS  UNNEEDED, same version is already published
tokay2Windows Server 2012 R2 Standard / x64  OK    OK    WARNINGS    OK  UNNEEDED, same version is already published
machv2macOS 10.14.6 Mojave / x86_64  OK    OK    WARNINGS    OK  UNNEEDED, same version is already published

Summary

Package: genArise
Version: 1.70.0
Command: C:\cygwin\bin\curl.exe -O http://155.52.207.166/BBS/3.14/bioc/src/contrib/genArise_1.70.0.tar.gz && rm -rf genArise.buildbin-libdir && mkdir genArise.buildbin-libdir && C:\Users\biocbuild\bbs-3.14-bioc\R\bin\R.exe CMD INSTALL --merge-multiarch --build --library=genArise.buildbin-libdir genArise_1.70.0.tar.gz && C:\Users\biocbuild\bbs-3.14-bioc\R\bin\R.exe CMD INSTALL genArise_1.70.0.zip && rm genArise_1.70.0.tar.gz genArise_1.70.0.zip
StartedAt: 2022-01-20 04:06:03 -0500 (Thu, 20 Jan 2022)
EndedAt: 2022-01-20 04:07:28 -0500 (Thu, 20 Jan 2022)
EllapsedTime: 85.0 seconds
RetCode: 0
Status:   OK  

Command output

##############################################################################
##############################################################################
###
### Running command:
###
###   C:\cygwin\bin\curl.exe -O http://155.52.207.166/BBS/3.14/bioc/src/contrib/genArise_1.70.0.tar.gz && rm -rf genArise.buildbin-libdir && mkdir genArise.buildbin-libdir && C:\Users\biocbuild\bbs-3.14-bioc\R\bin\R.exe CMD INSTALL --merge-multiarch --build --library=genArise.buildbin-libdir genArise_1.70.0.tar.gz && C:\Users\biocbuild\bbs-3.14-bioc\R\bin\R.exe CMD INSTALL genArise_1.70.0.zip && rm genArise_1.70.0.tar.gz genArise_1.70.0.zip
###
##############################################################################
##############################################################################


  % Total    % Received % Xferd  Average Speed   Time    Time     Time  Current
                                 Dload  Upload   Total   Spent    Left  Speed

  0     0    0     0    0     0      0      0 --:--:-- --:--:-- --:--:--     0
100  164k  100  164k    0     0   737k      0 --:--:-- --:--:-- --:--:--  739k

install for i386

* installing *source* package 'genArise' ...
** using staged installation
** R
** data
** byte-compile and prepare package for lazy loading
Note: possible error in 'pdf(paste(name, ".pdf", ': unused argument (horiz = FALSE) 
Note: possible error in 'pdf(paste(name, ".pdf", ': unused argument (horiz = FALSE) 
Note: possible error in 'pdf(paste(name, "OriginalCy3vsCy5.pdf", ': unused argument (horiz = F) 
Note: possible error in 'pdf(paste(name, "OriginalRvsI.pdf", ': unused argument (horiz = F) 
Note: possible error in 'pdf(paste(name, "OriginalMvsA.pdf", ': unused argument (horiz = F) 
Note: possible error in 'pdf(paste(name, "CorrectedCy3vsCy5.pdf", ': unused argument (horiz = F) 
Note: possible error in 'pdf(paste(name, "CorrectedRvsI.pdf", ': unused argument (horiz = F) 
Note: possible error in 'pdf(paste(name, "CorrectedMvsA.pdf", ': unused argument (horiz = F) 
Note: possible error in 'pdf(paste(name, "NormalCy3vsCy5.pdf", ': unused argument (horiz = F) 
Note: possible error in 'pdf(paste(name, "NormalRvsI.pdf", ': unused argument (horiz = F) 
Note: possible error in 'pdf(paste(name, "NormalMvsA.pdf", ': unused argument (horiz = F) 
Note: possible error in 'pdf(paste(name, "FilterCy3vsCy5.pdf", ': unused argument (horiz = F) 
Note: possible error in 'pdf(paste(name, "FilterRvsI.pdf", ': unused argument (horiz = F) 
Note: possible error in 'pdf(paste(name, "FilterMvsA.pdf", ': unused argument (horiz = F) 
Note: possible error in 'pdf(paste(name, "NoDuplicatesCy3vsCy5.pdf", ': unused argument (horiz = F) 
Note: possible error in 'pdf(paste(name, "NoDuplicatesRvsI.pdf", ': unused argument (horiz = F) 
Note: possible error in 'pdf(paste(name, "NoDuplicatesMvsA.pdf", ': unused argument (horiz = F) 
Note: possible error in 'pdf(paste(name, "OriginalCy3vsCy5.pdf", ': unused argument (horiz = F) 
Note: possible error in 'pdf(paste(name, "OriginalRvsI.pdf", ': unused argument (horiz = F) 
Note: possible error in 'pdf(paste(name, "OriginalMvsA.pdf", ': unused argument (horiz = F) 
Note: possible error in 'pdf(paste(name, "CorrectedCy3vsCy5.pdf", ': unused argument (horiz = F) 
Note: possible error in 'pdf(paste(name, "CorrectedRvsI.pdf", ': unused argument (horiz = F) 
Note: possible error in 'pdf(paste(name, "CorrectedMvsA.pdf", ': unused argument (horiz = F) 
Note: possible error in 'pdf(paste(name, "NormalCy3vsCy5.pdf", ': unused argument (horiz = F) 
Note: possible error in 'pdf(paste(name, "NormalRvsI.pdf", ': unused argument (horiz = F) 
Note: possible error in 'pdf(paste(name, "NormalMvsA.pdf", ': unused argument (horiz = F) 
Note: possible error in 'pdf(paste(name, "FilterCy3vsCy5.pdf", ': unused argument (horiz = F) 
Note: possible error in 'pdf(paste(name, "FilterRvsI.pdf", ': unused argument (horiz = F) 
Note: possible error in 'pdf(paste(name, "FilterMvsA.pdf", ': unused argument (horiz = F) 
Note: possible error in 'pdf(paste(name, "NoDuplicatesCy3vsCy5.pdf", ': unused argument (horiz = F) 
Note: possible error in 'pdf(paste(name, "NoDuplicatesRvsI.pdf", ': unused argument (horiz = F) 
Note: possible error in 'pdf(paste(name, "NoDuplicatesMvsA.pdf", ': unused argument (horiz = F) 
Note: possible error in 'pdf(name, horiz = F, ': unused argument (horiz = F) 
Note: possible error in 'pdf(paste(name, ".pdf", ': unused argument (horiz = FALSE) 
Note: possible error in 'pdf(paste(name, "R&G.pdf", ': unused argument (horiz = F) 
Note: possible error in 'pdf(paste(name, "BgCy5.pdf", ': unused argument (horiz = F) 
Note: possible error in 'pdf(paste(name, "BgCy3.pdf", ': unused argument (horiz = F) 
Note: possible error in 'pdf(paste(name, "Swap.pdf", ': unused argument (horiz = F) 
** help
*** installing help indices
  converting help for package 'genArise'
    finding HTML links ... done
    DataSet-class                           html  
    Simon                                   html  
    Spot-class                              html  
    WT.dataset                              html  
    Zscore                                  html  
    Zscore.plot                             html  
    Zscore.points                           html  
    a.arise                                 html  
    alter.unique                            html  
    analysis.window                         html  
    annotations                             html  
    back.gui                                html  
    bg.correct                              html  
    classes                                 html  
    create.project                          html  
    cys.plot                                html  
    filter.spot                             html  
    genArise                                html  
    genArise.init                           html  
    genMerge                                html  
    get.Zscore                              html  
    get.values                              html  
    global.norm                             html  
    graphic.choose                          html  
    grid.norm                               html  
    help                                    html  
    i.arise                                 html  
    imageLimma                              html  
    m.arise                                 html  
    ma.plot                                 html  
    make.swap                               html  
    meanUnique                              html  
    note                                    html  
    old.project                             html  
    post.analysis                           html  
    principal                               html  
    projects.select                         html  
    r.arise                                 html  
    read.dataset                            html  
    read.spot                               html  
    reset.history                           html  
    ri.plot                                 html  
    set.grid.properties                     html  
    set.history.project                     html  
    set.path.project                        html  
    set.project.properties                  html  
    single.norm                             html  
    spotUnique                              html  
    swap.select                             html  
    trim                                    html  
    write.dataSet                           html  
    write.spot                              html  
    write.zscore                            html  
** building package indices
** installing vignettes
** testing if installed package can be loaded from temporary location
** testing if installed package can be loaded from final location
** testing if installed package keeps a record of temporary installation path

install for x64

* installing *source* package 'genArise' ...
** testing if installed package can be loaded
* MD5 sums
packaged installation of 'genArise' as genArise_1.70.0.zip
* DONE (genArise)
* installing to library 'C:/Users/biocbuild/bbs-3.14-bioc/R/library'
package 'genArise' successfully unpacked and MD5 sums checked