Back to Multiple platform build/check report for BioC 3.14
ABCDEF[G]HIJKLMNOPQRSTUVWXYZ

This page was generated on 2022-01-14 13:06:26 -0500 (Fri, 14 Jan 2022).

HostnameOSArch (*)R versionInstalled pkgs
nebbiolo2Linux (Ubuntu 20.04.4 LTS)x86_644.1.2 (2021-11-01) -- "Bird Hippie" 4327
tokay2Windows Server 2012 R2 Standardx644.1.2 (2021-11-01) -- "Bird Hippie" 4076
machv2macOS 10.14.6 Mojavex86_644.1.2 (2021-11-01) -- "Bird Hippie" 4137
Click on any hostname to see more info about the system (e.g. compilers)      (*) as reported by 'uname -p', except on Windows and Mac OS X

BUILD BIN results for geNetClassifier on tokay2


To the developers/maintainers of the geNetClassifier package:
- Please allow up to 24 hours (and sometimes 48 hours) for your latest push to git@git.bioconductor.org:packages/geNetClassifier.git to
reflect on this report. See How and When does the builder pull? When will my changes propagate? here for more information.
- Make sure to use the following settings in order to reproduce any error or warning you see on this page.

raw results

Package 737/2083HostnameOS / ArchINSTALLBUILDCHECKBUILD BIN
geNetClassifier 1.34.0  (landing page)
Sara Aibar
Snapshot Date: 2022-01-13 01:55:04 -0500 (Thu, 13 Jan 2022)
git_url: https://git.bioconductor.org/packages/geNetClassifier
git_branch: RELEASE_3_14
git_last_commit: 2aec9d0
git_last_commit_date: 2021-10-26 12:07:41 -0500 (Tue, 26 Oct 2021)
nebbiolo2Linux (Ubuntu 20.04.4 LTS) / x86_64  OK    OK    OK  UNNEEDED, same version is already published
tokay2Windows Server 2012 R2 Standard / x64  OK    OK    OK    OK  UNNEEDED, same version is already published
machv2macOS 10.14.6 Mojave / x86_64  OK    OK    OK    OK  UNNEEDED, same version is already published

Summary

Package: geNetClassifier
Version: 1.34.0
Command: rm -rf geNetClassifier.buildbin-libdir && mkdir geNetClassifier.buildbin-libdir && C:\Users\biocbuild\bbs-3.14-bioc\R\bin\R.exe CMD INSTALL --merge-multiarch --build --library=geNetClassifier.buildbin-libdir geNetClassifier_1.34.0.tar.gz
StartedAt: 2022-01-14 05:45:50 -0500 (Fri, 14 Jan 2022)
EndedAt: 2022-01-14 05:46:38 -0500 (Fri, 14 Jan 2022)
EllapsedTime: 47.8 seconds
RetCode: 0
Status:   OK  
PackageFile: geNetClassifier_1.34.0.zip
PackageFileSize: 3.061 MiB

Command output

##############################################################################
##############################################################################
###
### Running command:
###
###   rm -rf geNetClassifier.buildbin-libdir && mkdir geNetClassifier.buildbin-libdir && C:\Users\biocbuild\bbs-3.14-bioc\R\bin\R.exe CMD INSTALL --merge-multiarch --build --library=geNetClassifier.buildbin-libdir geNetClassifier_1.34.0.tar.gz
###
##############################################################################
##############################################################################



install for i386

* installing *source* package 'geNetClassifier' ...
** using staged installation
** R
** data
** inst
** byte-compile and prepare package for lazy loading
** help
*** installing help indices
  converting help for package 'geNetClassifier'
    finding HTML links ... done
    GeNetClassifierReturn-class             html  
    GeneralizationError-class               html  
    GenesNetwork-class                      html  
    GenesRanking-class                      html  
    calculateGenesRanking                   html  
    externalValidation.probMatrix           html  
    externalValidation.stats                html  
    gClasses-methods                        html  
    geNetClassifier-package                 html  
    geNetClassifier                         html  
    finding level-2 HTML links ... done

    geneSymbols                             html  
    genesDetails-methods                    html  
    getEdges-methods                        html  
    getNodes-methods                        html  
    getNumEdges-methods                     html  
    getNumNodes-methods                     html  
    getRanking-methods                      html  
    getSubNetwork-methods                   html  
    getTopRanking-methods                   html  
    leukemiasClassifier                     html  
    network2txt                             html  
    numGenes-methods                        html  
    numSignificantGenes-methods             html  
    overview-methods                        html  
    plot.GeNetClassifierReturn              html  
    plot.GenesRanking                       html  
    plotAssignments                         html  
    plotDiscriminantPower                   html  
    plotExpressionProfiles                  html  
    plotNetwork                             html  
    queryGeNetClassifier                    html  
    querySummary                            html  
    setProperties-methods                   html  
** building package indices
** installing vignettes
** testing if installed package can be loaded from temporary location
** testing if installed package can be loaded from final location
** testing if installed package keeps a record of temporary installation path

install for x64

* installing *source* package 'geNetClassifier' ...
** testing if installed package can be loaded
* MD5 sums
packaged installation of 'geNetClassifier' as geNetClassifier_1.34.0.zip
* DONE (geNetClassifier)