Back to Multiple platform build/check report for BioC 3.14
ABCDE[F]GHIJKLMNOPQRSTUVWXYZ

This page was generated on 2022-01-21 13:06:19 -0500 (Fri, 21 Jan 2022).

HostnameOSArch (*)R versionInstalled pkgs
nebbiolo2Linux (Ubuntu 20.04.4 LTS)x86_644.1.2 (2021-11-01) -- "Bird Hippie" 4329
tokay2Windows Server 2012 R2 Standardx644.1.2 (2021-11-01) -- "Bird Hippie" 4079
machv2macOS 10.14.6 Mojavex86_644.1.2 (2021-11-01) -- "Bird Hippie" 4140
Click on any hostname to see more info about the system (e.g. compilers)      (*) as reported by 'uname -p', except on Windows and Mac OS X

INSTALL results for flowcatchR on tokay2


To the developers/maintainers of the flowcatchR package:
- Please allow up to 24 hours (and sometimes 48 hours) for your latest push to git@git.bioconductor.org:packages/flowcatchR.git to
reflect on this report. See How and When does the builder pull? When will my changes propagate? here for more information.
- Make sure to use the following settings in order to reproduce any error or warning you see on this page.

raw results

Package 652/2083HostnameOS / ArchINSTALLBUILDCHECKBUILD BIN
flowcatchR 1.28.0  (landing page)
Federico Marini
Snapshot Date: 2022-01-20 01:55:04 -0500 (Thu, 20 Jan 2022)
git_url: https://git.bioconductor.org/packages/flowcatchR
git_branch: RELEASE_3_14
git_last_commit: 4d658d4
git_last_commit_date: 2021-10-26 12:16:46 -0500 (Tue, 26 Oct 2021)
nebbiolo2Linux (Ubuntu 20.04.4 LTS) / x86_64  OK    OK    OK  UNNEEDED, same version is already published
tokay2Windows Server 2012 R2 Standard / x64  OK    OK    OK    OK  UNNEEDED, same version is already published
machv2macOS 10.14.6 Mojave / x86_64  OK    OK    OK    OK  UNNEEDED, same version is already published

Summary

Package: flowcatchR
Version: 1.28.0
Command: C:\cygwin\bin\curl.exe -O http://155.52.207.166/BBS/3.14/bioc/src/contrib/flowcatchR_1.28.0.tar.gz && rm -rf flowcatchR.buildbin-libdir && mkdir flowcatchR.buildbin-libdir && C:\Users\biocbuild\bbs-3.14-bioc\R\bin\R.exe CMD INSTALL --merge-multiarch --build --library=flowcatchR.buildbin-libdir flowcatchR_1.28.0.tar.gz && C:\Users\biocbuild\bbs-3.14-bioc\R\bin\R.exe CMD INSTALL flowcatchR_1.28.0.zip && rm flowcatchR_1.28.0.tar.gz flowcatchR_1.28.0.zip
StartedAt: 2022-01-20 05:55:32 -0500 (Thu, 20 Jan 2022)
EndedAt: 2022-01-20 05:57:40 -0500 (Thu, 20 Jan 2022)
EllapsedTime: 127.7 seconds
RetCode: 0
Status:   OK  

Command output

##############################################################################
##############################################################################
###
### Running command:
###
###   C:\cygwin\bin\curl.exe -O http://155.52.207.166/BBS/3.14/bioc/src/contrib/flowcatchR_1.28.0.tar.gz && rm -rf flowcatchR.buildbin-libdir && mkdir flowcatchR.buildbin-libdir && C:\Users\biocbuild\bbs-3.14-bioc\R\bin\R.exe CMD INSTALL --merge-multiarch --build --library=flowcatchR.buildbin-libdir flowcatchR_1.28.0.tar.gz && C:\Users\biocbuild\bbs-3.14-bioc\R\bin\R.exe CMD INSTALL flowcatchR_1.28.0.zip && rm flowcatchR_1.28.0.tar.gz flowcatchR_1.28.0.zip
###
##############################################################################
##############################################################################


  % Total    % Received % Xferd  Average Speed   Time    Time     Time  Current
                                 Dload  Upload   Total   Spent    Left  Speed

  0     0    0     0    0     0      0      0 --:--:-- --:--:-- --:--:--     0
 26 11.3M   26 3124k    0     0  3736k      0  0:00:03 --:--:--  0:00:03 3737k
 75 11.3M   75 8770k    0     0  4857k      0  0:00:02  0:00:01  0:00:01 4856k
100 11.3M  100 11.3M    0     0  5165k      0  0:00:02  0:00:02 --:--:-- 5168k

install for i386

* installing *source* package 'flowcatchR' ...
** using staged installation
** R
** data
*** moving datasets to lazyload DB
** inst
** byte-compile and prepare package for lazy loading
** help
*** installing help indices
  converting help for package 'flowcatchR'
    finding HTML links ... done
    Frames-class                            html  
    Frames                                  html  
    KinematicsFeatures-class                html  
    KinematicsFeaturesSet-class             html  
    LinkedParticleSet-class                 html  
    MesenteriumSubset                       html  
    ParticleSet-class                       html  
    TrajectorySet-class                     html  
    add.contours                            html  
    addParticles                            html  
    axesInfo                                html  
    candidate.platelets                     html  
    channel.Frames                          html  
    computeMSD                              html  
    crop.Frames                             html  
    finding level-2 HTML links ... done

    export.Frames                           html  
    export.particles                        html  
    extractKinematics.traj                  html  
    flowcatchR-pkg                          html  
    initialize.LinkedParticleSet            html  
    inspect.Frames                          html  
    kinematics                              html  
    length.Frames                           html  
    link.particles                          html  
    matchTrajToParticles                    html  
    normalizeFrames                         html  
    particles                               html  
    penaltyFunctionGenerator                html  
    plot.TrajectorySet                      html  
    plot2D.TrajectorySet                    html  
    preprocess.Frames                       html  
    read.Frames                             html  
    read.particles                          html  
    repmat                                  html  
    rotate.Frames                           html  
    select.Frames                           html  
    select.particles                        html  
    shinyFlow                               html  
    show-Frames-method                      html  
    show-KinematicsFeatures-method          html  
    show-KinematicsFeaturesSet-method       html  
    show-LinkedParticleSet-method           html  
    show-ParticleSet-method                 html  
    show-TrajectorySet-method               html  
    snap                                    html  
    toCartesianCoords                       html  
    toPolarCoords                           html  
    trajectories                            html  
** building package indices
** installing vignettes
** testing if installed package can be loaded from temporary location
** testing if installed package can be loaded from final location
** testing if installed package keeps a record of temporary installation path

install for x64

* installing *source* package 'flowcatchR' ...
** testing if installed package can be loaded
* MD5 sums
packaged installation of 'flowcatchR' as flowcatchR_1.28.0.zip
* DONE (flowcatchR)
* installing to library 'C:/Users/biocbuild/bbs-3.14-bioc/R/library'
package 'flowcatchR' successfully unpacked and MD5 sums checked