Back to Multiple platform build/check report for BioC 3.14
ABCDE[F]GHIJKLMNOPQRSTUVWXYZ

This page was generated on 2022-01-26 13:06:35 -0500 (Wed, 26 Jan 2022).

HostnameOSArch (*)R versionInstalled pkgs
nebbiolo2Linux (Ubuntu 20.04.4 LTS)x86_644.1.2 (2021-11-01) -- "Bird Hippie" 4329
tokay2Windows Server 2012 R2 Standardx644.1.2 (2021-11-01) -- "Bird Hippie" 4080
machv2macOS 10.14.6 Mojavex86_644.1.2 (2021-11-01) -- "Bird Hippie" 4141
Click on any hostname to see more info about the system (e.g. compilers)      (*) as reported by 'uname -p', except on Windows and Mac OS X

INSTALL results for flowMerge on tokay2


To the developers/maintainers of the flowMerge package:
- Please allow up to 24 hours (and sometimes 48 hours) for your latest push to git@git.bioconductor.org:packages/flowMerge.git to
reflect on this report. See How and When does the builder pull? When will my changes propagate? here for more information.
- Make sure to use the following settings in order to reproduce any error or warning you see on this page.

raw results

Package 666/2083HostnameOS / ArchINSTALLBUILDCHECKBUILD BIN
flowMerge 2.42.0  (landing page)
Greg Finak
Snapshot Date: 2022-01-25 01:55:07 -0500 (Tue, 25 Jan 2022)
git_url: https://git.bioconductor.org/packages/flowMerge
git_branch: RELEASE_3_14
git_last_commit: 9eaf3cf
git_last_commit_date: 2021-10-26 11:54:06 -0500 (Tue, 26 Oct 2021)
nebbiolo2Linux (Ubuntu 20.04.4 LTS) / x86_64  OK    OK    OK  UNNEEDED, same version is already published
tokay2Windows Server 2012 R2 Standard / x64  OK    OK    OK    OK  UNNEEDED, same version is already published
machv2macOS 10.14.6 Mojave / x86_64  OK    OK    OK    OK  UNNEEDED, same version is already published

Summary

Package: flowMerge
Version: 2.42.0
Command: C:\cygwin\bin\curl.exe -O http://155.52.207.166/BBS/3.14/bioc/src/contrib/flowMerge_2.42.0.tar.gz && rm -rf flowMerge.buildbin-libdir && mkdir flowMerge.buildbin-libdir && C:\Users\biocbuild\bbs-3.14-bioc\R\bin\R.exe CMD INSTALL --merge-multiarch --build --library=flowMerge.buildbin-libdir flowMerge_2.42.0.tar.gz && C:\Users\biocbuild\bbs-3.14-bioc\R\bin\R.exe CMD INSTALL flowMerge_2.42.0.zip && rm flowMerge_2.42.0.tar.gz flowMerge_2.42.0.zip
StartedAt: 2022-01-25 07:36:50 -0500 (Tue, 25 Jan 2022)
EndedAt: 2022-01-25 07:38:42 -0500 (Tue, 25 Jan 2022)
EllapsedTime: 112.3 seconds
RetCode: 0
Status:   OK  

Command output

##############################################################################
##############################################################################
###
### Running command:
###
###   C:\cygwin\bin\curl.exe -O http://155.52.207.166/BBS/3.14/bioc/src/contrib/flowMerge_2.42.0.tar.gz && rm -rf flowMerge.buildbin-libdir && mkdir flowMerge.buildbin-libdir && C:\Users\biocbuild\bbs-3.14-bioc\R\bin\R.exe CMD INSTALL --merge-multiarch --build --library=flowMerge.buildbin-libdir flowMerge_2.42.0.tar.gz && C:\Users\biocbuild\bbs-3.14-bioc\R\bin\R.exe CMD INSTALL flowMerge_2.42.0.zip && rm flowMerge_2.42.0.tar.gz flowMerge_2.42.0.zip
###
##############################################################################
##############################################################################


  % Total    % Received % Xferd  Average Speed   Time    Time     Time  Current
                                 Dload  Upload   Total   Spent    Left  Speed

  0     0    0     0    0     0      0      0 --:--:-- --:--:-- --:--:--     0
100  399k  100  399k    0     0  1194k      0 --:--:-- --:--:-- --:--:-- 1196k

install for i386

* installing *source* package 'flowMerge' ...
** using staged installation
** R
** data
** byte-compile and prepare package for lazy loading
** help
*** installing help indices
  converting help for package 'flowMerge'
    finding HTML links ... done
    NENT                                    html  
    checkForRemoteErrors                    html  
    fitPiecewiseLinreg-methods              html  
    fitPiecewiseLinreg                      html  
    flagOutliers-methods                    html  
    flagOutliers                            html  
    flowClust.res                           html  
    flowMerge-class                         html  
    finding level-2 HTML links ... done

    flowMerge-internal                      html  
    flowMerge-package                       html  
    flowObj-class                           html  
    flowObj                                 html  
    initPFlowMerge                          html  
    map                                     html  
    merge-methods                           html  
    merge                                   html  
    mergeClusters                           html  
    mergeClusters2                          html  
    pFlowClust                              html  
    pFlowMerge                              html  
    plot-methods                            html  
    ptree                                   html  
    show-methods                            html  
    split-methods                           html  
    summary-methods                         html  
    updateU                                 html  
** building package indices
** installing vignettes
** testing if installed package can be loaded from temporary location
** testing if installed package can be loaded from final location
** testing if installed package keeps a record of temporary installation path

install for x64

* installing *source* package 'flowMerge' ...
** testing if installed package can be loaded
* MD5 sums
packaged installation of 'flowMerge' as flowMerge_2.42.0.zip
* DONE (flowMerge)
* installing to library 'C:/Users/biocbuild/bbs-3.14-bioc/R/library'
package 'flowMerge' successfully unpacked and MD5 sums checked