Back to Multiple platform build/check report for BioC 3.14
ABCDE[F]GHIJKLMNOPQRSTUVWXYZ

This page was generated on 2022-01-21 13:06:20 -0500 (Fri, 21 Jan 2022).

HostnameOSArch (*)R versionInstalled pkgs
nebbiolo2Linux (Ubuntu 20.04.4 LTS)x86_644.1.2 (2021-11-01) -- "Bird Hippie" 4329
tokay2Windows Server 2012 R2 Standardx644.1.2 (2021-11-01) -- "Bird Hippie" 4079
machv2macOS 10.14.6 Mojavex86_644.1.2 (2021-11-01) -- "Bird Hippie" 4140
Click on any hostname to see more info about the system (e.g. compilers)      (*) as reported by 'uname -p', except on Windows and Mac OS X

INSTALL results for flowDensity on tokay2


To the developers/maintainers of the flowDensity package:
- Please allow up to 24 hours (and sometimes 48 hours) for your latest push to git@git.bioconductor.org:packages/flowDensity.git to
reflect on this report. See How and When does the builder pull? When will my changes propagate? here for more information.
- Make sure to use the following settings in order to reproduce any error or warning you see on this page.

raw results

Package 660/2083HostnameOS / ArchINSTALLBUILDCHECKBUILD BIN
flowDensity 1.28.0  (landing page)
Mehrnoush Malek
Snapshot Date: 2022-01-20 01:55:04 -0500 (Thu, 20 Jan 2022)
git_url: https://git.bioconductor.org/packages/flowDensity
git_branch: RELEASE_3_14
git_last_commit: 26bbabf
git_last_commit_date: 2021-10-26 12:14:21 -0500 (Tue, 26 Oct 2021)
nebbiolo2Linux (Ubuntu 20.04.4 LTS) / x86_64  OK    OK    WARNINGS  UNNEEDED, same version is already published
tokay2Windows Server 2012 R2 Standard / x64  OK    OK    WARNINGS    OK  UNNEEDED, same version is already published
machv2macOS 10.14.6 Mojave / x86_64  OK    OK    WARNINGS    OK  UNNEEDED, same version is already published

Summary

Package: flowDensity
Version: 1.28.0
Command: C:\cygwin\bin\curl.exe -O http://155.52.207.166/BBS/3.14/bioc/src/contrib/flowDensity_1.28.0.tar.gz && rm -rf flowDensity.buildbin-libdir && mkdir flowDensity.buildbin-libdir && C:\Users\biocbuild\bbs-3.14-bioc\R\bin\R.exe CMD INSTALL --merge-multiarch --build --library=flowDensity.buildbin-libdir flowDensity_1.28.0.tar.gz && C:\Users\biocbuild\bbs-3.14-bioc\R\bin\R.exe CMD INSTALL flowDensity_1.28.0.zip && rm flowDensity_1.28.0.tar.gz flowDensity_1.28.0.zip
StartedAt: 2022-01-20 06:21:17 -0500 (Thu, 20 Jan 2022)
EndedAt: 2022-01-20 06:24:53 -0500 (Thu, 20 Jan 2022)
EllapsedTime: 216.4 seconds
RetCode: 0
Status:   OK  

Command output

##############################################################################
##############################################################################
###
### Running command:
###
###   C:\cygwin\bin\curl.exe -O http://155.52.207.166/BBS/3.14/bioc/src/contrib/flowDensity_1.28.0.tar.gz && rm -rf flowDensity.buildbin-libdir && mkdir flowDensity.buildbin-libdir && C:\Users\biocbuild\bbs-3.14-bioc\R\bin\R.exe CMD INSTALL --merge-multiarch --build --library=flowDensity.buildbin-libdir flowDensity_1.28.0.tar.gz && C:\Users\biocbuild\bbs-3.14-bioc\R\bin\R.exe CMD INSTALL flowDensity_1.28.0.zip && rm flowDensity_1.28.0.tar.gz flowDensity_1.28.0.zip
###
##############################################################################
##############################################################################


  % Total    % Received % Xferd  Average Speed   Time    Time     Time  Current
                                 Dload  Upload   Total   Spent    Left  Speed

  0     0    0     0    0     0      0      0 --:--:-- --:--:-- --:--:--     0
  5 4396k    5  222k    0     0   834k      0  0:00:05 --:--:--  0:00:05  834k
 87 4396k   87 3828k    0     0  3067k      0  0:00:01  0:00:01 --:--:-- 3067k
100 4396k  100 4396k    0     0  3232k      0  0:00:01  0:00:01 --:--:-- 3232k

install for i386

* installing *source* package 'flowDensity' ...
** using staged installation
** R
** inst
** byte-compile and prepare package for lazy loading
Warning: replacing previous import 'flowCore::plot' by 'graphics::plot' when loading 'flowDensity'
** help
*** installing help indices
  converting help for package 'flowDensity'
    finding HTML links ... done
    CellPopulation-class                    html  
    deGate                                  html  
    flowDensity-methods                     html  
    flowDensity                             html  
REDIRECT:topic	 Previous alias or file overwritten by alias: C:/Users/biocbuild/bbs-3.14-bioc/meat/flowDensity.buildbin-libdir/00LOCK-flowDensity/00new/flowDensity/help/flowDensity.html
    getPeaks                                html  
    getflowFrame                            html  
    nmRemove                                html  
    notSubFrame                             html  
    plotDens                                html  
** building package indices
** installing vignettes
   'flowDensity.Rmd' 
** testing if installed package can be loaded from temporary location
Warning: replacing previous import 'flowCore::plot' by 'graphics::plot' when loading 'flowDensity'
** testing if installed package can be loaded from final location
Warning: replacing previous import 'flowCore::plot' by 'graphics::plot' when loading 'flowDensity'
** testing if installed package keeps a record of temporary installation path

install for x64

* installing *source* package 'flowDensity' ...
** testing if installed package can be loaded
Warning: replacing previous import 'flowCore::plot' by 'graphics::plot' when loading 'flowDensity'
* MD5 sums
packaged installation of 'flowDensity' as flowDensity_1.28.0.zip
* DONE (flowDensity)
* installing to library 'C:/Users/biocbuild/bbs-3.14-bioc/R/library'
package 'flowDensity' successfully unpacked and MD5 sums checked