Back to Multiple platform build/check report for BioC 3.14
ABC[D]EFGHIJKLMNOPQRSTUVWXYZ

This page was generated on 2022-01-21 13:07:40 -0500 (Fri, 21 Jan 2022).

HostnameOSArch (*)R versionInstalled pkgs
nebbiolo2Linux (Ubuntu 20.04.4 LTS)x86_644.1.2 (2021-11-01) -- "Bird Hippie" 4329
tokay2Windows Server 2012 R2 Standardx644.1.2 (2021-11-01) -- "Bird Hippie" 4079
machv2macOS 10.14.6 Mojavex86_644.1.2 (2021-11-01) -- "Bird Hippie" 4140
Click on any hostname to see more info about the system (e.g. compilers)      (*) as reported by 'uname -p', except on Windows and Mac OS X

BUILD BIN results for drugTargetInteractions on machv2


To the developers/maintainers of the drugTargetInteractions package:
- Please allow up to 24 hours (and sometimes 48 hours) for your latest push to git@git.bioconductor.org:packages/drugTargetInteractions.git to
reflect on this report. See How and When does the builder pull? When will my changes propagate? here for more information.
- Make sure to use the following settings in order to reproduce any error or warning you see on this page.

raw results

Package 544/2083HostnameOS / ArchINSTALLBUILDCHECKBUILD BIN
drugTargetInteractions 1.2.0  (landing page)
Thomas Girke
Snapshot Date: 2022-01-20 01:55:04 -0500 (Thu, 20 Jan 2022)
git_url: https://git.bioconductor.org/packages/drugTargetInteractions
git_branch: RELEASE_3_14
git_last_commit: 0c4904f
git_last_commit_date: 2021-10-26 13:08:09 -0500 (Tue, 26 Oct 2021)
nebbiolo2Linux (Ubuntu 20.04.4 LTS) / x86_64  OK    OK    OK  UNNEEDED, same version is already published
tokay2Windows Server 2012 R2 Standard / x64  OK    OK    OK    OK  NO, package depends on 'UniProt.ws' which is not available
machv2macOS 10.14.6 Mojave / x86_64  OK    OK    OK    OK  UNNEEDED, same version is already published

Summary

Package: drugTargetInteractions
Version: 1.2.0
Command: rm -rf drugTargetInteractions.buildbin-libdir && mkdir drugTargetInteractions.buildbin-libdir && /Users/biocbuild/BBS/utils/build-universal.sh drugTargetInteractions_1.2.0.tar.gz /Library/Frameworks/R.framework/Resources/bin/R drugTargetInteractions.buildbin-libdir
StartedAt: 2022-01-20 20:13:19 -0500 (Thu, 20 Jan 2022)
EndedAt: 2022-01-20 20:14:21 -0500 (Thu, 20 Jan 2022)
EllapsedTime: 62.3 seconds
RetCode: 0
Status:   OK  
PackageFile: drugTargetInteractions_1.2.0.tgz
PackageFileSize: 992.2 KiB

Command output

##############################################################################
##############################################################################
###
### Running command:
###
###   rm -rf drugTargetInteractions.buildbin-libdir && mkdir drugTargetInteractions.buildbin-libdir && /Users/biocbuild/BBS/utils/build-universal.sh drugTargetInteractions_1.2.0.tar.gz /Library/Frameworks/R.framework/Resources/bin/R drugTargetInteractions.buildbin-libdir
###
##############################################################################
##############################################################################


>>>>>>> 
>>>>>>> INSTALLATION WITH 'R CMD INSTALL --preclean --no-multiarch --library=drugTargetInteractions.buildbin-libdir drugTargetInteractions_1.2.0.tar.gz'
>>>>>>> 

* installing *source* package ‘drugTargetInteractions’ ...
** using staged installation
** R
** inst
** byte-compile and prepare package for lazy loading
** help
*** installing help indices
** building package indices
** installing vignettes
** testing if installed package can be loaded from temporary location
** testing if installed package can be loaded from final location
** testing if installed package keeps a record of temporary installation path
* DONE (drugTargetInteractions)