Name | Last modified | Size | Description | |
---|---|---|---|---|
Parent Directory | - | |||
install-out.txt | 14-Apr-2022 01:06 | 3.8K | ||
install-summary.dcf | 14-Apr-2022 01:06 | 653 | ||
buildsrc-out.txt | 14-Apr-2022 01:06 | 891 | ||
buildsrc-summary.dcf | 14-Apr-2022 01:06 | 465 | ||
checksrc-summary.dcf | 14-Apr-2022 01:06 | 472 | ||
checksrc-out.txt | 14-Apr-2022 01:06 | 6.3K | ||
buildbin-out.txt | 14-Apr-2022 01:06 | 3.1K | ||
buildbin-summary.dcf | 14-Apr-2022 01:06 | 548 | ||