Back to Multiple platform build/check report for BioC 3.14
AB[C]DEFGHIJKLMNOPQRSTUVWXYZ

This page was generated on 2022-01-17 13:06:05 -0500 (Mon, 17 Jan 2022).

HostnameOSArch (*)R versionInstalled pkgs
nebbiolo2Linux (Ubuntu 20.04.4 LTS)x86_644.1.2 (2021-11-01) -- "Bird Hippie" 4328
tokay2Windows Server 2012 R2 Standardx644.1.2 (2021-11-01) -- "Bird Hippie" 4077
machv2macOS 10.14.6 Mojavex86_644.1.2 (2021-11-01) -- "Bird Hippie" 4138
Click on any hostname to see more info about the system (e.g. compilers)      (*) as reported by 'uname -p', except on Windows and Mac OS X

INSTALL results for consensusOV on tokay2


To the developers/maintainers of the consensusOV package:
- Please allow up to 24 hours (and sometimes 48 hours) for your latest push to git@git.bioconductor.org:packages/consensusOV.git to
reflect on this report. See How and When does the builder pull? When will my changes propagate? here for more information.
- Make sure to use the following settings in order to reproduce any error or warning you see on this page.

raw results

Package 388/2083HostnameOS / ArchINSTALLBUILDCHECKBUILD BIN
consensusOV 1.16.0  (landing page)
Benjamin Haibe-Kains
Snapshot Date: 2022-01-16 01:55:05 -0500 (Sun, 16 Jan 2022)
git_url: https://git.bioconductor.org/packages/consensusOV
git_branch: RELEASE_3_14
git_last_commit: 23c1ec0
git_last_commit_date: 2021-10-26 12:36:29 -0500 (Tue, 26 Oct 2021)
nebbiolo2Linux (Ubuntu 20.04.4 LTS) / x86_64  OK    OK    OK  UNNEEDED, same version is already published
tokay2Windows Server 2012 R2 Standard / x64  OK    OK    OK    OK  UNNEEDED, same version is already published
machv2macOS 10.14.6 Mojave / x86_64  OK    OK    OK    OK  UNNEEDED, same version is already published

Summary

Package: consensusOV
Version: 1.16.0
Command: C:\cygwin\bin\curl.exe -O http://155.52.207.166/BBS/3.14/bioc/src/contrib/consensusOV_1.16.0.tar.gz && rm -rf consensusOV.buildbin-libdir && mkdir consensusOV.buildbin-libdir && C:\Users\biocbuild\bbs-3.14-bioc\R\bin\R.exe CMD INSTALL --merge-multiarch --build --library=consensusOV.buildbin-libdir consensusOV_1.16.0.tar.gz && C:\Users\biocbuild\bbs-3.14-bioc\R\bin\R.exe CMD INSTALL consensusOV_1.16.0.zip && rm consensusOV_1.16.0.tar.gz consensusOV_1.16.0.zip
StartedAt: 2022-01-16 07:57:50 -0500 (Sun, 16 Jan 2022)
EndedAt: 2022-01-16 07:59:17 -0500 (Sun, 16 Jan 2022)
EllapsedTime: 86.6 seconds
RetCode: 0
Status:   OK  

Command output

##############################################################################
##############################################################################
###
### Running command:
###
###   C:\cygwin\bin\curl.exe -O http://155.52.207.166/BBS/3.14/bioc/src/contrib/consensusOV_1.16.0.tar.gz && rm -rf consensusOV.buildbin-libdir && mkdir consensusOV.buildbin-libdir && C:\Users\biocbuild\bbs-3.14-bioc\R\bin\R.exe CMD INSTALL --merge-multiarch --build --library=consensusOV.buildbin-libdir consensusOV_1.16.0.tar.gz && C:\Users\biocbuild\bbs-3.14-bioc\R\bin\R.exe CMD INSTALL consensusOV_1.16.0.zip && rm consensusOV_1.16.0.tar.gz consensusOV_1.16.0.zip
###
##############################################################################
##############################################################################


  % Total    % Received % Xferd  Average Speed   Time    Time     Time  Current
                                 Dload  Upload   Total   Spent    Left  Speed

  0     0    0     0    0     0      0      0 --:--:-- --:--:-- --:--:--     0
 92 2989k   92 2761k    0     0  5412k      0 --:--:-- --:--:-- --:--:-- 5415k
100 2989k  100 2989k    0     0  5556k      0 --:--:-- --:--:-- --:--:-- 5557k

install for i386

* installing *source* package 'consensusOV' ...
** using staged installation
** R
** data
*** moving datasets to lazyload DB
** inst
** byte-compile and prepare package for lazy loading
** help
*** installing help indices
  converting help for package 'consensusOV'
    finding HTML links ... done
    GSE14764.eset                           html  
    dataset.merging                         html  
    get.bentink.subtypes                    html  
    get.consensus.subtypes                  html  
    get.hao.subtypes                        html  
    get.helland.subtypes                    html  
    get.konecny.subtypes                    html  
    get.subtypes                            html  
    get.verhaak.subtypes                    html  
** building package indices
** installing vignettes
** testing if installed package can be loaded from temporary location
** testing if installed package can be loaded from final location
** testing if installed package keeps a record of temporary installation path

install for x64

* installing *source* package 'consensusOV' ...
** testing if installed package can be loaded
* MD5 sums
packaged installation of 'consensusOV' as consensusOV_1.16.0.zip
* DONE (consensusOV)
* installing to library 'C:/Users/biocbuild/bbs-3.14-bioc/R/library'
package 'consensusOV' successfully unpacked and MD5 sums checked