Name | Last modified | Size | Description | |
---|---|---|---|---|
Parent Directory | - | |||
install-summary.dcf | 14-Apr-2022 01:06 | 685 | ||
install-out.txt | 14-Apr-2022 01:06 | 4.9K | ||
checksrc-summary.dcf | 14-Apr-2022 01:06 | 486 | ||
checksrc-out.txt | 14-Apr-2022 01:06 | 9.2K | ||
buildsrc-summary.dcf | 14-Apr-2022 01:06 | 479 | ||
buildsrc-out.txt | 14-Apr-2022 01:06 | 870 | ||
buildbin-summary.dcf | 14-Apr-2022 01:06 | 569 | ||
buildbin-out.txt | 14-Apr-2022 01:06 | 4.1K | ||