Back to Multiple platform build/check report for BioC 3.14
A[B]CDEFGHIJKLMNOPQRSTUVWXYZ

This page was generated on 2022-01-17 13:05:59 -0500 (Mon, 17 Jan 2022).

HostnameOSArch (*)R versionInstalled pkgs
nebbiolo2Linux (Ubuntu 20.04.4 LTS)x86_644.1.2 (2021-11-01) -- "Bird Hippie" 4328
tokay2Windows Server 2012 R2 Standardx644.1.2 (2021-11-01) -- "Bird Hippie" 4077
machv2macOS 10.14.6 Mojavex86_644.1.2 (2021-11-01) -- "Bird Hippie" 4138
Click on any hostname to see more info about the system (e.g. compilers)      (*) as reported by 'uname -p', except on Windows and Mac OS X

BUILD BIN results for bluster on tokay2


To the developers/maintainers of the bluster package:
- Please allow up to 24 hours (and sometimes 48 hours) for your latest push to git@git.bioconductor.org:packages/bluster.git to
reflect on this report. See How and When does the builder pull? When will my changes propagate? here for more information.
- Make sure to use the following settings in order to reproduce any error or warning you see on this page.

raw results

Package 205/2083HostnameOS / ArchINSTALLBUILDCHECKBUILD BIN
bluster 1.4.0  (landing page)
Aaron Lun
Snapshot Date: 2022-01-16 01:55:05 -0500 (Sun, 16 Jan 2022)
git_url: https://git.bioconductor.org/packages/bluster
git_branch: RELEASE_3_14
git_last_commit: 6f4b821
git_last_commit_date: 2021-10-26 13:01:06 -0500 (Tue, 26 Oct 2021)
nebbiolo2Linux (Ubuntu 20.04.4 LTS) / x86_64  OK    OK    OK  UNNEEDED, same version is already published
tokay2Windows Server 2012 R2 Standard / x64  OK    OK    OK    OK  UNNEEDED, same version is already published
machv2macOS 10.14.6 Mojave / x86_64  OK    OK    OK    OK  UNNEEDED, same version is already published

Summary

Package: bluster
Version: 1.4.0
Command: rm -rf bluster.buildbin-libdir && mkdir bluster.buildbin-libdir && C:\Users\biocbuild\bbs-3.14-bioc\R\bin\R.exe CMD INSTALL --merge-multiarch --build --library=bluster.buildbin-libdir bluster_1.4.0.tar.gz
StartedAt: 2022-01-17 06:38:35 -0500 (Mon, 17 Jan 2022)
EndedAt: 2022-01-17 06:39:36 -0500 (Mon, 17 Jan 2022)
EllapsedTime: 61.7 seconds
RetCode: 0
Status:   OK  
PackageFile: bluster_1.4.0.zip
PackageFileSize: 2.708 MiB

Command output

##############################################################################
##############################################################################
###
### Running command:
###
###   rm -rf bluster.buildbin-libdir && mkdir bluster.buildbin-libdir && C:\Users\biocbuild\bbs-3.14-bioc\R\bin\R.exe CMD INSTALL --merge-multiarch --build --library=bluster.buildbin-libdir bluster_1.4.0.tar.gz
###
##############################################################################
##############################################################################



install for i386

* installing *source* package 'bluster' ...
** using staged installation
** libs
"C:/rtools40/mingw32/bin/"g++  -std=gnu++11 -I"C:/Users/BIOCBU~1/BBS-3~1.14-/R/include" -DNDEBUG  -I'C:/Users/biocbuild/bbs-3.14-bioc/R/library/Rcpp/include'   -I"C:/extsoft/include"     -O2 -Wall  -mfpmath=sse -msse2 -mstackrealign  -c RcppExports.cpp -o RcppExports.o
"C:/rtools40/mingw32/bin/"g++  -std=gnu++11 -I"C:/Users/BIOCBU~1/BBS-3~1.14-/R/include" -DNDEBUG  -I'C:/Users/biocbuild/bbs-3.14-bioc/R/library/Rcpp/include'   -I"C:/extsoft/include"     -O2 -Wall  -mfpmath=sse -msse2 -mstackrealign  -c build_snn.cpp -o build_snn.o
"C:/rtools40/mingw32/bin/"g++  -std=gnu++11 -I"C:/Users/BIOCBU~1/BBS-3~1.14-/R/include" -DNDEBUG  -I'C:/Users/biocbuild/bbs-3.14-bioc/R/library/Rcpp/include'   -I"C:/extsoft/include"     -O2 -Wall  -mfpmath=sse -msse2 -mstackrealign  -c sum_neighbor_weights.cpp -o sum_neighbor_weights.o
C:/rtools40/mingw32/bin/g++ -shared -s -static-libgcc -o bluster.dll tmp.def RcppExports.o build_snn.o sum_neighbor_weights.o -LC:/extsoft/lib/i386 -LC:/extsoft/lib -LC:/Users/BIOCBU~1/BBS-3~1.14-/R/bin/i386 -lR
installing to C:/Users/biocbuild/bbs-3.14-bioc/meat/bluster.buildbin-libdir/00LOCK-bluster/00new/bluster/libs/i386
** R
** inst
** byte-compile and prepare package for lazy loading
** help
*** installing help indices
  converting help for package 'bluster'
    finding HTML links ... done
    AffinityParam-class                     html  
    AgnesParam-class                        html  
    BlusterParam-class                      html  
    ClaraParam-class                        html  
    DbscanParam-class                       html  
    finding level-2 HTML links ... done

    DianaParam-class                        html  
    FixedNumberParam-class                  html  
    HclustParam-class                       html  
    HierarchicalParam-class                 html  
    KmeansParam-class                       html  
    MbkmeansParam-class                     html  
    NNGraphParam-class                      html  
    PamParam-class                          html  
    SomParam-class                          html  
    TwoStepParam-class                      html  
    approxSilhouette                        html  
    bluster-package                         html  
    bootstrapStability                      html  
    clusterRMSD                             html  
    clusterRows                             html  
    clusterSweep                            html  
    compareClusterings                      html  
    defaultArguments                        html  
    linkClusters                            html  
    makeSNNGraph                            html  
    mergeCommunities                        html  
    neighborPurity                          html  
    nestedClusters                          html  
    pairwiseModularity                      html  
    pairwiseRand                            html  
** building package indices
** installing vignettes
** testing if installed package can be loaded from temporary location
** testing if installed package can be loaded from final location
** testing if installed package keeps a record of temporary installation path

install for x64

* installing *source* package 'bluster' ...
** libs
"C:/rtools40/mingw64/bin/"g++  -std=gnu++11 -I"C:/Users/BIOCBU~1/BBS-3~1.14-/R/include" -DNDEBUG  -I'C:/Users/biocbuild/bbs-3.14-bioc/R/library/Rcpp/include'   -I"C:/extsoft/include"     -O2 -Wall  -mfpmath=sse -msse2 -mstackrealign  -c RcppExports.cpp -o RcppExports.o
"C:/rtools40/mingw64/bin/"g++  -std=gnu++11 -I"C:/Users/BIOCBU~1/BBS-3~1.14-/R/include" -DNDEBUG  -I'C:/Users/biocbuild/bbs-3.14-bioc/R/library/Rcpp/include'   -I"C:/extsoft/include"     -O2 -Wall  -mfpmath=sse -msse2 -mstackrealign  -c build_snn.cpp -o build_snn.o
"C:/rtools40/mingw64/bin/"g++  -std=gnu++11 -I"C:/Users/BIOCBU~1/BBS-3~1.14-/R/include" -DNDEBUG  -I'C:/Users/biocbuild/bbs-3.14-bioc/R/library/Rcpp/include'   -I"C:/extsoft/include"     -O2 -Wall  -mfpmath=sse -msse2 -mstackrealign  -c sum_neighbor_weights.cpp -o sum_neighbor_weights.o
C:/rtools40/mingw64/bin/g++ -shared -s -static-libgcc -o bluster.dll tmp.def RcppExports.o build_snn.o sum_neighbor_weights.o -LC:/extsoft/lib/x64 -LC:/extsoft/lib -LC:/Users/BIOCBU~1/BBS-3~1.14-/R/bin/x64 -lR
installing to C:/Users/biocbuild/bbs-3.14-bioc/meat/bluster.buildbin-libdir/bluster/libs/x64
** testing if installed package can be loaded
* MD5 sums
packaged installation of 'bluster' as bluster_1.4.0.zip
* DONE (bluster)