Name | Last modified | Size | Description | |
---|---|---|---|---|
Parent Directory | - | |||
buildbin-out.txt | 14-Apr-2022 01:06 | 2.4K | ||
buildbin-summary.dcf | 14-Apr-2022 01:06 | 539 | ||
buildsrc-out.txt | 14-Apr-2022 01:06 | 845 | ||
buildsrc-summary.dcf | 14-Apr-2022 01:06 | 459 | ||
checksrc-out.txt | 14-Apr-2022 01:06 | 3.8K | ||
checksrc-summary.dcf | 14-Apr-2022 01:06 | 462 | ||
install-out.txt | 14-Apr-2022 01:06 | 3.1K | ||
install-summary.dcf | 14-Apr-2022 01:06 | 640 | ||