Back to Multiple platform build/check report for BioC 3.14
A[B]CDEFGHIJKLMNOPQRSTUVWXYZ

This page was generated on 2022-01-14 13:07:30 -0500 (Fri, 14 Jan 2022).

HostnameOSArch (*)R versionInstalled pkgs
nebbiolo2Linux (Ubuntu 20.04.4 LTS)x86_644.1.2 (2021-11-01) -- "Bird Hippie" 4327
tokay2Windows Server 2012 R2 Standardx644.1.2 (2021-11-01) -- "Bird Hippie" 4076
machv2macOS 10.14.6 Mojavex86_644.1.2 (2021-11-01) -- "Bird Hippie" 4137
Click on any hostname to see more info about the system (e.g. compilers)      (*) as reported by 'uname -p', except on Windows and Mac OS X

BUILD BIN results for biodbLipidmaps on machv2


To the developers/maintainers of the biodbLipidmaps package:
- Please allow up to 24 hours (and sometimes 48 hours) for your latest push to git@git.bioconductor.org:packages/biodbLipidmaps.git to
reflect on this report. See How and When does the builder pull? When will my changes propagate? here for more information.
- Make sure to use the following settings in order to reproduce any error or warning you see on this page.

raw results

Package 179/2083HostnameOS / ArchINSTALLBUILDCHECKBUILD BIN
biodbLipidmaps 1.0.1  (landing page)
Pierrick Roger
Snapshot Date: 2022-01-13 01:55:04 -0500 (Thu, 13 Jan 2022)
git_url: https://git.bioconductor.org/packages/biodbLipidmaps
git_branch: RELEASE_3_14
git_last_commit: bda9e29
git_last_commit_date: 2021-10-27 16:13:11 -0500 (Wed, 27 Oct 2021)
nebbiolo2Linux (Ubuntu 20.04.4 LTS) / x86_64  OK    OK    OK  UNNEEDED, same version is already published
tokay2Windows Server 2012 R2 Standard / x64  OK    OK    OK    OK  UNNEEDED, same version is already published
machv2macOS 10.14.6 Mojave / x86_64  OK    OK    OK    OK  UNNEEDED, same version is already published

Summary

Package: biodbLipidmaps
Version: 1.0.1
Command: rm -rf biodbLipidmaps.buildbin-libdir && mkdir biodbLipidmaps.buildbin-libdir && /Users/biocbuild/BBS/utils/build-universal.sh biodbLipidmaps_1.0.1.tar.gz /Library/Frameworks/R.framework/Resources/bin/R biodbLipidmaps.buildbin-libdir
StartedAt: 2022-01-13 19:55:38 -0500 (Thu, 13 Jan 2022)
EndedAt: 2022-01-13 19:55:52 -0500 (Thu, 13 Jan 2022)
EllapsedTime: 13.7 seconds
RetCode: 0
Status:   OK  
PackageFile: biodbLipidmaps_1.0.1.tgz
PackageFileSize: 377.6 KiB

Command output

##############################################################################
##############################################################################
###
### Running command:
###
###   rm -rf biodbLipidmaps.buildbin-libdir && mkdir biodbLipidmaps.buildbin-libdir && /Users/biocbuild/BBS/utils/build-universal.sh biodbLipidmaps_1.0.1.tar.gz /Library/Frameworks/R.framework/Resources/bin/R biodbLipidmaps.buildbin-libdir
###
##############################################################################
##############################################################################


>>>>>>> 
>>>>>>> INSTALLATION WITH 'R CMD INSTALL --preclean --no-multiarch --library=biodbLipidmaps.buildbin-libdir biodbLipidmaps_1.0.1.tar.gz'
>>>>>>> 

* installing *source* package ‘biodbLipidmaps’ ...
** using staged installation
** R
** inst
** byte-compile and prepare package for lazy loading
** help
*** installing help indices
** building package indices
** installing vignettes
** testing if installed package can be loaded from temporary location
** testing if installed package can be loaded from final location
** testing if installed package keeps a record of temporary installation path
* DONE (biodbLipidmaps)