Back to Multiple platform build/check report for BioC 3.14
A[B]CDEFGHIJKLMNOPQRSTUVWXYZ

This page was generated on 2022-01-21 13:05:59 -0500 (Fri, 21 Jan 2022).

HostnameOSArch (*)R versionInstalled pkgs
nebbiolo2Linux (Ubuntu 20.04.4 LTS)x86_644.1.2 (2021-11-01) -- "Bird Hippie" 4329
tokay2Windows Server 2012 R2 Standardx644.1.2 (2021-11-01) -- "Bird Hippie" 4079
machv2macOS 10.14.6 Mojavex86_644.1.2 (2021-11-01) -- "Bird Hippie" 4140
Click on any hostname to see more info about the system (e.g. compilers)      (*) as reported by 'uname -p', except on Windows and Mac OS X

CHECK results for baySeq on tokay2


To the developers/maintainers of the baySeq package:
- Please allow up to 24 hours (and sometimes 48 hours) for your latest push to git@git.bioconductor.org:packages/baySeq.git to
reflect on this report. See How and When does the builder pull? When will my changes propagate? here for more information.
- Make sure to use the following settings in order to reproduce any error or warning you see on this page.

raw results

Package 127/2083HostnameOS / ArchINSTALLBUILDCHECKBUILD BIN
baySeq 2.28.0  (landing page)
Thomas J. Hardcastle
Snapshot Date: 2022-01-20 01:55:04 -0500 (Thu, 20 Jan 2022)
git_url: https://git.bioconductor.org/packages/baySeq
git_branch: RELEASE_3_14
git_last_commit: 6793f6e
git_last_commit_date: 2021-10-26 11:54:46 -0500 (Tue, 26 Oct 2021)
nebbiolo2Linux (Ubuntu 20.04.4 LTS) / x86_64  OK    OK    OK  UNNEEDED, same version is already published
tokay2Windows Server 2012 R2 Standard / x64  OK    OK    OK    OK  UNNEEDED, same version is already published
machv2macOS 10.14.6 Mojave / x86_64  OK    OK    OK    OK  UNNEEDED, same version is already published

Summary

Package: baySeq
Version: 2.28.0
Command: C:\Users\biocbuild\bbs-3.14-bioc\R\bin\R.exe CMD check --force-multiarch --install=check:baySeq.install-out.txt --library=C:\Users\biocbuild\bbs-3.14-bioc\R\library --no-vignettes --timings baySeq_2.28.0.tar.gz
StartedAt: 2022-01-20 16:14:22 -0500 (Thu, 20 Jan 2022)
EndedAt: 2022-01-20 16:19:22 -0500 (Thu, 20 Jan 2022)
EllapsedTime: 300.1 seconds
RetCode: 0
Status:   OK  
CheckDir: baySeq.Rcheck
Warnings: 0

Command output

##############################################################################
##############################################################################
###
### Running command:
###
###   C:\Users\biocbuild\bbs-3.14-bioc\R\bin\R.exe CMD check --force-multiarch --install=check:baySeq.install-out.txt --library=C:\Users\biocbuild\bbs-3.14-bioc\R\library --no-vignettes --timings baySeq_2.28.0.tar.gz
###
##############################################################################
##############################################################################


* using log directory 'C:/Users/biocbuild/bbs-3.14-bioc/meat/baySeq.Rcheck'
* using R version 4.1.2 (2021-11-01)
* using platform: x86_64-w64-mingw32 (64-bit)
* using session charset: ISO8859-1
* using option '--no-vignettes'
* checking for file 'baySeq/DESCRIPTION' ... OK
* checking extension type ... Package
* this is package 'baySeq' version '2.28.0'
* checking package namespace information ... OK
* checking package dependencies ... OK
* checking if this is a source package ... OK
* checking if there is a namespace ... OK
* checking for hidden files and directories ... OK
* checking for portable file names ... OK
* checking whether package 'baySeq' can be installed ... OK
* checking installed package size ... OK
* checking package directory ... OK
* checking 'build' directory ... OK
* checking DESCRIPTION meta-information ... OK
* checking top-level files ... OK
* checking for left-over files ... OK
* checking index information ... OK
* checking package subdirectories ... OK
* checking R files for non-ASCII characters ... OK
* checking R files for syntax errors ... OK
* loading checks for arch 'i386'
** checking whether the package can be loaded ... OK
** checking whether the package can be loaded with stated dependencies ... OK
** checking whether the package can be unloaded cleanly ... OK
** checking whether the namespace can be loaded with stated dependencies ... OK
** checking whether the namespace can be unloaded cleanly ... OK
* loading checks for arch 'x64'
** checking whether the package can be loaded ... OK
** checking whether the package can be loaded with stated dependencies ... OK
** checking whether the package can be unloaded cleanly ... OK
** checking whether the namespace can be loaded with stated dependencies ... OK
** checking whether the namespace can be unloaded cleanly ... OK
* checking dependencies in R code ... OK
* checking S3 generic/method consistency ... OK
* checking replacement functions ... OK
* checking foreign function calls ... OK
* checking R code for possible problems ... OK
* checking Rd files ... OK
* checking Rd metadata ... OK
* checking Rd cross-references ... OK
* checking for missing documentation entries ... OK
* checking for code/documentation mismatches ... OK
* checking Rd \usage sections ... OK
* checking Rd contents ... OK
* checking for unstated dependencies in examples ... OK
* checking contents of 'data' directory ... OK
* checking data for non-ASCII characters ... OK
* checking data for ASCII and uncompressed saves ... OK
* checking files in 'vignettes' ... OK
* checking examples ...
** running examples for arch 'i386' ... OK
Examples with CPU (user + system) or elapsed time > 5s
                user system elapsed
baySeq-package 37.50   0.09   37.60
getPriors      26.42   0.00   26.42
getLikelihoods 12.31   0.00   12.32
** running examples for arch 'x64' ... OK
Examples with CPU (user + system) or elapsed time > 5s
                user system elapsed
baySeq-package 37.30   0.02   37.32
getPriors      26.35   0.00   26.69
getLikelihoods 12.10   0.00   12.10
* checking for unstated dependencies in vignettes ... OK
* checking package vignettes in 'inst/doc' ... OK
* checking running R code from vignettes ... SKIPPED
* checking re-building of vignette outputs ... SKIPPED
* checking PDF version of manual ... OK
* DONE

Status: OK


Installation output

baySeq.Rcheck/00install.out

##############################################################################
##############################################################################
###
### Running command:
###
###   C:\cygwin\bin\curl.exe -O http://155.52.207.166/BBS/3.14/bioc/src/contrib/baySeq_2.28.0.tar.gz && rm -rf baySeq.buildbin-libdir && mkdir baySeq.buildbin-libdir && C:\Users\biocbuild\bbs-3.14-bioc\R\bin\R.exe CMD INSTALL --merge-multiarch --build --library=baySeq.buildbin-libdir baySeq_2.28.0.tar.gz && C:\Users\biocbuild\bbs-3.14-bioc\R\bin\R.exe CMD INSTALL baySeq_2.28.0.zip && rm baySeq_2.28.0.tar.gz baySeq_2.28.0.zip
###
##############################################################################
##############################################################################


  % Total    % Received % Xferd  Average Speed   Time    Time     Time  Current
                                 Dload  Upload   Total   Spent    Left  Speed

  0     0    0     0    0     0      0      0 --:--:-- --:--:-- --:--:--     0
100  277k  100  277k    0     0  1065k      0 --:--:-- --:--:-- --:--:-- 1069k

install for i386

* installing *source* package 'baySeq' ...
** using staged installation
** R
** data
** byte-compile and prepare package for lazy loading
** help
*** installing help indices
  converting help for package 'baySeq'
    finding HTML links ... done
    CDPost                                  html  
    CDPriors                                html  
    allModels                               html  
    baySeq-classes                          html  
    baySeq-package                          html  
    bimodalSep                              html  
    densityFunction                         html  
    densityFunctions                        html  
    getLibsizes                             html  
    getLikelihoods                          html  
    getPosteriors                           html  
    getPriors                               html  
    getTPs                                  html  
    makeOrderings                           html  
    marginaliseEqual                        html  
    marginalisePairwise                     html  
    methObservables                         html  
    mobAnnotation                           html  
    mobData                                 html  
    pairData                                html  
    plotMA.CD                               html  
    plotNullPrior                           html  
    plotPosteriors                          html  
    plotPriors                              html  
    selectTop                               html  
    simData                                 html  
    summarisePosteriors                     html  
    topCounts                               html  
    zimData                                 html  
** building package indices
** installing vignettes
** testing if installed package can be loaded from temporary location
** testing if installed package can be loaded from final location
** testing if installed package keeps a record of temporary installation path

install for x64

* installing *source* package 'baySeq' ...
** testing if installed package can be loaded
* MD5 sums
packaged installation of 'baySeq' as baySeq_2.28.0.zip
* DONE (baySeq)
* installing to library 'C:/Users/biocbuild/bbs-3.14-bioc/R/library'
package 'baySeq' successfully unpacked and MD5 sums checked

Tests output


Example timings

baySeq.Rcheck/examples_i386/baySeq-Ex.timings

nameusersystemelapsed
allModels0.300.000.29
baySeq-classes0.110.000.11
baySeq-package37.50 0.0937.60
bimodalSep000
densityFunction000
getLibsizes0.020.000.01
getLikelihoods12.31 0.0012.32
getPosteriors000
getPriors26.42 0.0026.42
getTPs0.000.010.01
makeOrderings0.050.000.05
marginaliseEqual0.280.000.28
marginalisePairwise0.290.000.30
plotMA.CD0.040.000.03
plotPosteriors0.060.000.06
plotPriors0.050.000.05
selectTop0.010.000.01
summarisePosteriors000
topCounts0.030.000.04

baySeq.Rcheck/examples_x64/baySeq-Ex.timings

nameusersystemelapsed
allModels0.370.010.39
baySeq-classes0.130.000.13
baySeq-package37.30 0.0237.32
bimodalSep000
densityFunction000
getLibsizes0.010.000.01
getLikelihoods12.1 0.012.1
getPosteriors0.010.000.01
getPriors26.35 0.0026.69
getTPs000
makeOrderings0.050.020.06
marginaliseEqual0.520.000.51
marginalisePairwise0.370.000.38
plotMA.CD0.030.010.05
plotPosteriors0.050.020.06
plotPriors0.030.000.03
selectTop0.020.010.03
summarisePosteriors000
topCounts0.030.000.03