Back to Multiple platform build/check report for BioC 3.14
[A]BCDEFGHIJKLMNOPQRSTUVWXYZ

This page was generated on 2022-01-26 13:06:10 -0500 (Wed, 26 Jan 2022).

HostnameOSArch (*)R versionInstalled pkgs
nebbiolo2Linux (Ubuntu 20.04.4 LTS)x86_644.1.2 (2021-11-01) -- "Bird Hippie" 4329
tokay2Windows Server 2012 R2 Standardx644.1.2 (2021-11-01) -- "Bird Hippie" 4080
machv2macOS 10.14.6 Mojavex86_644.1.2 (2021-11-01) -- "Bird Hippie" 4141
Click on any hostname to see more info about the system (e.g. compilers)      (*) as reported by 'uname -p', except on Windows and Mac OS X

CHECK results for alevinQC on tokay2


To the developers/maintainers of the alevinQC package:
- Please allow up to 24 hours (and sometimes 48 hours) for your latest push to git@git.bioconductor.org:packages/alevinQC.git to
reflect on this report. See How and When does the builder pull? When will my changes propagate? here for more information.
- Make sure to use the following settings in order to reproduce any error or warning you see on this page.

raw results

Package 41/2083HostnameOS / ArchINSTALLBUILDCHECKBUILD BIN
alevinQC 1.10.0  (landing page)
Charlotte Soneson
Snapshot Date: 2022-01-25 01:55:07 -0500 (Tue, 25 Jan 2022)
git_url: https://git.bioconductor.org/packages/alevinQC
git_branch: RELEASE_3_14
git_last_commit: 3b0466b
git_last_commit_date: 2021-10-26 12:49:36 -0500 (Tue, 26 Oct 2021)
nebbiolo2Linux (Ubuntu 20.04.4 LTS) / x86_64  OK    OK    OK  UNNEEDED, same version is already published
tokay2Windows Server 2012 R2 Standard / x64  OK    OK    OK    OK  UNNEEDED, same version is already published
machv2macOS 10.14.6 Mojave / x86_64  OK    OK    OK    OK  UNNEEDED, same version is already published

Summary

Package: alevinQC
Version: 1.10.0
Command: C:\Users\biocbuild\bbs-3.14-bioc\R\bin\R.exe CMD check --force-multiarch --install=check:alevinQC.install-out.txt --library=C:\Users\biocbuild\bbs-3.14-bioc\R\library --no-vignettes --timings alevinQC_1.10.0.tar.gz
StartedAt: 2022-01-25 15:31:23 -0500 (Tue, 25 Jan 2022)
EndedAt: 2022-01-25 15:33:55 -0500 (Tue, 25 Jan 2022)
EllapsedTime: 151.3 seconds
RetCode: 0
Status:   OK  
CheckDir: alevinQC.Rcheck
Warnings: 0

Command output

##############################################################################
##############################################################################
###
### Running command:
###
###   C:\Users\biocbuild\bbs-3.14-bioc\R\bin\R.exe CMD check --force-multiarch --install=check:alevinQC.install-out.txt --library=C:\Users\biocbuild\bbs-3.14-bioc\R\library --no-vignettes --timings alevinQC_1.10.0.tar.gz
###
##############################################################################
##############################################################################


* using log directory 'C:/Users/biocbuild/bbs-3.14-bioc/meat/alevinQC.Rcheck'
* using R version 4.1.2 (2021-11-01)
* using platform: x86_64-w64-mingw32 (64-bit)
* using session charset: ISO8859-1
* using option '--no-vignettes'
* checking for file 'alevinQC/DESCRIPTION' ... OK
* checking extension type ... Package
* this is package 'alevinQC' version '1.10.0'
* package encoding: UTF-8
* checking package namespace information ... OK
* checking package dependencies ... OK
* checking if this is a source package ... OK
* checking if there is a namespace ... OK
* checking for hidden files and directories ... OK
* checking for portable file names ... OK
* checking whether package 'alevinQC' can be installed ... OK
* checking installed package size ... NOTE
  installed size is 11.8Mb
  sub-directories of 1Mb or more:
    extdata  11.6Mb
* checking package directory ... OK
* checking 'build' directory ... OK
* checking DESCRIPTION meta-information ... OK
* checking top-level files ... OK
* checking for left-over files ... OK
* checking index information ... OK
* checking package subdirectories ... OK
* checking R files for non-ASCII characters ... OK
* checking R files for syntax errors ... OK
* loading checks for arch 'i386'
** checking whether the package can be loaded ... OK
** checking whether the package can be loaded with stated dependencies ... OK
** checking whether the package can be unloaded cleanly ... OK
** checking whether the namespace can be loaded with stated dependencies ... OK
** checking whether the namespace can be unloaded cleanly ... OK
* loading checks for arch 'x64'
** checking whether the package can be loaded ... OK
** checking whether the package can be loaded with stated dependencies ... OK
** checking whether the package can be unloaded cleanly ... OK
** checking whether the namespace can be loaded with stated dependencies ... OK
** checking whether the namespace can be unloaded cleanly ... OK
* checking dependencies in R code ... OK
* checking S3 generic/method consistency ... OK
* checking replacement functions ... OK
* checking foreign function calls ... OK
* checking R code for possible problems ... OK
* checking Rd files ... OK
* checking Rd metadata ... OK
* checking Rd cross-references ... OK
* checking for missing documentation entries ... OK
* checking for code/documentation mismatches ... OK
* checking Rd \usage sections ... OK
* checking Rd contents ... OK
* checking for unstated dependencies in examples ... OK
* checking files in 'vignettes' ... OK
* checking examples ...
** running examples for arch 'i386' ... OK
Examples with CPU (user + system) or elapsed time > 5s
               user system elapsed
alevinQCReport 8.54   1.33   11.01
** running examples for arch 'x64' ... OK
Examples with CPU (user + system) or elapsed time > 5s
               user system elapsed
alevinQCReport 6.27   0.84    7.88
* checking for unstated dependencies in 'tests' ... OK
* checking tests ...
** running tests for arch 'i386' ...
  Running 'testthat.R'
 OK
** running tests for arch 'x64' ...
  Running 'testthat.R'
 OK
* checking for unstated dependencies in vignettes ... OK
* checking package vignettes in 'inst/doc' ... OK
* checking running R code from vignettes ... SKIPPED
* checking re-building of vignette outputs ... SKIPPED
* checking PDF version of manual ... OK
* DONE

Status: 1 NOTE
See
  'C:/Users/biocbuild/bbs-3.14-bioc/meat/alevinQC.Rcheck/00check.log'
for details.



Installation output

alevinQC.Rcheck/00install.out

##############################################################################
##############################################################################
###
### Running command:
###
###   C:\cygwin\bin\curl.exe -O http://155.52.207.166/BBS/3.14/bioc/src/contrib/alevinQC_1.10.0.tar.gz && rm -rf alevinQC.buildbin-libdir && mkdir alevinQC.buildbin-libdir && C:\Users\biocbuild\bbs-3.14-bioc\R\bin\R.exe CMD INSTALL --merge-multiarch --build --library=alevinQC.buildbin-libdir alevinQC_1.10.0.tar.gz && C:\Users\biocbuild\bbs-3.14-bioc\R\bin\R.exe CMD INSTALL alevinQC_1.10.0.zip && rm alevinQC_1.10.0.tar.gz alevinQC_1.10.0.zip
###
##############################################################################
##############################################################################


  % Total    % Received % Xferd  Average Speed   Time    Time     Time  Current
                                 Dload  Upload   Total   Spent    Left  Speed

  0     0    0     0    0     0      0      0 --:--:-- --:--:-- --:--:--     0
  0 4745k    0 47275    0     0   304k      0  0:00:15 --:--:--  0:00:15  305k
 92 4745k   92 4396k    0     0  3873k      0  0:00:01  0:00:01 --:--:-- 3873k
100 4745k  100 4745k    0     0  4029k      0  0:00:01  0:00:01 --:--:-- 4028k

install for i386

* installing *source* package 'alevinQC' ...
** using staged installation
** R
** inst
** byte-compile and prepare package for lazy loading
** help
*** installing help indices
  converting help for package 'alevinQC'
    finding HTML links ... done
    alevinQC-pkg                            html  
    alevinQCReport                          html  
    alevinQCShiny                           html  
    checkAlevinInputFiles                   html  
    plotAlevinBarcodeCollapse               html  
    plotAlevinHistogram                     html  
    plotAlevinKneeNbrGenes                  html  
    plotAlevinKneeRaw                       html  
    plotAlevinQuant                         html  
    plotAlevinQuantPairs                    html  
    readAlevinQC                            html  
** building package indices
** installing vignettes
** testing if installed package can be loaded from temporary location
** testing if installed package can be loaded from final location
** testing if installed package keeps a record of temporary installation path

install for x64

* installing *source* package 'alevinQC' ...
** testing if installed package can be loaded
* MD5 sums
packaged installation of 'alevinQC' as alevinQC_1.10.0.zip
* DONE (alevinQC)
* installing to library 'C:/Users/biocbuild/bbs-3.14-bioc/R/library'
package 'alevinQC' successfully unpacked and MD5 sums checked

Tests output

alevinQC.Rcheck/tests_i386/testthat.Rout


R version 4.1.2 (2021-11-01) -- "Bird Hippie"
Copyright (C) 2021 The R Foundation for Statistical Computing
Platform: i386-w64-mingw32/i386 (32-bit)

R is free software and comes with ABSOLUTELY NO WARRANTY.
You are welcome to redistribute it under certain conditions.
Type 'license()' or 'licence()' for distribution details.

R is a collaborative project with many contributors.
Type 'contributors()' for more information and
'citation()' on how to cite R or R packages in publications.

Type 'demo()' for some demos, 'help()' for on-line help, or
'help.start()' for an HTML browser interface to help.
Type 'q()' to quit R.

> library(testthat)
> library(alevinQC)
> 
> test_check("alevinQC")
[ FAIL 0 | WARN 1 | SKIP 0 | PASS 57 ]

[ FAIL 0 | WARN 1 | SKIP 0 | PASS 57 ]
> 
> proc.time()
   user  system elapsed 
  21.56    2.29   26.10 

alevinQC.Rcheck/tests_x64/testthat.Rout


R version 4.1.2 (2021-11-01) -- "Bird Hippie"
Copyright (C) 2021 The R Foundation for Statistical Computing
Platform: x86_64-w64-mingw32/x64 (64-bit)

R is free software and comes with ABSOLUTELY NO WARRANTY.
You are welcome to redistribute it under certain conditions.
Type 'license()' or 'licence()' for distribution details.

R is a collaborative project with many contributors.
Type 'contributors()' for more information and
'citation()' on how to cite R or R packages in publications.

Type 'demo()' for some demos, 'help()' for on-line help, or
'help.start()' for an HTML browser interface to help.
Type 'q()' to quit R.

> library(testthat)
> library(alevinQC)
> 
> test_check("alevinQC")
[ FAIL 0 | WARN 1 | SKIP 0 | PASS 57 ]

[ FAIL 0 | WARN 1 | SKIP 0 | PASS 57 ]
> 
> proc.time()
   user  system elapsed 
  19.73    2.85   23.85 

Example timings

alevinQC.Rcheck/examples_i386/alevinQC-Ex.timings

nameusersystemelapsed
alevinQCReport 8.54 1.3311.01
alevinQCShiny0.540.040.60
checkAlevinInputFiles000
plotAlevinBarcodeCollapse1.080.021.09
plotAlevinHistogram0.580.010.59
plotAlevinKneeNbrGenes0.660.020.67
plotAlevinKneeRaw2.290.142.44
plotAlevinQuant1.130.021.16
plotAlevinQuantPairs1.540.031.58
readAlevinQC0.350.010.36

alevinQC.Rcheck/examples_x64/alevinQC-Ex.timings

nameusersystemelapsed
alevinQCReport6.270.847.88
alevinQCShiny0.520.030.55
checkAlevinInputFiles000
plotAlevinBarcodeCollapse0.820.050.88
plotAlevinHistogram0.490.020.50
plotAlevinKneeNbrGenes0.390.030.42
plotAlevinKneeRaw2.140.142.28
plotAlevinQuant0.770.080.85
plotAlevinQuantPairs1.780.071.86
readAlevinQC0.400.020.42