Back to Multiple platform build/check report for BioC 3.14
[A]BCDEFGHIJKLMNOPQRSTUVWXYZ

This page was generated on 2022-01-14 13:05:58 -0500 (Fri, 14 Jan 2022).

HostnameOSArch (*)R versionInstalled pkgs
nebbiolo2Linux (Ubuntu 20.04.4 LTS)x86_644.1.2 (2021-11-01) -- "Bird Hippie" 4327
tokay2Windows Server 2012 R2 Standardx644.1.2 (2021-11-01) -- "Bird Hippie" 4076
machv2macOS 10.14.6 Mojavex86_644.1.2 (2021-11-01) -- "Bird Hippie" 4137
Click on any hostname to see more info about the system (e.g. compilers)      (*) as reported by 'uname -p', except on Windows and Mac OS X

BUILD BIN results for affycomp on tokay2


To the developers/maintainers of the affycomp package:
- Please allow up to 24 hours (and sometimes 48 hours) for your latest push to git@git.bioconductor.org:packages/affycomp.git to
reflect on this report. See How and When does the builder pull? When will my changes propagate? here for more information.
- Make sure to use the following settings in order to reproduce any error or warning you see on this page.

raw results

Package 24/2083HostnameOS / ArchINSTALLBUILDCHECKBUILD BIN
affycomp 1.70.0  (landing page)
Rafael A. Irizarry
Snapshot Date: 2022-01-13 01:55:04 -0500 (Thu, 13 Jan 2022)
git_url: https://git.bioconductor.org/packages/affycomp
git_branch: RELEASE_3_14
git_last_commit: 487f677
git_last_commit_date: 2021-10-26 11:46:00 -0500 (Tue, 26 Oct 2021)
nebbiolo2Linux (Ubuntu 20.04.4 LTS) / x86_64  OK    OK    OK  UNNEEDED, same version is already published
tokay2Windows Server 2012 R2 Standard / x64  OK    OK    OK    OK  UNNEEDED, same version is already published
machv2macOS 10.14.6 Mojave / x86_64  OK    OK    OK    OK  UNNEEDED, same version is already published

Summary

Package: affycomp
Version: 1.70.0
Command: rm -rf affycomp.buildbin-libdir && mkdir affycomp.buildbin-libdir && C:\Users\biocbuild\bbs-3.14-bioc\R\bin\R.exe CMD INSTALL --merge-multiarch --build --library=affycomp.buildbin-libdir affycomp_1.70.0.tar.gz
StartedAt: 2022-01-14 04:57:05 -0500 (Fri, 14 Jan 2022)
EndedAt: 2022-01-14 04:57:34 -0500 (Fri, 14 Jan 2022)
EllapsedTime: 29.7 seconds
RetCode: 0
Status:   OK  
PackageFile: affycomp_1.70.0.zip
PackageFileSize: 8.048 MiB

Command output

##############################################################################
##############################################################################
###
### Running command:
###
###   rm -rf affycomp.buildbin-libdir && mkdir affycomp.buildbin-libdir && C:\Users\biocbuild\bbs-3.14-bioc\R\bin\R.exe CMD INSTALL --merge-multiarch --build --library=affycomp.buildbin-libdir affycomp_1.70.0.tar.gz
###
##############################################################################
##############################################################################



install for i386

* installing *source* package 'affycomp' ...
** using staged installation
** R
** data
** inst
** byte-compile and prepare package for lazy loading
** help
*** installing help indices
  converting help for package 'affycomp'
    finding HTML links ... done
    SD                                      html  
    affycomp.compfigs.auxiliary             html  
    affycomp.figures.auxiliary              html  
    affycomp.table                          html  
    affycompPlot                            html  
    assessAll                               html  
    assessDilution                          html  
    assessSD                                html  
    assessSpikeIn                           html  
    assessSpikeIn2                          html  
    dilution.phenodata                      html  
    exprset.log                             html  
    hgu133a.spikein.phenodata               html  
    mas5.assessment                         html  
    readin                                  html  
    remove.hgu133a.xhyb                     html  
    spikein.phenodata                       html  
    xhyb                                    html  
** building package indices
** installing vignettes
** testing if installed package can be loaded from temporary location
** testing if installed package can be loaded from final location
** testing if installed package keeps a record of temporary installation path

install for x64

* installing *source* package 'affycomp' ...
** testing if installed package can be loaded
* MD5 sums
packaged installation of 'affycomp' as affycomp_1.70.0.zip
* DONE (affycomp)