Back to Multiple platform build/check report for BioC 3.14
ABCDEFGHIJKLMNOPQRS[T]UVWXYZ

This page was generated on 2022-01-21 13:07:14 -0500 (Fri, 21 Jan 2022).

HostnameOSArch (*)R versionInstalled pkgs
nebbiolo2Linux (Ubuntu 20.04.4 LTS)x86_644.1.2 (2021-11-01) -- "Bird Hippie" 4329
tokay2Windows Server 2012 R2 Standardx644.1.2 (2021-11-01) -- "Bird Hippie" 4079
machv2macOS 10.14.6 Mojavex86_644.1.2 (2021-11-01) -- "Bird Hippie" 4140
Click on any hostname to see more info about the system (e.g. compilers)      (*) as reported by 'uname -p', except on Windows and Mac OS X

INSTALL results for TitanCNA on tokay2


To the developers/maintainers of the TitanCNA package:
- Please allow up to 24 hours (and sometimes 48 hours) for your latest push to git@git.bioconductor.org:packages/TitanCNA.git to
reflect on this report. See How and When does the builder pull? When will my changes propagate? here for more information.
- Make sure to use the following settings in order to reproduce any error or warning you see on this page.

raw results

Package 1963/2083HostnameOS / ArchINSTALLBUILDCHECKBUILD BIN
TitanCNA 1.32.0  (landing page)
Gavin Ha
Snapshot Date: 2022-01-20 01:55:04 -0500 (Thu, 20 Jan 2022)
git_url: https://git.bioconductor.org/packages/TitanCNA
git_branch: RELEASE_3_14
git_last_commit: 5fd6845
git_last_commit_date: 2021-10-26 12:13:15 -0500 (Tue, 26 Oct 2021)
nebbiolo2Linux (Ubuntu 20.04.4 LTS) / x86_64  OK    OK    WARNINGS  UNNEEDED, same version is already published
tokay2Windows Server 2012 R2 Standard / x64  OK    OK    WARNINGS    OK  UNNEEDED, same version is already published
machv2macOS 10.14.6 Mojave / x86_64  OK    OK    WARNINGS    OK  UNNEEDED, same version is already published

Summary

Package: TitanCNA
Version: 1.32.0
Command: C:\cygwin\bin\curl.exe -O http://155.52.207.166/BBS/3.14/bioc/src/contrib/TitanCNA_1.32.0.tar.gz && rm -rf TitanCNA.buildbin-libdir && mkdir TitanCNA.buildbin-libdir && C:\Users\biocbuild\bbs-3.14-bioc\R\bin\R.exe CMD INSTALL --merge-multiarch --build --library=TitanCNA.buildbin-libdir TitanCNA_1.32.0.tar.gz && C:\Users\biocbuild\bbs-3.14-bioc\R\bin\R.exe CMD INSTALL TitanCNA_1.32.0.zip && rm TitanCNA_1.32.0.tar.gz TitanCNA_1.32.0.zip
StartedAt: 2022-01-20 06:55:38 -0500 (Thu, 20 Jan 2022)
EndedAt: 2022-01-20 06:57:54 -0500 (Thu, 20 Jan 2022)
EllapsedTime: 135.8 seconds
RetCode: 0
Status:   OK  

Command output

##############################################################################
##############################################################################
###
### Running command:
###
###   C:\cygwin\bin\curl.exe -O http://155.52.207.166/BBS/3.14/bioc/src/contrib/TitanCNA_1.32.0.tar.gz && rm -rf TitanCNA.buildbin-libdir && mkdir TitanCNA.buildbin-libdir && C:\Users\biocbuild\bbs-3.14-bioc\R\bin\R.exe CMD INSTALL --merge-multiarch --build --library=TitanCNA.buildbin-libdir TitanCNA_1.32.0.tar.gz && C:\Users\biocbuild\bbs-3.14-bioc\R\bin\R.exe CMD INSTALL TitanCNA_1.32.0.zip && rm TitanCNA_1.32.0.tar.gz TitanCNA_1.32.0.zip
###
##############################################################################
##############################################################################


  % Total    % Received % Xferd  Average Speed   Time    Time     Time  Current
                                 Dload  Upload   Total   Spent    Left  Speed

  0     0    0     0    0     0      0      0 --:--:-- --:--:-- --:--:--     0
 91 5041k   91 4607k    0     0  4648k      0  0:00:01 --:--:--  0:00:01 4649k
100 5041k  100 5041k    0     0  4861k      0  0:00:01  0:00:01 --:--:-- 4866k

install for i386

* installing *source* package 'TitanCNA' ...
** using staged installation
** libs
"C:/rtools40/mingw32/bin/"gcc  -I"C:/Users/BIOCBU~1/BBS-3~1.14-/R/include" -DNDEBUG     -I"C:/extsoft/include"     -O2 -Wall  -std=gnu99 -mfpmath=sse -msse2 -mstackrealign  -c fwd_backC_clonalCN.c -o fwd_backC_clonalCN.o
"C:/rtools40/mingw32/bin/"gcc  -I"C:/Users/BIOCBU~1/BBS-3~1.14-/R/include" -DNDEBUG     -I"C:/extsoft/include"     -O2 -Wall  -std=gnu99 -mfpmath=sse -msse2 -mstackrealign  -c getPositionOverlapC.c -o getPositionOverlapC.o
"C:/rtools40/mingw32/bin/"gcc  -I"C:/Users/BIOCBU~1/BBS-3~1.14-/R/include" -DNDEBUG     -I"C:/extsoft/include"     -O2 -Wall  -std=gnu99 -mfpmath=sse -msse2 -mstackrealign  -c register.c -o register.o
"C:/rtools40/mingw32/bin/"gcc  -I"C:/Users/BIOCBU~1/BBS-3~1.14-/R/include" -DNDEBUG     -I"C:/extsoft/include"     -O2 -Wall  -std=gnu99 -mfpmath=sse -msse2 -mstackrealign  -c viterbiC_clonalCN.c -o viterbiC_clonalCN.o
C:/rtools40/mingw32/bin/gcc -shared -s -static-libgcc -o TitanCNA.dll tmp.def fwd_backC_clonalCN.o getPositionOverlapC.o register.o viterbiC_clonalCN.o -LC:/extsoft/lib/i386 -LC:/extsoft/lib -LC:/Users/BIOCBU~1/BBS-3~1.14-/R/bin/i386 -lR
installing to C:/Users/biocbuild/bbs-3.14-bioc/meat/TitanCNA.buildbin-libdir/00LOCK-TitanCNA/00new/TitanCNA/libs/i386
** R
** data
** inst
** byte-compile and prepare package for lazy loading
Warning: replacing previous import 'GenomicRanges::shift' by 'data.table::shift' when loading 'TitanCNA'
Warning: replacing previous import 'IRanges::collapse' by 'dplyr::collapse' when loading 'TitanCNA'
Warning: replacing previous import 'data.table::last' by 'dplyr::last' when loading 'TitanCNA'
Warning: replacing previous import 'GenomicRanges::union' by 'dplyr::union' when loading 'TitanCNA'
Warning: replacing previous import 'IRanges::slice' by 'dplyr::slice' when loading 'TitanCNA'
Warning: replacing previous import 'GenomeInfoDb::intersect' by 'dplyr::intersect' when loading 'TitanCNA'
Warning: replacing previous import 'GenomicRanges::setdiff' by 'dplyr::setdiff' when loading 'TitanCNA'
Warning: replacing previous import 'data.table::first' by 'dplyr::first' when loading 'TitanCNA'
Warning: replacing previous import 'IRanges::desc' by 'dplyr::desc' when loading 'TitanCNA'
Warning: replacing previous import 'BiocGenerics::combine' by 'dplyr::combine' when loading 'TitanCNA'
Warning: replacing previous import 'data.table::between' by 'dplyr::between' when loading 'TitanCNA'
Warning: replacing previous import 'dplyr::select' by 'VariantAnnotation::select' when loading 'TitanCNA'
** help
*** installing help indices
  converting help for package 'TitanCNA'
    finding HTML links ... done
    TitanCNA-dataset                        html  
    TitanCNA-output                         html  
    TitanCNA-package                        html  
    TitanCNA-plotting                       html  
    computeSDbwIndex                        html  
    correctCN                               html  
    correctReadDepth                        html  
    filterData                              html  
    getPositionOverlap                      html  
    haplotype                               html  
    loadAlleleCounts                        html  
    loadDefaultParameters                   html  
    runEMclonalCN                           html  
    finding level-2 HTML links ... done

    viterbiClonalCN                         html  
    wigImport                               html  
** building package indices
** installing vignettes
** testing if installed package can be loaded from temporary location
Warning: replacing previous import 'GenomicRanges::shift' by 'data.table::shift' when loading 'TitanCNA'
Warning: replacing previous import 'IRanges::collapse' by 'dplyr::collapse' when loading 'TitanCNA'
Warning: replacing previous import 'data.table::last' by 'dplyr::last' when loading 'TitanCNA'
Warning: replacing previous import 'GenomicRanges::union' by 'dplyr::union' when loading 'TitanCNA'
Warning: replacing previous import 'IRanges::slice' by 'dplyr::slice' when loading 'TitanCNA'
Warning: replacing previous import 'GenomeInfoDb::intersect' by 'dplyr::intersect' when loading 'TitanCNA'
Warning: replacing previous import 'GenomicRanges::setdiff' by 'dplyr::setdiff' when loading 'TitanCNA'
Warning: replacing previous import 'data.table::first' by 'dplyr::first' when loading 'TitanCNA'
Warning: replacing previous import 'IRanges::desc' by 'dplyr::desc' when loading 'TitanCNA'
Warning: replacing previous import 'BiocGenerics::combine' by 'dplyr::combine' when loading 'TitanCNA'
Warning: replacing previous import 'data.table::between' by 'dplyr::between' when loading 'TitanCNA'
Warning: replacing previous import 'dplyr::select' by 'VariantAnnotation::select' when loading 'TitanCNA'
** testing if installed package can be loaded from final location
Warning: replacing previous import 'GenomicRanges::shift' by 'data.table::shift' when loading 'TitanCNA'
Warning: replacing previous import 'IRanges::collapse' by 'dplyr::collapse' when loading 'TitanCNA'
Warning: replacing previous import 'data.table::last' by 'dplyr::last' when loading 'TitanCNA'
Warning: replacing previous import 'GenomicRanges::union' by 'dplyr::union' when loading 'TitanCNA'
Warning: replacing previous import 'IRanges::slice' by 'dplyr::slice' when loading 'TitanCNA'
Warning: replacing previous import 'GenomeInfoDb::intersect' by 'dplyr::intersect' when loading 'TitanCNA'
Warning: replacing previous import 'GenomicRanges::setdiff' by 'dplyr::setdiff' when loading 'TitanCNA'
Warning: replacing previous import 'data.table::first' by 'dplyr::first' when loading 'TitanCNA'
Warning: replacing previous import 'IRanges::desc' by 'dplyr::desc' when loading 'TitanCNA'
Warning: replacing previous import 'BiocGenerics::combine' by 'dplyr::combine' when loading 'TitanCNA'
Warning: replacing previous import 'data.table::between' by 'dplyr::between' when loading 'TitanCNA'
Warning: replacing previous import 'dplyr::select' by 'VariantAnnotation::select' when loading 'TitanCNA'
** testing if installed package keeps a record of temporary installation path

install for x64

* installing *source* package 'TitanCNA' ...
** libs
"C:/rtools40/mingw64/bin/"gcc  -I"C:/Users/BIOCBU~1/BBS-3~1.14-/R/include" -DNDEBUG     -I"C:/extsoft/include"     -O2 -Wall  -std=gnu99 -mfpmath=sse -msse2 -mstackrealign  -c fwd_backC_clonalCN.c -o fwd_backC_clonalCN.o
"C:/rtools40/mingw64/bin/"gcc  -I"C:/Users/BIOCBU~1/BBS-3~1.14-/R/include" -DNDEBUG     -I"C:/extsoft/include"     -O2 -Wall  -std=gnu99 -mfpmath=sse -msse2 -mstackrealign  -c getPositionOverlapC.c -o getPositionOverlapC.o
"C:/rtools40/mingw64/bin/"gcc  -I"C:/Users/BIOCBU~1/BBS-3~1.14-/R/include" -DNDEBUG     -I"C:/extsoft/include"     -O2 -Wall  -std=gnu99 -mfpmath=sse -msse2 -mstackrealign  -c register.c -o register.o
"C:/rtools40/mingw64/bin/"gcc  -I"C:/Users/BIOCBU~1/BBS-3~1.14-/R/include" -DNDEBUG     -I"C:/extsoft/include"     -O2 -Wall  -std=gnu99 -mfpmath=sse -msse2 -mstackrealign  -c viterbiC_clonalCN.c -o viterbiC_clonalCN.o
C:/rtools40/mingw64/bin/gcc -shared -s -static-libgcc -o TitanCNA.dll tmp.def fwd_backC_clonalCN.o getPositionOverlapC.o register.o viterbiC_clonalCN.o -LC:/extsoft/lib/x64 -LC:/extsoft/lib -LC:/Users/BIOCBU~1/BBS-3~1.14-/R/bin/x64 -lR
installing to C:/Users/biocbuild/bbs-3.14-bioc/meat/TitanCNA.buildbin-libdir/TitanCNA/libs/x64
** testing if installed package can be loaded
Warning: replacing previous import 'GenomicRanges::shift' by 'data.table::shift' when loading 'TitanCNA'
Warning: replacing previous import 'IRanges::collapse' by 'dplyr::collapse' when loading 'TitanCNA'
Warning: replacing previous import 'data.table::last' by 'dplyr::last' when loading 'TitanCNA'
Warning: replacing previous import 'GenomicRanges::union' by 'dplyr::union' when loading 'TitanCNA'
Warning: replacing previous import 'IRanges::slice' by 'dplyr::slice' when loading 'TitanCNA'
Warning: replacing previous import 'GenomeInfoDb::intersect' by 'dplyr::intersect' when loading 'TitanCNA'
Warning: replacing previous import 'GenomicRanges::setdiff' by 'dplyr::setdiff' when loading 'TitanCNA'
Warning: replacing previous import 'data.table::first' by 'dplyr::first' when loading 'TitanCNA'
Warning: replacing previous import 'IRanges::desc' by 'dplyr::desc' when loading 'TitanCNA'
Warning: replacing previous import 'BiocGenerics::combine' by 'dplyr::combine' when loading 'TitanCNA'
Warning: replacing previous import 'data.table::between' by 'dplyr::between' when loading 'TitanCNA'
Warning: replacing previous import 'dplyr::select' by 'VariantAnnotation::select' when loading 'TitanCNA'
* MD5 sums
packaged installation of 'TitanCNA' as TitanCNA_1.32.0.zip
* DONE (TitanCNA)
* installing to library 'C:/Users/biocbuild/bbs-3.14-bioc/R/library'
package 'TitanCNA' successfully unpacked and MD5 sums checked