Back to Multiple platform build/check report for BioC 3.14
ABCDEFGHIJKLMNOPQR[S]TUVWXYZ

This page was generated on 2022-01-24 13:07:05 -0500 (Mon, 24 Jan 2022).

HostnameOSArch (*)R versionInstalled pkgs
nebbiolo2Linux (Ubuntu 20.04.4 LTS)x86_644.1.2 (2021-11-01) -- "Bird Hippie" 4329
tokay2Windows Server 2012 R2 Standardx644.1.2 (2021-11-01) -- "Bird Hippie" 4080
machv2macOS 10.14.6 Mojavex86_644.1.2 (2021-11-01) -- "Bird Hippie" 4141
Click on any hostname to see more info about the system (e.g. compilers)      (*) as reported by 'uname -p', except on Windows and Mac OS X

BUILD BIN results for Streamer on tokay2


To the developers/maintainers of the Streamer package:
- Please allow up to 24 hours (and sometimes 48 hours) for your latest push to git@git.bioconductor.org:packages/Streamer.git to
reflect on this report. See How and When does the builder pull? When will my changes propagate? here for more information.
- Make sure to use the following settings in order to reproduce any error or warning you see on this page.

raw results

Package 1891/2083HostnameOS / ArchINSTALLBUILDCHECKBUILD BIN
Streamer 1.40.0  (landing page)
Martin Morgan
Snapshot Date: 2022-01-23 01:55:04 -0500 (Sun, 23 Jan 2022)
git_url: https://git.bioconductor.org/packages/Streamer
git_branch: RELEASE_3_14
git_last_commit: 43fe994
git_last_commit_date: 2021-10-26 11:59:49 -0500 (Tue, 26 Oct 2021)
nebbiolo2Linux (Ubuntu 20.04.4 LTS) / x86_64  OK    OK    OK  UNNEEDED, same version is already published
tokay2Windows Server 2012 R2 Standard / x64  OK    OK    OK    OK  UNNEEDED, same version is already published
machv2macOS 10.14.6 Mojave / x86_64  OK    OK    OK    OK  UNNEEDED, same version is already published

Summary

Package: Streamer
Version: 1.40.0
Command: rm -rf Streamer.buildbin-libdir && mkdir Streamer.buildbin-libdir && C:\Users\biocbuild\bbs-3.14-bioc\R\bin\R.exe CMD INSTALL --merge-multiarch --build --library=Streamer.buildbin-libdir Streamer_1.40.0.tar.gz
StartedAt: 2022-01-24 06:51:05 -0500 (Mon, 24 Jan 2022)
EndedAt: 2022-01-24 06:51:30 -0500 (Mon, 24 Jan 2022)
EllapsedTime: 25.8 seconds
RetCode: 0
Status:   OK  
PackageFile: Streamer_1.40.0.zip
PackageFileSize: 603.5 KiB

Command output

##############################################################################
##############################################################################
###
### Running command:
###
###   rm -rf Streamer.buildbin-libdir && mkdir Streamer.buildbin-libdir && C:\Users\biocbuild\bbs-3.14-bioc\R\bin\R.exe CMD INSTALL --merge-multiarch --build --library=Streamer.buildbin-libdir Streamer_1.40.0.tar.gz
###
##############################################################################
##############################################################################



install for i386

* installing *source* package 'Streamer' ...
** using staged installation
** libs
"C:/rtools40/mingw32/bin/"gcc  -I"C:/Users/BIOCBU~1/BBS-3~1.14-/R/include" -DNDEBUG     -I"C:/extsoft/include"     -O2 -Wall  -std=gnu99 -mfpmath=sse -msse2 -mstackrealign  -c R_init_Streamer.c -o R_init_Streamer.o
"C:/rtools40/mingw32/bin/"gcc  -I"C:/Users/BIOCBU~1/BBS-3~1.14-/R/include" -DNDEBUG     -I"C:/extsoft/include"     -O2 -Wall  -std=gnu99 -mfpmath=sse -msse2 -mstackrealign  -c raw_input.c -o raw_input.o
C:/rtools40/mingw32/bin/gcc -shared -s -static-libgcc -o Streamer.dll tmp.def R_init_Streamer.o raw_input.o -LC:/extsoft/lib/i386 -LC:/extsoft/lib -LC:/Users/BIOCBU~1/BBS-3~1.14-/R/bin/i386 -lR
installing to C:/Users/biocbuild/bbs-3.14-bioc/meat/Streamer.buildbin-libdir/00LOCK-Streamer/00new/Streamer/libs/i386
** R
** inst
** byte-compile and prepare package for lazy loading
** help
*** installing help indices
  converting help for package 'Streamer'
    finding HTML links ... done
    ConnectionProducer-classes              html  
    Consumer-class                          html  
    DAGTeam-class                           html  
    finding level-2 HTML links ... done

    Downsample-class                        html  
    FunctionProducerConsumer-classes        html  
    ParallelParam-classes                   html  
    Producer-class                          html  
    RawInput-class                          html  
    Reducer-class                           html  
    Seq-class                               html  
    Stream-class                            html  
    Streamer-package                        html  
    Team-class                              html  
    Utility-classes                         html  
    reset                                   html  
    status                                  html  
    yield                                   html  
** building package indices
** installing vignettes
** testing if installed package can be loaded from temporary location
** testing if installed package can be loaded from final location
** testing if installed package keeps a record of temporary installation path

install for x64

* installing *source* package 'Streamer' ...
** libs
"C:/rtools40/mingw64/bin/"gcc  -I"C:/Users/BIOCBU~1/BBS-3~1.14-/R/include" -DNDEBUG     -I"C:/extsoft/include"     -O2 -Wall  -std=gnu99 -mfpmath=sse -msse2 -mstackrealign  -c R_init_Streamer.c -o R_init_Streamer.o
"C:/rtools40/mingw64/bin/"gcc  -I"C:/Users/BIOCBU~1/BBS-3~1.14-/R/include" -DNDEBUG     -I"C:/extsoft/include"     -O2 -Wall  -std=gnu99 -mfpmath=sse -msse2 -mstackrealign  -c raw_input.c -o raw_input.o
C:/rtools40/mingw64/bin/gcc -shared -s -static-libgcc -o Streamer.dll tmp.def R_init_Streamer.o raw_input.o -LC:/extsoft/lib/x64 -LC:/extsoft/lib -LC:/Users/BIOCBU~1/BBS-3~1.14-/R/bin/x64 -lR
installing to C:/Users/biocbuild/bbs-3.14-bioc/meat/Streamer.buildbin-libdir/Streamer/libs/x64
** testing if installed package can be loaded
* MD5 sums
packaged installation of 'Streamer' as Streamer_1.40.0.zip
* DONE (Streamer)