Back to Multiple platform build/check report for BioC 3.14
ABCDEFGHIJKLMNOPQR[S]TUVWXYZ

This page was generated on 2022-01-17 13:07:05 -0500 (Mon, 17 Jan 2022).

HostnameOSArch (*)R versionInstalled pkgs
nebbiolo2Linux (Ubuntu 20.04.4 LTS)x86_644.1.2 (2021-11-01) -- "Bird Hippie" 4328
tokay2Windows Server 2012 R2 Standardx644.1.2 (2021-11-01) -- "Bird Hippie" 4077
machv2macOS 10.14.6 Mojavex86_644.1.2 (2021-11-01) -- "Bird Hippie" 4138
Click on any hostname to see more info about the system (e.g. compilers)      (*) as reported by 'uname -p', except on Windows and Mac OS X

INSTALL results for SRGnet on tokay2


To the developers/maintainers of the SRGnet package:
- Please allow up to 24 hours (and sometimes 48 hours) for your latest push to git@git.bioconductor.org:packages/SRGnet.git to
reflect on this report. See How and When does the builder pull? When will my changes propagate? here for more information.
- Make sure to use the following settings in order to reproduce any error or warning you see on this page.

raw results

Package 1874/2083HostnameOS / ArchINSTALLBUILDCHECKBUILD BIN
SRGnet 1.20.0  (landing page)
Isar Nassiri
Snapshot Date: 2022-01-16 01:55:05 -0500 (Sun, 16 Jan 2022)
git_url: https://git.bioconductor.org/packages/SRGnet
git_branch: RELEASE_3_14
git_last_commit: 928f9e9
git_last_commit_date: 2021-10-26 12:28:14 -0500 (Tue, 26 Oct 2021)
nebbiolo2Linux (Ubuntu 20.04.4 LTS) / x86_64  ERROR    ERROR  skipped
tokay2Windows Server 2012 R2 Standard / x64  ERROR    ERROR  skippedskipped
machv2macOS 10.14.6 Mojave / x86_64  ERROR    ERROR  skippedskipped

Summary

Package: SRGnet
Version: 1.20.0
Command: C:\cygwin\bin\curl.exe -O http://155.52.207.166/BBS/3.14/bioc/src/contrib/SRGnet_1.20.0.tar.gz && rm -rf SRGnet.buildbin-libdir && mkdir SRGnet.buildbin-libdir && C:\Users\biocbuild\bbs-3.14-bioc\R\bin\R.exe CMD INSTALL --merge-multiarch --build --library=SRGnet.buildbin-libdir SRGnet_1.20.0.tar.gz && C:\Users\biocbuild\bbs-3.14-bioc\R\bin\R.exe CMD INSTALL SRGnet_1.20.0.zip && rm SRGnet_1.20.0.tar.gz SRGnet_1.20.0.zip
StartedAt: 2022-01-16 08:02:38 -0500 (Sun, 16 Jan 2022)
EndedAt: 2022-01-16 08:02:39 -0500 (Sun, 16 Jan 2022)
EllapsedTime: 1.3 seconds
RetCode: 1
Status:   ERROR  

Command output

##############################################################################
##############################################################################
###
### Running command:
###
###   C:\cygwin\bin\curl.exe -O http://155.52.207.166/BBS/3.14/bioc/src/contrib/SRGnet_1.20.0.tar.gz && rm -rf SRGnet.buildbin-libdir && mkdir SRGnet.buildbin-libdir && C:\Users\biocbuild\bbs-3.14-bioc\R\bin\R.exe CMD INSTALL --merge-multiarch --build --library=SRGnet.buildbin-libdir SRGnet_1.20.0.tar.gz && C:\Users\biocbuild\bbs-3.14-bioc\R\bin\R.exe CMD INSTALL SRGnet_1.20.0.zip && rm SRGnet_1.20.0.tar.gz SRGnet_1.20.0.zip
###
##############################################################################
##############################################################################


  % Total    % Received % Xferd  Average Speed   Time    Time     Time  Current
                                 Dload  Upload   Total   Spent    Left  Speed

  0     0    0     0    0     0      0      0 --:--:-- --:--:-- --:--:--     0
100  161k  100  161k    0     0  1019k      0 --:--:-- --:--:-- --:--:-- 1025k

install for i386

ERROR: dependency 'DMwR' is not available for package 'SRGnet'
* removing 'C:/Users/biocbuild/bbs-3.14-bioc/meat/SRGnet.buildbin-libdir/SRGnet'