Name | Last modified | Size | Description | |
---|---|---|---|---|
Parent Directory | - | |||
buildbin-out.txt | 14-Apr-2022 01:07 | 2.8K | ||
buildbin-summary.dcf | 14-Apr-2022 01:07 | 535 | ||
buildsrc-out.txt | 14-Apr-2022 01:07 | 846 | ||
buildsrc-summary.dcf | 14-Apr-2022 01:07 | 462 | ||
checksrc-out.txt | 14-Apr-2022 01:07 | 3.5K | ||
checksrc-summary.dcf | 14-Apr-2022 01:07 | 462 | ||
install-out.txt | 14-Apr-2022 01:07 | 2.7K | ||
install-summary.dcf | 14-Apr-2022 01:07 | 296 | ||