Back to Multiple platform build/check report for BioC 3.14
ABCDEFGHIJKLMNOPQ[R]STUVWXYZ

This page was generated on 2022-01-17 13:08:15 -0500 (Mon, 17 Jan 2022).

HostnameOSArch (*)R versionInstalled pkgs
nebbiolo2Linux (Ubuntu 20.04.4 LTS)x86_644.1.2 (2021-11-01) -- "Bird Hippie" 4328
tokay2Windows Server 2012 R2 Standardx644.1.2 (2021-11-01) -- "Bird Hippie" 4077
machv2macOS 10.14.6 Mojavex86_644.1.2 (2021-11-01) -- "Bird Hippie" 4138
Click on any hostname to see more info about the system (e.g. compilers)      (*) as reported by 'uname -p', except on Windows and Mac OS X

CHECK results for Rdisop on machv2


To the developers/maintainers of the Rdisop package:
- Please allow up to 24 hours (and sometimes 48 hours) for your latest push to git@git.bioconductor.org:packages/Rdisop.git to
reflect on this report. See How and When does the builder pull? When will my changes propagate? here for more information.
- Make sure to use the following settings in order to reproduce any error or warning you see on this page.

raw results

Package 1554/2083HostnameOS / ArchINSTALLBUILDCHECKBUILD BIN
Rdisop 1.54.0  (landing page)
Steffen Neumann
Snapshot Date: 2022-01-16 01:55:05 -0500 (Sun, 16 Jan 2022)
git_url: https://git.bioconductor.org/packages/Rdisop
git_branch: RELEASE_3_14
git_last_commit: a0c52f0
git_last_commit_date: 2021-10-26 11:51:40 -0500 (Tue, 26 Oct 2021)
nebbiolo2Linux (Ubuntu 20.04.4 LTS) / x86_64  OK    OK    WARNINGS  UNNEEDED, same version is already published
tokay2Windows Server 2012 R2 Standard / x64  OK    OK    WARNINGS    OK  UNNEEDED, same version is already published
machv2macOS 10.14.6 Mojave / x86_64  OK    OK    OK    OK  UNNEEDED, same version is already published

Summary

Package: Rdisop
Version: 1.54.0
Command: /Library/Frameworks/R.framework/Resources/bin/R CMD check --install=check:Rdisop.install-out.txt --library=/Library/Frameworks/R.framework/Resources/library --no-vignettes --timings Rdisop_1.54.0.tar.gz
StartedAt: 2022-01-16 17:01:12 -0500 (Sun, 16 Jan 2022)
EndedAt: 2022-01-16 17:01:46 -0500 (Sun, 16 Jan 2022)
EllapsedTime: 33.8 seconds
RetCode: 0
Status:   OK  
CheckDir: Rdisop.Rcheck
Warnings: 0

Command output

##############################################################################
##############################################################################
###
### Running command:
###
###   /Library/Frameworks/R.framework/Resources/bin/R CMD check --install=check:Rdisop.install-out.txt --library=/Library/Frameworks/R.framework/Resources/library --no-vignettes --timings Rdisop_1.54.0.tar.gz
###
##############################################################################
##############################################################################


* using log directory ‘/Users/biocbuild/bbs-3.14-bioc/meat/Rdisop.Rcheck’
* using R version 4.1.2 (2021-11-01)
* using platform: x86_64-apple-darwin17.0 (64-bit)
* using session charset: UTF-8
* using option ‘--no-vignettes’
* checking for file ‘Rdisop/DESCRIPTION’ ... OK
* this is package ‘Rdisop’ version ‘1.54.0’
* checking package namespace information ... OK
* checking package dependencies ... OK
* checking if this is a source package ... OK
* checking if there is a namespace ... OK
* checking for hidden files and directories ... NOTE
Found the following hidden files and directories:
  .travis.yml
These were most likely included in error. See section ‘Package
structure’ in the ‘Writing R Extensions’ manual.
* checking for portable file names ... OK
* checking for sufficient/correct file permissions ... OK
* checking whether package ‘Rdisop’ can be installed ... OK
* checking installed package size ... OK
* checking package directory ... OK
* checking ‘build’ directory ... OK
* checking DESCRIPTION meta-information ... OK
* checking top-level files ... OK
* checking for left-over files ... OK
* checking index information ... OK
* checking package subdirectories ... OK
* checking R files for non-ASCII characters ... OK
* checking R files for syntax errors ... OK
* checking whether the package can be loaded ... OK
* checking whether the package can be loaded with stated dependencies ... OK
* checking whether the package can be unloaded cleanly ... OK
* checking whether the namespace can be loaded with stated dependencies ... OK
* checking whether the namespace can be unloaded cleanly ... OK
* checking dependencies in R code ... OK
* checking S3 generic/method consistency ... OK
* checking replacement functions ... OK
* checking foreign function calls ... OK
* checking R code for possible problems ... OK
* checking Rd files ... OK
* checking Rd metadata ... OK
* checking Rd cross-references ... OK
* checking for missing documentation entries ... OK
* checking for code/documentation mismatches ... OK
* checking Rd \usage sections ... OK
* checking Rd contents ... OK
* checking for unstated dependencies in examples ... OK
* checking line endings in shell scripts ... OK
* checking line endings in C/C++/Fortran sources/headers ... OK
* checking line endings in Makefiles ... OK
* checking compilation flags in Makevars ... OK
* checking for GNU extensions in Makefiles ... OK
* checking for portable use of $(BLAS_LIBS) and $(LAPACK_LIBS) ... OK
* checking use of PKG_*FLAGS in Makefiles ... OK
* checking include directives in Makefiles ... OK
* checking compiled code ... NOTE
Note: information on .o files is not available
File ‘/Library/Frameworks/R.framework/Versions/4.1/Resources/library/Rdisop/libs/Rdisop.so’:
  Found ‘_rand’, possibly from ‘rand’ (C)

Compiled code should not call entry points which might terminate R nor
write to stdout/stderr instead of to the console, nor use Fortran I/O
nor system RNGs. The detected symbols are linked into the code but
might come from libraries and not actually be called.

See ‘Writing portable packages’ in the ‘Writing R Extensions’ manual.
* checking sizes of PDF files under ‘inst/doc’ ... OK
* checking files in ‘vignettes’ ... OK
* checking examples ... OK
* checking for unstated dependencies in ‘tests’ ... OK
* checking tests ...
  Running ‘doRUnit.R’
 OK
* checking for unstated dependencies in vignettes ... OK
* checking package vignettes in ‘inst/doc’ ... OK
* checking running R code from vignettes ... SKIPPED
* checking re-building of vignette outputs ... SKIPPED
* checking PDF version of manual ... OK
* DONE

Status: 2 NOTEs
See
  ‘/Users/biocbuild/bbs-3.14-bioc/meat/Rdisop.Rcheck/00check.log’
for details.



Installation output

Rdisop.Rcheck/00install.out

##############################################################################
##############################################################################
###
### Running command:
###
###   /Library/Frameworks/R.framework/Resources/bin/R CMD INSTALL Rdisop
###
##############################################################################
##############################################################################


* installing to library ‘/Library/Frameworks/R.framework/Versions/4.1/Resources/library’
* installing *source* package ‘Rdisop’ ...
** using staged installation
** libs
clang++ -mmacosx-version-min=10.13 -std=gnu++14 -I"/Library/Frameworks/R.framework/Resources/include" -DNDEBUG  -I'/Library/Frameworks/R.framework/Versions/4.1/Resources/library/Rcpp/include' -I/usr/local/include  -I./imslib/src/ -fPIC  -Wall -g -O2  -c disop.cpp -o disop.o
disop.cpp:106:8: warning: unused variable 'parityeven' [-Wunused-variable]
  bool parityeven = !parityodd;
       ^
disop.cpp:191:6: warning: unused variable 'number_molecules_shown' [-Wunused-variable]
        int number_molecules_shown = 100;
            ^
In file included from disop.cpp:28:
./imslib/src/ims/decomp/decomputils.h:92:53: warning: unused typedef 'weight_type' [-Wunused-local-typedef]
        typedef typename DecompositionWeights::weight_type weight_type;
                                                           ^
disop.cpp:174:42: warning: unused typedef 'decomposition_type' [-Wunused-local-typedef]
    typedef decompositions_t::value_type decomposition_type;
                                         ^
disop.cpp:169:39: warning: unused typedef 'mass_type' [-Wunused-local-typedef]
    typedef distribution_t::mass_type mass_type;
                                      ^
disop.cpp:171:47: warning: unused typedef 'nominal_mass_type' [-Wunused-local-typedef]
    typedef distribution_t::nominal_mass_type nominal_mass_type;
                                              ^
disop.cpp:377:40: warning: unused typedef 'mass_type' [-Wunused-local-typedef]
        typedef distribution_t::mass_type mass_type;
                                          ^
disop.cpp:626:43: warning: unused typedef 'scorer_type' [-Wunused-local-typedef]
    typedef DistributionProbabilityScorer scorer_type;
                                          ^
disop.cpp:709:32: warning: unused typedef 'elements_type' [-Wunused-local-typedef]
        typedef alphabet_t::container elements_type;
                                      ^
disop.cpp:814:33: warning: unused typedef 'elements_type' [-Wunused-local-typedef]
  typedef alphabet_t::container elements_type;
                                ^
10 warnings generated.
clang++ -mmacosx-version-min=10.13 -std=gnu++14 -I"/Library/Frameworks/R.framework/Resources/include" -DNDEBUG  -I'/Library/Frameworks/R.framework/Versions/4.1/Resources/library/Rcpp/include' -I/usr/local/include  -I./imslib/src/ -fPIC  -Wall -g -O2  -c imslib/src/ims/element.cpp -o imslib/src/ims/element.o
clang++ -mmacosx-version-min=10.13 -std=gnu++14 -I"/Library/Frameworks/R.framework/Resources/include" -DNDEBUG  -I'/Library/Frameworks/R.framework/Versions/4.1/Resources/library/Rcpp/include' -I/usr/local/include  -I./imslib/src/ -fPIC  -Wall -g -O2  -c imslib/src/ims/composedelement.cpp -o imslib/src/ims/composedelement.o
clang++ -mmacosx-version-min=10.13 -std=gnu++14 -I"/Library/Frameworks/R.framework/Resources/include" -DNDEBUG  -I'/Library/Frameworks/R.framework/Versions/4.1/Resources/library/Rcpp/include' -I/usr/local/include  -I./imslib/src/ -fPIC  -Wall -g -O2  -c imslib/src/ims/isotopedistribution.cpp -o imslib/src/ims/isotopedistribution.o
clang++ -mmacosx-version-min=10.13 -std=gnu++14 -I"/Library/Frameworks/R.framework/Resources/include" -DNDEBUG  -I'/Library/Frameworks/R.framework/Versions/4.1/Resources/library/Rcpp/include' -I/usr/local/include  -I./imslib/src/ -fPIC  -Wall -g -O2  -c imslib/src/ims/alphabet.cpp -o imslib/src/ims/alphabet.o
clang++ -mmacosx-version-min=10.13 -std=gnu++14 -I"/Library/Frameworks/R.framework/Resources/include" -DNDEBUG  -I'/Library/Frameworks/R.framework/Versions/4.1/Resources/library/Rcpp/include' -I/usr/local/include  -I./imslib/src/ -fPIC  -Wall -g -O2  -c imslib/src/ims/weights.cpp -o imslib/src/ims/weights.o
clang++ -mmacosx-version-min=10.13 -std=gnu++14 -I"/Library/Frameworks/R.framework/Resources/include" -DNDEBUG  -I'/Library/Frameworks/R.framework/Versions/4.1/Resources/library/Rcpp/include' -I/usr/local/include  -I./imslib/src/ -fPIC  -Wall -g -O2  -c imslib/src/ims/distributedalphabet.cpp -o imslib/src/ims/distributedalphabet.o
clang++ -mmacosx-version-min=10.13 -std=gnu++14 -I"/Library/Frameworks/R.framework/Resources/include" -DNDEBUG  -I'/Library/Frameworks/R.framework/Versions/4.1/Resources/library/Rcpp/include' -I/usr/local/include  -I./imslib/src/ -fPIC  -Wall -g -O2  -c imslib/src/ims/transformation.cpp -o imslib/src/ims/transformation.o
clang++ -mmacosx-version-min=10.13 -std=gnu++14 -I"/Library/Frameworks/R.framework/Resources/include" -DNDEBUG  -I'/Library/Frameworks/R.framework/Versions/4.1/Resources/library/Rcpp/include' -I/usr/local/include  -I./imslib/src/ -fPIC  -Wall -g -O2  -c imslib/src/ims/isotopespecies.cpp -o imslib/src/ims/isotopespecies.o
clang++ -mmacosx-version-min=10.13 -std=gnu++14 -I"/Library/Frameworks/R.framework/Resources/include" -DNDEBUG  -I'/Library/Frameworks/R.framework/Versions/4.1/Resources/library/Rcpp/include' -I/usr/local/include  -I./imslib/src/ -fPIC  -Wall -g -O2  -c imslib/src/ims/base/parser/alphabettextparser.cpp -o imslib/src/ims/base/parser/alphabettextparser.o
clang++ -mmacosx-version-min=10.13 -std=gnu++14 -I"/Library/Frameworks/R.framework/Resources/include" -DNDEBUG  -I'/Library/Frameworks/R.framework/Versions/4.1/Resources/library/Rcpp/include' -I/usr/local/include  -I./imslib/src/ -fPIC  -Wall -g -O2  -c imslib/src/ims/base/parser/distributedalphabettextparser.cpp -o imslib/src/ims/base/parser/distributedalphabettextparser.o
clang++ -mmacosx-version-min=10.13 -std=gnu++14 -I"/Library/Frameworks/R.framework/Resources/include" -DNDEBUG  -I'/Library/Frameworks/R.framework/Versions/4.1/Resources/library/Rcpp/include' -I/usr/local/include  -I./imslib/src/ -fPIC  -Wall -g -O2  -c imslib/src/ims/base/parser/massestextparser.cpp -o imslib/src/ims/base/parser/massestextparser.o
clang++ -mmacosx-version-min=10.13 -std=gnu++14 -I"/Library/Frameworks/R.framework/Resources/include" -DNDEBUG  -I'/Library/Frameworks/R.framework/Versions/4.1/Resources/library/Rcpp/include' -I/usr/local/include  -I./imslib/src/ -fPIC  -Wall -g -O2  -c imslib/src/ims/base/parser/moleculesequenceparser.cpp -o imslib/src/ims/base/parser/moleculesequenceparser.o
clang++ -mmacosx-version-min=10.13 -std=gnu++14 -I"/Library/Frameworks/R.framework/Resources/include" -DNDEBUG  -I'/Library/Frameworks/R.framework/Versions/4.1/Resources/library/Rcpp/include' -I/usr/local/include  -I./imslib/src/ -fPIC  -Wall -g -O2  -c imslib/src/ims/base/parser/standardmoleculesequenceparser.cpp -o imslib/src/ims/base/parser/standardmoleculesequenceparser.o
clang++ -mmacosx-version-min=10.13 -std=gnu++14 -I"/Library/Frameworks/R.framework/Resources/include" -DNDEBUG  -I'/Library/Frameworks/R.framework/Versions/4.1/Resources/library/Rcpp/include' -I/usr/local/include  -I./imslib/src/ -fPIC  -Wall -g -O2  -c imslib/src/ims/base/parser/keggligandcompoundsparser.cpp -o imslib/src/ims/base/parser/keggligandcompoundsparser.o
imslib/src/ims/base/parser/keggligandcompoundsparser.cpp:53:31: warning: '&&' within '||' [-Wlogical-op-parentheses]
        for (;  letter_pos < last_pos && 
                ~~~~~~~~~~~~~~~~~~~~~~^~
imslib/src/ims/base/parser/keggligandcompoundsparser.cpp:53:31: note: place parentheses around the '&&' expression to silence this warning
        for (;  letter_pos < last_pos && 
                                      ^
                (
1 warning generated.
clang++ -mmacosx-version-min=10.13 -std=gnu++14 -I"/Library/Frameworks/R.framework/Resources/include" -DNDEBUG  -I'/Library/Frameworks/R.framework/Versions/4.1/Resources/library/Rcpp/include' -I/usr/local/include  -I./imslib/src/ -fPIC  -Wall -g -O2  -c imslib/src/ims/base/parser/moleculeionchargemodificationparser.cpp -o imslib/src/ims/base/parser/moleculeionchargemodificationparser.o
clang++ -mmacosx-version-min=10.13 -std=gnu++14 -I"/Library/Frameworks/R.framework/Resources/include" -DNDEBUG  -I'/Library/Frameworks/R.framework/Versions/4.1/Resources/library/Rcpp/include' -I/usr/local/include  -I./imslib/src/ -fPIC  -Wall -g -O2  -c imslib/src/ims/calib/linepairstabber.cpp -o imslib/src/ims/calib/linepairstabber.o
clang++ -mmacosx-version-min=10.13 -std=gnu++14 -I"/Library/Frameworks/R.framework/Resources/include" -DNDEBUG  -I'/Library/Frameworks/R.framework/Versions/4.1/Resources/library/Rcpp/include' -I/usr/local/include  -I./imslib/src/ -fPIC  -Wall -g -O2  -c imslib/src/ims/calib/matchmatrix.cpp -o imslib/src/ims/calib/matchmatrix.o
clang++ -mmacosx-version-min=10.13 -std=gnu++14 -I"/Library/Frameworks/R.framework/Resources/include" -DNDEBUG  -I'/Library/Frameworks/R.framework/Versions/4.1/Resources/library/Rcpp/include' -I/usr/local/include  -I./imslib/src/ -fPIC  -Wall -g -O2  -c imslib/src/ims/calib/linearpointsetmatcher.cpp -o imslib/src/ims/calib/linearpointsetmatcher.o
clang++ -mmacosx-version-min=10.13 -std=gnu++14 -I"/Library/Frameworks/R.framework/Resources/include" -DNDEBUG  -I'/Library/Frameworks/R.framework/Versions/4.1/Resources/library/Rcpp/include' -I/usr/local/include  -I./imslib/src/ -fPIC  -Wall -g -O2  -c imslib/src/ims/decomp/realmassdecomposer.cpp -o imslib/src/ims/decomp/realmassdecomposer.o
In file included from imslib/src/ims/decomp/realmassdecomposer.cpp:9:
./imslib/src/ims/decomp/decomputils.h:92:53: warning: unused typedef 'weight_type' [-Wunused-local-typedef]
        typedef typename DecompositionWeights::weight_type weight_type;
                                                           ^
1 warning generated.
clang++ -mmacosx-version-min=10.13 -std=gnu++14 -I"/Library/Frameworks/R.framework/Resources/include" -DNDEBUG  -I'/Library/Frameworks/R.framework/Versions/4.1/Resources/library/Rcpp/include' -I/usr/local/include  -I./imslib/src/ -fPIC  -Wall -g -O2  -c imslib/src/ims/utils/distribution.cpp -o imslib/src/ims/utils/distribution.o
clang++ -mmacosx-version-min=10.13 -std=gnu++14 -I"/Library/Frameworks/R.framework/Resources/include" -DNDEBUG  -I'/Library/Frameworks/R.framework/Versions/4.1/Resources/library/Rcpp/include' -I/usr/local/include  -I./imslib/src/ -fPIC  -Wall -g -O2  -c imslib/src/ims/distributionprobabilityscorer.cpp -o imslib/src/ims/distributionprobabilityscorer.o
clang++ -mmacosx-version-min=10.13 -std=gnu++14 -I"/Library/Frameworks/R.framework/Resources/include" -DNDEBUG  -I'/Library/Frameworks/R.framework/Versions/4.1/Resources/library/Rcpp/include' -I/usr/local/include  -I./imslib/src/ -fPIC  -Wall -g -O2  -c imslib/src/ims/characteralphabet.cpp -o imslib/src/ims/characteralphabet.o
clang++ -mmacosx-version-min=10.13 -std=gnu++14 -I"/Library/Frameworks/R.framework/Resources/include" -DNDEBUG  -I'/Library/Frameworks/R.framework/Versions/4.1/Resources/library/Rcpp/include' -I/usr/local/include  -I./imslib/src/ -fPIC  -Wall -g -O2  -c imslib/src/ims/nitrogenrulefilter.cpp -o imslib/src/ims/nitrogenrulefilter.o
clang++ -mmacosx-version-min=10.13 -std=gnu++14 -dynamiclib -Wl,-headerpad_max_install_names -undefined dynamic_lookup -single_module -multiply_defined suppress -L/Library/Frameworks/R.framework/Resources/lib -L/usr/local/lib -o Rdisop.so disop.o imslib/src/ims/element.o imslib/src/ims/composedelement.o imslib/src/ims/isotopedistribution.o imslib/src/ims/alphabet.o imslib/src/ims/weights.o imslib/src/ims/distributedalphabet.o imslib/src/ims/transformation.o imslib/src/ims/isotopespecies.o imslib/src/ims/base/parser/alphabettextparser.o imslib/src/ims/base/parser/distributedalphabettextparser.o imslib/src/ims/base/parser/massestextparser.o imslib/src/ims/base/parser/moleculesequenceparser.o imslib/src/ims/base/parser/standardmoleculesequenceparser.o imslib/src/ims/base/parser/keggligandcompoundsparser.o imslib/src/ims/base/parser/moleculeionchargemodificationparser.o imslib/src/ims/calib/linepairstabber.o imslib/src/ims/calib/matchmatrix.o imslib/src/ims/calib/linearpointsetmatcher.o imslib/src/ims/decomp/realmassdecomposer.o imslib/src/ims/utils/distribution.o imslib/src/ims/distributionprobabilityscorer.o imslib/src/ims/characteralphabet.o imslib/src/ims/nitrogenrulefilter.o -F/Library/Frameworks/R.framework/.. -framework R -Wl,-framework -Wl,CoreFoundation
installing to /Library/Frameworks/R.framework/Versions/4.1/Resources/library/00LOCK-Rdisop/00new/Rdisop/libs
** R
** inst
** byte-compile and prepare package for lazy loading
** help
*** installing help indices
** building package indices
** installing vignettes
** testing if installed package can be loaded from temporary location
** checking absolute paths in shared objects and dynamic libraries
** testing if installed package can be loaded from final location
** testing if installed package keeps a record of temporary installation path
* DONE (Rdisop)

Tests output

Rdisop.Rcheck/tests/doRUnit.Rout


R version 4.1.2 (2021-11-01) -- "Bird Hippie"
Copyright (C) 2021 The R Foundation for Statistical Computing
Platform: x86_64-apple-darwin17.0 (64-bit)

R is free software and comes with ABSOLUTELY NO WARRANTY.
You are welcome to redistribute it under certain conditions.
Type 'license()' or 'licence()' for distribution details.

R is a collaborative project with many contributors.
Type 'contributors()' for more information and
'citation()' on how to cite R or R packages in publications.

Type 'demo()' for some demos, 'help()' for on-line help, or
'help.start()' for an HTML browser interface to help.
Type 'q()' to quit R.

> ## unit tests will not be done if RUnit is not available
> if(require("RUnit", quietly=TRUE)) {
+ 
+   ## --- Setup ---
+ 
+   pkg <- "Rdisop" # <-- Change to package name!
+   if(Sys.getenv("RCMDCHECK") == "FALSE") {
+     ## Path to unit tests for standalone running under Makefile (not R CMD check)
+     ## PKG/tests/../inst/unitTests
+     path <- file.path(getwd(), "..", "inst", "unitTests")
+   } else {
+     ## Path to unit tests for R CMD check
+     ## PKG.Rcheck/tests/../PKG/unitTests
+     path <- system.file(package=pkg, "unitTests")
+   }
+   cat("\nRunning unit tests\n")
+   print(list(pkg=pkg, getwd=getwd(), pathToUnitTests=path))
+ 
+   library(package=pkg, character.only=TRUE)
+ ##  attr(faahko, "filepaths") <- sapply(as.list(basename(attr(faahko, "filepaths"))), 
+ ##    function(x) system.file("cdf", if (length(grep("ko",x)) > 0) "KO" else  "WT" ,x, package = "faahKO"))
+ 
+   ## If desired, load the name space to allow testing of private functions
+   ## if (is.element(pkg, loadedNamespaces()))
+   ##     attach(loadNamespace(pkg), name=paste("namespace", pkg, sep=":"), pos=3)
+   ##
+   ## or simply call PKG:::myPrivateFunction() in tests
+ 
+   ## --- Testing ---
+ 
+   ## Define tests
+   testSuite <- defineTestSuite(name=paste(pkg, "unit testing"),
+                                           dirs=path)
+   ## Run
+   tests <- runTestSuite(testSuite)
+ 
+   ## Default report name
+   pathReport <- file.path(path, "report")
+ 
+   ## Report to stdout and text files
+   cat("------------------- UNIT TEST SUMMARY ---------------------\n\n")
+   printTextProtocol(tests, showDetails=FALSE)
+   printTextProtocol(tests, showDetails=FALSE,
+                     fileName=paste(pathReport, "Summary.txt", sep=""))
+   printTextProtocol(tests, showDetails=TRUE,
+                     fileName=paste(pathReport, ".txt", sep=""))
+ 
+   ## Report to HTML file
+   printHTMLProtocol(tests, fileName=paste(pathReport, ".html", sep=""))
+ 
+   ## Return stop() to cause R CMD check stop in case of
+   ##  - failures i.e. FALSE to unit tests or
+   ##  - errors i.e. R errors
+   tmp <- getErrors(tests)
+   if(tmp$nFail > 0 | tmp$nErr > 0) {
+     stop(paste("\n\nunit testing failed (#test failures: ", tmp$nFail,
+                ", #R errors: ",  tmp$nErr, ")\n\n", sep=""))
+   }
+ } else {
+   warning("cannot run unit tests -- package RUnit is not available")
+ }

Running unit tests
$pkg
[1] "Rdisop"

$getwd
[1] "/Users/biocbuild/bbs-3.14-bioc/meat/Rdisop.Rcheck/tests"

$pathToUnitTests
[1] "/Library/Frameworks/R.framework/Versions/4.1/Resources/library/Rdisop/unitTests"

Loading required package: Rcpp


Executing test function test.addformula1  ...  done successfully.



Executing test function test.addformula2  ...  done successfully.



Executing test function test.subformula1  ...  done successfully.



Executing test function test.subformula2  ...  done successfully.



Executing test function test.cid24892761  ...  done successfully.



Executing test function test.cid46173807  ...  done successfully.



Executing test function test.empty  ...  done successfully.



Executing test function test.exact  ...  done successfully.



Executing test function test.remove  ...  done successfully.



Executing test function test.minmaxElements1  ...  done successfully.



Executing test function test.minmaxElements2  ...  done successfully.



Executing test function test.minmaxElements3  ...  done successfully.



Executing test function test.minmaxElements4  ...  done successfully.



Executing test function test.minmaxElements5  ...  done successfully.



Executing test function test.minmaxElements6  ...  done successfully.



Executing test function test.minmaxElements7  ...  done successfully.



Executing test function test.monoisotopicMasses  ...  done successfully.

------------------- UNIT TEST SUMMARY ---------------------

RUNIT TEST PROTOCOL -- Sun Jan 16 17:01:38 2022 
*********************************************** 
Number of test functions: 17 
Number of errors: 0 
Number of failures: 0 

 
1 Test Suite : 
Rdisop unit testing - 17 test functions, 0 errors, 0 failures
Warning messages:
1: In RNGkind(kind = testSuite$rngKind, normal.kind = testSuite$rngNormalKind) :
  RNGkind: Marsaglia-Multicarry has poor statistical properties
2: In RNGkind(kind = testSuite$rngKind, normal.kind = testSuite$rngNormalKind) :
  RNGkind: severe deviations from normality for Kinderman-Ramage + Marsaglia-Multicarry
3: In RNGkind(kind = testSuite$rngKind, normal.kind = testSuite$rngNormalKind) :
  RNGkind: Marsaglia-Multicarry has poor statistical properties
4: In RNGkind(kind = testSuite$rngKind, normal.kind = testSuite$rngNormalKind) :
  RNGkind: severe deviations from normality for Kinderman-Ramage + Marsaglia-Multicarry
5: In RNGkind(kind = testSuite$rngKind, normal.kind = testSuite$rngNormalKind) :
  RNGkind: Marsaglia-Multicarry has poor statistical properties
6: In RNGkind(kind = testSuite$rngKind, normal.kind = testSuite$rngNormalKind) :
  RNGkind: severe deviations from normality for Kinderman-Ramage + Marsaglia-Multicarry
7: In RNGkind(kind = testSuite$rngKind, normal.kind = testSuite$rngNormalKind) :
  RNGkind: Marsaglia-Multicarry has poor statistical properties
8: In RNGkind(kind = testSuite$rngKind, normal.kind = testSuite$rngNormalKind) :
  RNGkind: severe deviations from normality for Kinderman-Ramage + Marsaglia-Multicarry
9: In RNGkind(kind = testSuite$rngKind, normal.kind = testSuite$rngNormalKind) :
  RNGkind: Marsaglia-Multicarry has poor statistical properties
10: In RNGkind(kind = testSuite$rngKind, normal.kind = testSuite$rngNormalKind) :
  RNGkind: severe deviations from normality for Kinderman-Ramage + Marsaglia-Multicarry
> 
> proc.time()
   user  system elapsed 
  0.790   0.192   1.045 

Example timings

Rdisop.Rcheck/Rdisop-Ex.timings

nameusersystemelapsed
addMolecules0.0030.0020.006
decomposeMass0.0160.0070.024
getMolecule0.0010.0010.002
initializeCHNOPS0.0030.0010.003