Back to Multiple platform build/check report for BioC 3.14
ABCDEFGHIJKLMNOPQ[R]STUVWXYZ

This page was generated on 2022-01-21 13:05:41 -0500 (Fri, 21 Jan 2022).

HostnameOSArch (*)R versionInstalled pkgs
nebbiolo2Linux (Ubuntu 20.04.4 LTS)x86_644.1.2 (2021-11-01) -- "Bird Hippie" 4329
tokay2Windows Server 2012 R2 Standardx644.1.2 (2021-11-01) -- "Bird Hippie" 4079
machv2macOS 10.14.6 Mojavex86_644.1.2 (2021-11-01) -- "Bird Hippie" 4140
Click on any hostname to see more info about the system (e.g. compilers)      (*) as reported by 'uname -p', except on Windows and Mac OS X

CHECK results for RTNsurvival on nebbiolo2


To the developers/maintainers of the RTNsurvival package:
- Please allow up to 24 hours (and sometimes 48 hours) for your latest push to git@git.bioconductor.org:packages/RTNsurvival.git to
reflect on this report. See How and When does the builder pull? When will my changes propagate? here for more information.
- Make sure to use the following settings in order to reproduce any error or warning you see on this page.

raw results

Package 1672/2083HostnameOS / ArchINSTALLBUILDCHECKBUILD BIN
RTNsurvival 1.18.0  (landing page)
Clarice Groeneveld , Mauro A. A. Castro
Snapshot Date: 2022-01-20 01:55:04 -0500 (Thu, 20 Jan 2022)
git_url: https://git.bioconductor.org/packages/RTNsurvival
git_branch: RELEASE_3_14
git_last_commit: 08175b3
git_last_commit_date: 2021-10-26 12:35:54 -0500 (Tue, 26 Oct 2021)
nebbiolo2Linux (Ubuntu 20.04.4 LTS) / x86_64  OK    OK    OK  UNNEEDED, same version is already published
tokay2Windows Server 2012 R2 Standard / x64  OK    OK    OK    OK  UNNEEDED, same version is already published
machv2macOS 10.14.6 Mojave / x86_64  OK    OK    OK    OK  UNNEEDED, same version is already published

Summary

Package: RTNsurvival
Version: 1.18.0
Command: /home/biocbuild/bbs-3.14-bioc/R/bin/R CMD check --install=check:RTNsurvival.install-out.txt --library=/home/biocbuild/bbs-3.14-bioc/R/library --no-vignettes --timings RTNsurvival_1.18.0.tar.gz
StartedAt: 2022-01-20 09:20:19 -0500 (Thu, 20 Jan 2022)
EndedAt: 2022-01-20 09:23:14 -0500 (Thu, 20 Jan 2022)
EllapsedTime: 175.7 seconds
RetCode: 0
Status:   OK  
CheckDir: RTNsurvival.Rcheck
Warnings: 0

Command output

##############################################################################
##############################################################################
###
### Running command:
###
###   /home/biocbuild/bbs-3.14-bioc/R/bin/R CMD check --install=check:RTNsurvival.install-out.txt --library=/home/biocbuild/bbs-3.14-bioc/R/library --no-vignettes --timings RTNsurvival_1.18.0.tar.gz
###
##############################################################################
##############################################################################


* using log directory ‘/home/biocbuild/bbs-3.14-bioc/meat/RTNsurvival.Rcheck’
* using R version 4.1.2 (2021-11-01)
* using platform: x86_64-pc-linux-gnu (64-bit)
* using session charset: UTF-8
* using option ‘--no-vignettes’
* checking for file ‘RTNsurvival/DESCRIPTION’ ... OK
* checking extension type ... Package
* this is package ‘RTNsurvival’ version ‘1.18.0’
* package encoding: UTF-8
* checking package namespace information ... OK
* checking package dependencies ... OK
* checking if this is a source package ... OK
* checking if there is a namespace ... OK
* checking for hidden files and directories ... OK
* checking for portable file names ... OK
* checking for sufficient/correct file permissions ... OK
* checking whether package ‘RTNsurvival’ can be installed ... OK
* checking installed package size ... OK
* checking package directory ... OK
* checking ‘build’ directory ... OK
* checking DESCRIPTION meta-information ... OK
* checking top-level files ... OK
* checking for left-over files ... OK
* checking index information ... OK
* checking package subdirectories ... OK
* checking R files for non-ASCII characters ... OK
* checking R files for syntax errors ... OK
* checking whether the package can be loaded ... OK
* checking whether the package can be loaded with stated dependencies ... OK
* checking whether the package can be unloaded cleanly ... OK
* checking whether the namespace can be loaded with stated dependencies ... OK
* checking whether the namespace can be unloaded cleanly ... OK
* checking dependencies in R code ... OK
* checking S3 generic/method consistency ... OK
* checking replacement functions ... OK
* checking foreign function calls ... OK
* checking R code for possible problems ... OK
* checking Rd files ... OK
* checking Rd metadata ... OK
* checking Rd cross-references ... OK
* checking for missing documentation entries ... OK
* checking for code/documentation mismatches ... OK
* checking Rd \usage sections ... OK
* checking Rd contents ... OK
* checking for unstated dependencies in examples ... OK
* checking contents of ‘data’ directory ... OK
* checking data for non-ASCII characters ... OK
* checking LazyData ... OK
* checking data for ASCII and uncompressed saves ... OK
* checking files in ‘vignettes’ ... OK
* checking examples ... OK
* checking for unstated dependencies in ‘tests’ ... OK
* checking tests ...
  Running ‘runTests.R’
 OK
* checking for unstated dependencies in vignettes ... OK
* checking package vignettes in ‘inst/doc’ ... OK
* checking running R code from vignettes ... SKIPPED
* checking re-building of vignette outputs ... SKIPPED
* checking PDF version of manual ... OK
* DONE

Status: OK


Installation output

RTNsurvival.Rcheck/00install.out

##############################################################################
##############################################################################
###
### Running command:
###
###   /home/biocbuild/bbs-3.14-bioc/R/bin/R CMD INSTALL RTNsurvival
###
##############################################################################
##############################################################################


* installing to library ‘/home/biocbuild/bbs-3.14-bioc/R/library’
* installing *source* package ‘RTNsurvival’ ...
** using staged installation
** R
** data
*** moving datasets to lazyload DB
** inst
** byte-compile and prepare package for lazy loading
** help
*** installing help indices
** building package indices
** installing vignettes
** testing if installed package can be loaded from temporary location
** testing if installed package can be loaded from final location
** testing if installed package keeps a record of temporary installation path
* DONE (RTNsurvival)

Tests output

RTNsurvival.Rcheck/tests/runTests.Rout


R version 4.1.2 (2021-11-01) -- "Bird Hippie"
Copyright (C) 2021 The R Foundation for Statistical Computing
Platform: x86_64-pc-linux-gnu (64-bit)

R is free software and comes with ABSOLUTELY NO WARRANTY.
You are welcome to redistribute it under certain conditions.
Type 'license()' or 'licence()' for distribution details.

R is a collaborative project with many contributors.
Type 'contributors()' for more information and
'citation()' on how to cite R or R packages in publications.

Type 'demo()' for some demos, 'help()' for on-line help, or
'help.start()' for an HTML browser interface to help.
Type 'q()' to quit R.

> BiocGenerics:::testPackage("RTNsurvival")


RUNIT TEST PROTOCOL -- Thu Jan 20 09:23:11 2022 
*********************************************** 
Number of test functions: 1 
Number of errors: 0 
Number of failures: 0 

 
1 Test Suite : 
RTNsurvival RUnit Tests - 1 test function, 0 errors, 0 failures
Number of test functions: 1 
Number of errors: 0 
Number of failures: 0 
> 
> proc.time()
   user  system elapsed 
  9.191   0.385   9.562 

Example timings

RTNsurvival.Rcheck/RTNsurvival-Ex.timings

nameusersystemelapsed
TNS.data0.0020.0000.003
hclust_semisupervised0.0680.0040.072
tni2tnsPreprocess-methods0.3240.0120.336
tnsAREA3-methods1.2000.0321.232
tnsCox-methods1.4190.0121.431
tnsCoxInteraction-methods1.4640.0241.487
tnsGSEA2-methods0.8430.0040.846
tnsGet-methods1.3460.0321.377
tnsInteraction-methods0.8460.0120.858
tnsKM-methods0.8650.0240.890
tnsKmInteraction-methods0.8060.0120.818
tnsPlotCovariates-methods2.6480.0442.691
tnsPlotCox-methods0.8710.0280.898
tnsPlotCoxInteraction-methods1.4520.0321.483
tnsPlotGSEA2-methods1.4990.0321.530
tnsPlotKM-methods1.4680.0121.479
tnsPlotKmInteraction-methods0.8440.0120.855
tnsPlotSRE-methods0.9190.0230.943
tnsSRD-methods1.4890.0201.510
tnsSRE-methods0.8970.0080.906
tnsStratification000