Name | Last modified | Size | Description | |
---|---|---|---|---|
Parent Directory | - | |||
buildbin-out.txt | 14-Apr-2022 01:07 | 2.2K | ||
buildbin-summary.dcf | 14-Apr-2022 01:07 | 542 | ||
buildsrc-out.txt | 14-Apr-2022 01:07 | 849 | ||
buildsrc-summary.dcf | 14-Apr-2022 01:07 | 461 | ||
checksrc-out.txt | 14-Apr-2022 01:07 | 5.1K | ||
checksrc-summary.dcf | 14-Apr-2022 01:07 | 464 | ||
install-out.txt | 14-Apr-2022 01:07 | 3.0K | ||
install-summary.dcf | 14-Apr-2022 01:07 | 643 | ||