Back to Multiple platform build/check report for BioC 3.14
ABCDEFGHIJKLMNO[P]QRSTUVWXYZ

This page was generated on 2022-01-24 13:06:44 -0500 (Mon, 24 Jan 2022).

HostnameOSArch (*)R versionInstalled pkgs
nebbiolo2Linux (Ubuntu 20.04.4 LTS)x86_644.1.2 (2021-11-01) -- "Bird Hippie" 4329
tokay2Windows Server 2012 R2 Standardx644.1.2 (2021-11-01) -- "Bird Hippie" 4080
machv2macOS 10.14.6 Mojavex86_644.1.2 (2021-11-01) -- "Bird Hippie" 4141
Click on any hostname to see more info about the system (e.g. compilers)      (*) as reported by 'uname -p', except on Windows and Mac OS X

BUILD BIN results for PepsNMR on tokay2


To the developers/maintainers of the PepsNMR package:
- Please allow up to 24 hours (and sometimes 48 hours) for your latest push to git@git.bioconductor.org:packages/PepsNMR.git to
reflect on this report. See How and When does the builder pull? When will my changes propagate? here for more information.
- Make sure to use the following settings in order to reproduce any error or warning you see on this page.

raw results

Package 1395/2083HostnameOS / ArchINSTALLBUILDCHECKBUILD BIN
PepsNMR 1.12.0  (landing page)
Manon Martin
Snapshot Date: 2022-01-23 01:55:04 -0500 (Sun, 23 Jan 2022)
git_url: https://git.bioconductor.org/packages/PepsNMR
git_branch: RELEASE_3_14
git_last_commit: 17f8b0f
git_last_commit_date: 2021-10-26 12:48:17 -0500 (Tue, 26 Oct 2021)
nebbiolo2Linux (Ubuntu 20.04.4 LTS) / x86_64  OK    OK    OK  UNNEEDED, same version is already published
tokay2Windows Server 2012 R2 Standard / x64  OK    OK    OK    OK  UNNEEDED, same version is already published
machv2macOS 10.14.6 Mojave / x86_64  OK    OK    OK    OK  UNNEEDED, same version is already published

Summary

Package: PepsNMR
Version: 1.12.0
Command: rm -rf PepsNMR.buildbin-libdir && mkdir PepsNMR.buildbin-libdir && C:\Users\biocbuild\bbs-3.14-bioc\R\bin\R.exe CMD INSTALL --merge-multiarch --build --library=PepsNMR.buildbin-libdir PepsNMR_1.12.0.tar.gz
StartedAt: 2022-01-24 06:25:15 -0500 (Mon, 24 Jan 2022)
EndedAt: 2022-01-24 06:25:42 -0500 (Mon, 24 Jan 2022)
EllapsedTime: 26.4 seconds
RetCode: 0
Status:   OK  
PackageFile: PepsNMR_1.12.0.zip
PackageFileSize: 843.8 KiB

Command output

##############################################################################
##############################################################################
###
### Running command:
###
###   rm -rf PepsNMR.buildbin-libdir && mkdir PepsNMR.buildbin-libdir && C:\Users\biocbuild\bbs-3.14-bioc\R\bin\R.exe CMD INSTALL --merge-multiarch --build --library=PepsNMR.buildbin-libdir PepsNMR_1.12.0.tar.gz
###
##############################################################################
##############################################################################



install for i386

* installing *source* package 'PepsNMR' ...
** using staged installation
** R
** inst
** byte-compile and prepare package for lazy loading
** help
*** installing help indices
  converting help for package 'PepsNMR'
    finding HTML links ... done
    Apodization                             html  
    BaselineCorrection                      html  
    Bucketing                               html  
    Draw                                    html  
    DrawPCA                                 html  
    DrawSignal                              html  
    FirstOrderPhaseCorrection               html  
    FourierTransform                        html  
    GroupDelayCorrection                    html  
    InternalReferencing                     html  
    NegativeValuesZeroing                   html  
    Normalization                           html  
    PEPSNMR-internal                        html  
    PEPSNMR-package                         html  
    PreprocessingChain                      html  
    ReadFids                                html  
    RegionRemoval                           html  
    SolventSuppression                      html  
    Warping                                 html  
    WindowSelection                         html  
    ZeroFilling                             html  
    ZeroOrderPhaseCorrection                html  
    ZoneAggregation                         html  
** building package indices
** installing vignettes
** testing if installed package can be loaded from temporary location
** testing if installed package can be loaded from final location
** testing if installed package keeps a record of temporary installation path

install for x64

* installing *source* package 'PepsNMR' ...
** testing if installed package can be loaded
* MD5 sums
packaged installation of 'PepsNMR' as PepsNMR_1.12.0.zip
* DONE (PepsNMR)