Back to Multiple platform build/check report for BioC 3.14
ABCDEFGHIJKLMNO[P]QRSTUVWXYZ

This page was generated on 2022-01-19 13:07:08 -0500 (Wed, 19 Jan 2022).

HostnameOSArch (*)R versionInstalled pkgs
nebbiolo2Linux (Ubuntu 20.04.4 LTS)x86_644.1.2 (2021-11-01) -- "Bird Hippie" 4328
tokay2Windows Server 2012 R2 Standardx644.1.2 (2021-11-01) -- "Bird Hippie" 4077
machv2macOS 10.14.6 Mojavex86_644.1.2 (2021-11-01) -- "Bird Hippie" 4138
Click on any hostname to see more info about the system (e.g. compilers)      (*) as reported by 'uname -p', except on Windows and Mac OS X

INSTALL results for PREDA on tokay2


To the developers/maintainers of the PREDA package:
- Please allow up to 24 hours (and sometimes 48 hours) for your latest push to git@git.bioconductor.org:packages/PREDA.git to
reflect on this report. See How and When does the builder pull? When will my changes propagate? here for more information.
- Make sure to use the following settings in order to reproduce any error or warning you see on this page.

raw results

Package 1452/2083HostnameOS / ArchINSTALLBUILDCHECKBUILD BIN
PREDA 1.40.0  (landing page)
Francesco Ferrari
Snapshot Date: 2022-01-18 01:55:07 -0500 (Tue, 18 Jan 2022)
git_url: https://git.bioconductor.org/packages/PREDA
git_branch: RELEASE_3_14
git_last_commit: 65d1da0
git_last_commit_date: 2021-10-26 11:59:54 -0500 (Tue, 26 Oct 2021)
nebbiolo2Linux (Ubuntu 20.04.4 LTS) / x86_64  OK    OK    WARNINGS  UNNEEDED, same version is already published
tokay2Windows Server 2012 R2 Standard / x64  OK    OK    WARNINGS    OK  UNNEEDED, same version is already published
machv2macOS 10.14.6 Mojave / x86_64  OK    OK    WARNINGS    OK  UNNEEDED, same version is already published

Summary

Package: PREDA
Version: 1.40.0
Command: C:\Users\biocbuild\bbs-3.14-bioc\R\bin\R.exe --arch x64 CMD INSTALL --no-multiarch PREDA
StartedAt: 2022-01-18 05:36:15 -0500 (Tue, 18 Jan 2022)
EndedAt: 2022-01-18 05:38:23 -0500 (Tue, 18 Jan 2022)
EllapsedTime: 127.3 seconds
RetCode: 0
Status:   OK  

Command output

##############################################################################
##############################################################################
###
### Running command:
###
###   C:\Users\biocbuild\bbs-3.14-bioc\R\bin\R.exe --arch x64 CMD INSTALL --no-multiarch PREDA
###
##############################################################################
##############################################################################


* installing to library 'C:/Users/biocbuild/bbs-3.14-bioc/R/library'
* installing *source* package 'PREDA' ...
** using staged installation
** R
** inst
** byte-compile and prepare package for lazy loading
** help
*** installing help indices
  converting help for package 'PREDA'
    finding HTML links ... done
    DataForPREDA-class                      html  
    DataForPREDA2GenomicAnnotationsForPREDA
                                            html  
    DataForPREDA2StatisticsForPREDA         html  
    DataForPREDA2dataframe                  html  
    DataForPREDAMedianCenter                html  
    GenomicAnnotations-class                html  
    GenomicAnnotations2GenomicAnnotationsForPREDA
                                            html  
    GenomicAnnotations2dataframe            html  
    GenomicAnnotations2reference_positions
                                            html  
    GenomicAnnotationsExtract               html  
    GenomicAnnotationsFilter_neg            html  
    GenomicAnnotationsFilter_pos            html  
    GenomicAnnotationsForPREDA-class        html  
    GenomicAnnotationsForPREDA2GenomicAnnotations
                                            html  
    GenomicAnnotationsForPREDA2PREDAResults
                                            html  
    GenomicAnnotationsForPREDA2dataframe    html  
    GenomicAnnotationsForPREDAFromfile      html  
    GenomicAnnotationsFromLibrary           html  
    GenomicAnnotationsFromdataframe         html  
    GenomicAnnotationsFromfile              html  
    GenomicAnnotationsSortAndCleanNA        html  
    GenomicRegions-class                    html  
    GenomicRegions2dataframe                html  
    GenomicRegionsAnnotate                  html  
    GenomicRegionsChrNumber                 html  
    GenomicRegionsComparison                html  
    GenomicRegionsCreateRegionsIds          html  
    GenomicRegionsFilter_neg                html  
    GenomicRegionsFilter_pos                html  
    GenomicRegionsFindOverlap               html  
    GenomicRegionsFromdataframe             html  
    GenomicRegionsFromfile                  html  
    GenomicRegionsNumber                    html  
    GenomicRegionsSpan                      html  
    GenomicRegionsTotalSpan                 html  
    MergeStatisticAnnotations2DataForPREDA
                                            html  
    PREDADataAndResults-class               html  
    PREDADataAndResults2dataframe           html  
    PREDAResults-class                      html  
    PREDAResults2GenomicRegions             html  
    PREDAResults2GenomicRegionsSingle       html  
    PREDAResults2PREDADataAndResults        html  
    PREDAResults2dataframe                  html  
    PREDAResultsGetObservedFlags            html  
    PREDA_main                              html  
    SODEGIR_GEstatistics                    html  
    finding level-2 HTML links ... done

    SODEGIRpreprocessingGE                  html  
    StatisticsForPREDA-class                html  
    StatisticsForPREDA2dataframe            html  
    StatisticsForPREDAFilterColumns_neg     html  
    StatisticsForPREDAFilterColumns_pos     html  
    StatisticsForPREDAFromdataframe         html  
    StatisticsForPREDAFromfile              html  
    analysesNames                           html  
    computeDatasetSignature                 html  
    eset2GenomicAnnotations                 html  
    genomePlot                              html  
    getStatisticByName                      html  
    preprocessingGE                         html  
    statisticsForPREDAfromEset              html  
** building package indices
** installing vignettes
   'PREDAclasses.Rnw' using 'latin1' 
   'PREDAtutorial.Rnw' using 'latin1' 
** testing if installed package can be loaded from temporary location
** testing if installed package can be loaded from final location
** testing if installed package keeps a record of temporary installation path
* DONE (PREDA)
Making 'packages.html' ... done