Name | Last modified | Size | Description | |
---|---|---|---|---|
Parent Directory | - | |||
install-summary.dcf | 14-Apr-2022 01:06 | 689 | ||
install-out.txt | 14-Apr-2022 01:06 | 6.7K | ||
checksrc-summary.dcf | 14-Apr-2022 01:06 | 484 | ||
checksrc-out.txt | 14-Apr-2022 01:06 | 4.0K | ||
buildsrc-summary.dcf | 14-Apr-2022 01:06 | 480 | ||
buildsrc-out.txt | 14-Apr-2022 01:06 | 934 | ||
buildbin-summary.dcf | 14-Apr-2022 01:06 | 572 | ||
buildbin-out.txt | 14-Apr-2022 01:06 | 5.8K | ||