Index of /checkResults/3.14/bioc-LATEST/MSstatsTMTPTM/raw-results/tokay2
Name
Last modified
Size
Description
Parent Directory
-
install-out.txt
14-Apr-2022 01:06
4.7K
install-summary.dcf
14-Apr-2022 01:06
688
buildsrc-out.txt
14-Apr-2022 01:06
1.9K
buildsrc-summary.dcf
14-Apr-2022 01:06
391