Name | Last modified | Size | Description | |
---|---|---|---|---|
Parent Directory | - | |||
buildbin-summary.dcf | 14-Apr-2022 01:06 | 563 | ||
buildbin-out.txt | 14-Apr-2022 01:06 | 5.7K | ||
checksrc-summary.dcf | 14-Apr-2022 01:06 | 485 | ||
checksrc-out.txt | 14-Apr-2022 01:06 | 7.8K | ||
buildsrc-out.txt | 14-Apr-2022 01:06 | 925 | ||
buildsrc-summary.dcf | 14-Apr-2022 01:06 | 474 | ||
install-summary.dcf | 14-Apr-2022 01:06 | 677 | ||
install-out.txt | 14-Apr-2022 01:06 | 7.1K | ||