Back to Multiple platform build/check report for BioC 3.14
ABCDEF[G]HIJKLMNOPQRSTUVWXYZ

This page was generated on 2022-01-17 13:06:20 -0500 (Mon, 17 Jan 2022).

HostnameOSArch (*)R versionInstalled pkgs
nebbiolo2Linux (Ubuntu 20.04.4 LTS)x86_644.1.2 (2021-11-01) -- "Bird Hippie" 4328
tokay2Windows Server 2012 R2 Standardx644.1.2 (2021-11-01) -- "Bird Hippie" 4077
machv2macOS 10.14.6 Mojavex86_644.1.2 (2021-11-01) -- "Bird Hippie" 4138
Click on any hostname to see more info about the system (e.g. compilers)      (*) as reported by 'uname -p', except on Windows and Mac OS X

BUILD BIN results for GGPA on tokay2


To the developers/maintainers of the GGPA package:
- Please allow up to 24 hours (and sometimes 48 hours) for your latest push to git@git.bioconductor.org:packages/GGPA.git to
reflect on this report. See How and When does the builder pull? When will my changes propagate? here for more information.
- Make sure to use the following settings in order to reproduce any error or warning you see on this page.

raw results

Package 778/2083HostnameOS / ArchINSTALLBUILDCHECKBUILD BIN
GGPA 1.6.0  (landing page)
Dongjun Chung
Snapshot Date: 2022-01-16 01:55:05 -0500 (Sun, 16 Jan 2022)
git_url: https://git.bioconductor.org/packages/GGPA
git_branch: RELEASE_3_14
git_last_commit: 59e21a3
git_last_commit_date: 2021-10-26 12:58:56 -0500 (Tue, 26 Oct 2021)
nebbiolo2Linux (Ubuntu 20.04.4 LTS) / x86_64  OK    OK    OK  UNNEEDED, same version is already published
tokay2Windows Server 2012 R2 Standard / x64  OK    OK    OK    OK  UNNEEDED, same version is already published
machv2macOS 10.14.6 Mojave / x86_64  OK    OK    OK    OK  UNNEEDED, same version is already published

Summary

Package: GGPA
Version: 1.6.0
Command: rm -rf GGPA.buildbin-libdir && mkdir GGPA.buildbin-libdir && C:\Users\biocbuild\bbs-3.14-bioc\R\bin\R.exe CMD INSTALL --merge-multiarch --build --library=GGPA.buildbin-libdir GGPA_1.6.0.tar.gz
StartedAt: 2022-01-17 07:17:15 -0500 (Mon, 17 Jan 2022)
EndedAt: 2022-01-17 07:18:52 -0500 (Mon, 17 Jan 2022)
EllapsedTime: 97.3 seconds
RetCode: 0
Status:   OK  
PackageFile: GGPA_1.6.0.zip
PackageFileSize: 3.478 MiB

Command output

##############################################################################
##############################################################################
###
### Running command:
###
###   rm -rf GGPA.buildbin-libdir && mkdir GGPA.buildbin-libdir && C:\Users\biocbuild\bbs-3.14-bioc\R\bin\R.exe CMD INSTALL --merge-multiarch --build --library=GGPA.buildbin-libdir GGPA_1.6.0.tar.gz
###
##############################################################################
##############################################################################



install for i386

* installing *source* package 'GGPA' ...
** using staged installation
** libs
"C:/rtools40/mingw32/bin/"g++ -std=gnu++11  -I"C:/Users/BIOCBU~1/BBS-3~1.14-/R/include" -DNDEBUG  -I'C:/Users/biocbuild/bbs-3.14-bioc/R/library/Rcpp/include' -I'C:/Users/biocbuild/bbs-3.14-bioc/R/library/RcppArmadillo/include'   -I"C:/extsoft/include"     -O2 -Wall  -mfpmath=sse -msse2 -mstackrealign  -c 1_Main.cpp -o 1_Main.o
"C:/rtools40/mingw32/bin/"g++ -std=gnu++11  -I"C:/Users/BIOCBU~1/BBS-3~1.14-/R/include" -DNDEBUG  -I'C:/Users/biocbuild/bbs-3.14-bioc/R/library/Rcpp/include' -I'C:/Users/biocbuild/bbs-3.14-bioc/R/library/RcppArmadillo/include'   -I"C:/extsoft/include"     -O2 -Wall  -mfpmath=sse -msse2 -mstackrealign  -c 3_Param.cpp -o 3_Param.o
3_Param.cpp: In member function 'void CParam::S6_G_beta_ij(CData&)':
3_Param.cpp:350:47: warning: 'normC_prop' may be used uninitialized in this function [-Wmaybe-uninitialized]
     Beta = Beta_prop ; G_mat = G_prop ; normC = normC_prop ;
                                         ~~~~~~^~~~~~~~~~~~
3_Param.cpp:335:32: warning: 'logP_denom' may be used uninitialized in this function [-Wmaybe-uninitialized]
    if ( w_cur > 0 ) logP_denom = logP_denom - log(w_cur) ; // f(G) // if w_cur=0, let 1/w_cur = 1, so that log(w_cur) = 0
                     ~~~~~~~~~~~^~~~~~~~~~~~~~~~~~~~~~~~~
3_Param.cpp:334:33: warning: 'logP_numer' may be used uninitialized in this function [-Wmaybe-uninitialized]
    if ( w_prop > 0 ) logP_numer = logP_numer - log(w_prop) ; // f(G^q) // if w_prop=0, let 1/w_prop = 1, so that log(w_prop) = 0
                      ~~~~~~~~~~~^~~~~~~~~~~~~~~~~~~~~~~~~~
"C:/rtools40/mingw32/bin/"g++ -std=gnu++11  -I"C:/Users/BIOCBU~1/BBS-3~1.14-/R/include" -DNDEBUG  -I'C:/Users/biocbuild/bbs-3.14-bioc/R/library/Rcpp/include' -I'C:/Users/biocbuild/bbs-3.14-bioc/R/library/RcppArmadillo/include'   -I"C:/extsoft/include"     -O2 -Wall  -mfpmath=sse -msse2 -mstackrealign  -c Gibbs_e_it_no_ann.cpp -o Gibbs_e_it_no_ann.o
"C:/rtools40/mingw32/bin/"g++ -std=gnu++11  -I"C:/Users/BIOCBU~1/BBS-3~1.14-/R/include" -DNDEBUG  -I'C:/Users/biocbuild/bbs-3.14-bioc/R/library/Rcpp/include' -I'C:/Users/biocbuild/bbs-3.14-bioc/R/library/RcppArmadillo/include'   -I"C:/extsoft/include"     -O2 -Wall  -mfpmath=sse -msse2 -mstackrealign  -c RcppExports.cpp -o RcppExports.o
C:/rtools40/mingw32/bin/g++ -std=gnu++11 -shared -s -static-libgcc -o GGPA.dll tmp.def 1_Main.o 3_Param.o Gibbs_e_it_no_ann.o RcppExports.o -LC:/Users/BIOCBU~1/BBS-3~1.14-/R/bin/i386 -lRlapack -LC:/Users/BIOCBU~1/BBS-3~1.14-/R/bin/i386 -lRblas -lgfortran -lm -lquadmath -LC:/extsoft/lib/i386 -LC:/extsoft/lib -LC:/Users/BIOCBU~1/BBS-3~1.14-/R/bin/i386 -lR
installing to C:/Users/biocbuild/bbs-3.14-bioc/meat/GGPA.buildbin-libdir/00LOCK-GGPA/00new/GGPA/libs/i386
** R
** data
** inst
** byte-compile and prepare package for lazy loading
** help
*** installing help indices
  converting help for package 'GGPA'
    finding HTML links ... done
    GGPA-class                              html  
    GGPA-internal                           html  
    GGPA-package                            html  
    GGPA                                    html  
    assoc                                   html  
    simulation                              html  
** building package indices
** installing vignettes
** testing if installed package can be loaded from temporary location
** testing if installed package can be loaded from final location
** testing if installed package keeps a record of temporary installation path

install for x64

* installing *source* package 'GGPA' ...
** libs
"C:/rtools40/mingw64/bin/"g++ -std=gnu++11  -I"C:/Users/BIOCBU~1/BBS-3~1.14-/R/include" -DNDEBUG  -I'C:/Users/biocbuild/bbs-3.14-bioc/R/library/Rcpp/include' -I'C:/Users/biocbuild/bbs-3.14-bioc/R/library/RcppArmadillo/include'   -I"C:/extsoft/include"     -O2 -Wall  -mfpmath=sse -msse2 -mstackrealign  -c 1_Main.cpp -o 1_Main.o
"C:/rtools40/mingw64/bin/"g++ -std=gnu++11  -I"C:/Users/BIOCBU~1/BBS-3~1.14-/R/include" -DNDEBUG  -I'C:/Users/biocbuild/bbs-3.14-bioc/R/library/Rcpp/include' -I'C:/Users/biocbuild/bbs-3.14-bioc/R/library/RcppArmadillo/include'   -I"C:/extsoft/include"     -O2 -Wall  -mfpmath=sse -msse2 -mstackrealign  -c 3_Param.cpp -o 3_Param.o
3_Param.cpp: In member function 'void CParam::S6_G_beta_ij(CData&)':
3_Param.cpp:350:47: warning: 'normC_prop' may be used uninitialized in this function [-Wmaybe-uninitialized]
     Beta = Beta_prop ; G_mat = G_prop ; normC = normC_prop ;
                                         ~~~~~~^~~~~~~~~~~~
3_Param.cpp:335:32: warning: 'logP_denom' may be used uninitialized in this function [-Wmaybe-uninitialized]
    if ( w_cur > 0 ) logP_denom = logP_denom - log(w_cur) ; // f(G) // if w_cur=0, let 1/w_cur = 1, so that log(w_cur) = 0
                     ~~~~~~~~~~~^~~~~~~~~~~~~~~~~~~~~~~~~
3_Param.cpp:334:33: warning: 'logP_numer' may be used uninitialized in this function [-Wmaybe-uninitialized]
    if ( w_prop > 0 ) logP_numer = logP_numer - log(w_prop) ; // f(G^q) // if w_prop=0, let 1/w_prop = 1, so that log(w_prop) = 0
                      ~~~~~~~~~~~^~~~~~~~~~~~~~~~~~~~~~~~~~
"C:/rtools40/mingw64/bin/"g++ -std=gnu++11  -I"C:/Users/BIOCBU~1/BBS-3~1.14-/R/include" -DNDEBUG  -I'C:/Users/biocbuild/bbs-3.14-bioc/R/library/Rcpp/include' -I'C:/Users/biocbuild/bbs-3.14-bioc/R/library/RcppArmadillo/include'   -I"C:/extsoft/include"     -O2 -Wall  -mfpmath=sse -msse2 -mstackrealign  -c Gibbs_e_it_no_ann.cpp -o Gibbs_e_it_no_ann.o
"C:/rtools40/mingw64/bin/"g++ -std=gnu++11  -I"C:/Users/BIOCBU~1/BBS-3~1.14-/R/include" -DNDEBUG  -I'C:/Users/biocbuild/bbs-3.14-bioc/R/library/Rcpp/include' -I'C:/Users/biocbuild/bbs-3.14-bioc/R/library/RcppArmadillo/include'   -I"C:/extsoft/include"     -O2 -Wall  -mfpmath=sse -msse2 -mstackrealign  -c RcppExports.cpp -o RcppExports.o
C:/rtools40/mingw64/bin/g++ -std=gnu++11 -shared -s -static-libgcc -o GGPA.dll tmp.def 1_Main.o 3_Param.o Gibbs_e_it_no_ann.o RcppExports.o -LC:/Users/BIOCBU~1/BBS-3~1.14-/R/bin/x64 -lRlapack -LC:/Users/BIOCBU~1/BBS-3~1.14-/R/bin/x64 -lRblas -lgfortran -lm -lquadmath -LC:/extsoft/lib/x64 -LC:/extsoft/lib -LC:/Users/BIOCBU~1/BBS-3~1.14-/R/bin/x64 -lR
installing to C:/Users/biocbuild/bbs-3.14-bioc/meat/GGPA.buildbin-libdir/GGPA/libs/x64
** testing if installed package can be loaded
* MD5 sums
packaged installation of 'GGPA' as GGPA_1.6.0.zip
* DONE (GGPA)