Back to Multiple platform build/check report for BioC 3.14
ABCDE[F]GHIJKLMNOPQRSTUVWXYZ

This page was generated on 2022-01-17 13:06:15 -0500 (Mon, 17 Jan 2022).

HostnameOSArch (*)R versionInstalled pkgs
nebbiolo2Linux (Ubuntu 20.04.4 LTS)x86_644.1.2 (2021-11-01) -- "Bird Hippie" 4328
tokay2Windows Server 2012 R2 Standardx644.1.2 (2021-11-01) -- "Bird Hippie" 4077
machv2macOS 10.14.6 Mojavex86_644.1.2 (2021-11-01) -- "Bird Hippie" 4138
Click on any hostname to see more info about the system (e.g. compilers)      (*) as reported by 'uname -p', except on Windows and Mac OS X

BUILD BIN results for FELLA on tokay2


To the developers/maintainers of the FELLA package:
- Please allow up to 24 hours (and sometimes 48 hours) for your latest push to git@git.bioconductor.org:packages/FELLA.git to
reflect on this report. See How and When does the builder pull? When will my changes propagate? here for more information.
- Make sure to use the following settings in order to reproduce any error or warning you see on this page.

raw results

Package 636/2083HostnameOS / ArchINSTALLBUILDCHECKBUILD BIN
FELLA 1.14.0  (landing page)
Sergio Picart-Armada
Snapshot Date: 2022-01-16 01:55:05 -0500 (Sun, 16 Jan 2022)
git_url: https://git.bioconductor.org/packages/FELLA
git_branch: RELEASE_3_14
git_last_commit: 89f6b9d
git_last_commit_date: 2021-10-26 12:42:40 -0500 (Tue, 26 Oct 2021)
nebbiolo2Linux (Ubuntu 20.04.4 LTS) / x86_64  OK    OK    OK  UNNEEDED, same version is already published
tokay2Windows Server 2012 R2 Standard / x64  OK    OK    OK    OK  UNNEEDED, same version is already published
machv2macOS 10.14.6 Mojave / x86_64  OK    OK    OK    OK  UNNEEDED, same version is already published

Summary

Package: FELLA
Version: 1.14.0
Command: rm -rf FELLA.buildbin-libdir && mkdir FELLA.buildbin-libdir && C:\Users\biocbuild\bbs-3.14-bioc\R\bin\R.exe CMD INSTALL --merge-multiarch --build --library=FELLA.buildbin-libdir FELLA_1.14.0.tar.gz
StartedAt: 2022-01-17 07:07:48 -0500 (Mon, 17 Jan 2022)
EndedAt: 2022-01-17 07:09:10 -0500 (Mon, 17 Jan 2022)
EllapsedTime: 81.8 seconds
RetCode: 0
Status:   OK  
PackageFile: FELLA_1.14.0.zip
PackageFileSize: 2.942 MiB

Command output

##############################################################################
##############################################################################
###
### Running command:
###
###   rm -rf FELLA.buildbin-libdir && mkdir FELLA.buildbin-libdir && C:\Users\biocbuild\bbs-3.14-bioc\R\bin\R.exe CMD INSTALL --merge-multiarch --build --library=FELLA.buildbin-libdir FELLA_1.14.0.tar.gz
###
##############################################################################
##############################################################################



install for i386

* installing *source* package 'FELLA' ...
** using staged installation
** R
** data
** inst
** byte-compile and prepare package for lazy loading
** help
*** installing help indices
  converting help for package 'FELLA'
    finding HTML links ... done
    D.diffusion                             html  
    D.hypergeom                             html  
    D.keggdata                              html  
    D.pagerank                              html  
    FELLA.DATA                              html  
    FELLA                                   html  
    FELLA.USER                              html  
    FELLA.sample                            html  
    U.diffusion                             html  
    U.hypergeom                             html  
    U.pagerank                              html  
    U.userinput                             html  
    checkArguments                          html  
    data-funs                               html  
    dot-params                              html  
    enrich-funs                             html  
    export-funs                             html  
    getBackground                           html  
    getCom                                  html  
    getExcluded                             html  
    getGraph                                html  
    getInfo                                 html  
    getInput                                html  
    getMatrix                               html  
    getName                                 html  
    getPscores                              html  
    getPvaluesSize                          html  
    getStatus                               html  
    getSums                                 html  
    getValid                                html  
    infere.con2ec                           html  
    input.sample                            html  
    is.FELLA.DATA                           html  
    is.FELLA.USER                           html  
    largestcc                               html  
    launchApp                               html  
    listApprox                              html  
    listCategories                          html  
    listInternalDatabases                   html  
    listMethods                             html  
    mytriangle                              html  
    plotBipartite                           html  
    plotLegend                              html  
    sanitise                                html  
** building package indices
** installing vignettes
** testing if installed package can be loaded from temporary location
** testing if installed package can be loaded from final location
** testing if installed package keeps a record of temporary installation path

install for x64

* installing *source* package 'FELLA' ...
** testing if installed package can be loaded
* MD5 sums
packaged installation of 'FELLA' as FELLA_1.14.0.zip
* DONE (FELLA)