Index of /checkResults/3.14/bioc-LATEST/CountClust/raw-results/tokay2
Name
Last modified
Size
Description
Parent Directory
-
buildsrc-summary.dcf
14-Apr-2022 01:06
383
buildsrc-out.txt
14-Apr-2022 01:06
4.9K
install-summary.dcf
14-Apr-2022 01:06
667
install-out.txt
14-Apr-2022 01:06
3.0K