Back to Multiple platform build/check report for BioC 3.14
AB[C]DEFGHIJKLMNOPQRSTUVWXYZ

This page was generated on 2022-01-14 13:07:37 -0500 (Fri, 14 Jan 2022).

HostnameOSArch (*)R versionInstalled pkgs
nebbiolo2Linux (Ubuntu 20.04.4 LTS)x86_644.1.2 (2021-11-01) -- "Bird Hippie" 4327
tokay2Windows Server 2012 R2 Standardx644.1.2 (2021-11-01) -- "Bird Hippie" 4076
machv2macOS 10.14.6 Mojavex86_644.1.2 (2021-11-01) -- "Bird Hippie" 4137
Click on any hostname to see more info about the system (e.g. compilers)      (*) as reported by 'uname -p', except on Windows and Mac OS X

BUILD BIN results for CNORdt on machv2


To the developers/maintainers of the CNORdt package:
- Please allow up to 24 hours (and sometimes 48 hours) for your latest push to git@git.bioconductor.org:packages/CNORdt.git to
reflect on this report. See How and When does the builder pull? When will my changes propagate? here for more information.
- Make sure to use the following settings in order to reproduce any error or warning you see on this page.

raw results

Package 351/2083HostnameOS / ArchINSTALLBUILDCHECKBUILD BIN
CNORdt 1.36.0  (landing page)
A. MacNamara
Snapshot Date: 2022-01-13 01:55:04 -0500 (Thu, 13 Jan 2022)
git_url: https://git.bioconductor.org/packages/CNORdt
git_branch: RELEASE_3_14
git_last_commit: 0a09111
git_last_commit_date: 2021-10-26 12:04:54 -0500 (Tue, 26 Oct 2021)
nebbiolo2Linux (Ubuntu 20.04.4 LTS) / x86_64  OK    OK    OK  UNNEEDED, same version is already published
tokay2Windows Server 2012 R2 Standard / x64  OK    OK    OK    OK  UNNEEDED, same version is already published
machv2macOS 10.14.6 Mojave / x86_64  OK    OK    OK    OK  UNNEEDED, same version is already published

Summary

Package: CNORdt
Version: 1.36.0
Command: rm -rf CNORdt.buildbin-libdir && mkdir CNORdt.buildbin-libdir && /Users/biocbuild/BBS/utils/build-universal.sh CNORdt_1.36.0.tar.gz /Library/Frameworks/R.framework/Resources/bin/R CNORdt.buildbin-libdir
StartedAt: 2022-01-13 20:02:58 -0500 (Thu, 13 Jan 2022)
EndedAt: 2022-01-13 20:03:13 -0500 (Thu, 13 Jan 2022)
EllapsedTime: 14.9 seconds
RetCode: 0
Status:   OK  
PackageFile: CNORdt_1.36.0.tgz
PackageFileSize: 246.2 KiB

Command output

##############################################################################
##############################################################################
###
### Running command:
###
###   rm -rf CNORdt.buildbin-libdir && mkdir CNORdt.buildbin-libdir && /Users/biocbuild/BBS/utils/build-universal.sh CNORdt_1.36.0.tar.gz /Library/Frameworks/R.framework/Resources/bin/R CNORdt.buildbin-libdir
###
##############################################################################
##############################################################################


>>>>>>> 
>>>>>>> INSTALLATION WITH 'R CMD INSTALL --preclean --no-multiarch --library=CNORdt.buildbin-libdir CNORdt_1.36.0.tar.gz'
>>>>>>> 

* installing *source* package ‘CNORdt’ ...
** using staged installation
** libs
clang -mmacosx-version-min=10.13 -I"/Library/Frameworks/R.framework/Resources/include" -DNDEBUG   -I/usr/local/include   -fPIC  -Wall -g -O2  -c simulatorDT.c -o simulatorDT.o
simulatorDT.c:243:19: warning: equality comparison with extraneous parentheses [-Wparentheses-equality]
                        if((track_cond == nCond)) {
                            ~~~~~~~~~~~^~~~~~~~
simulatorDT.c:243:19: note: remove extraneous parentheses around the comparison to silence this warning
                        if((track_cond == nCond)) {
                           ~           ^       ~
simulatorDT.c:243:19: note: use '=' to turn this equality comparison into an assignment
                        if((track_cond == nCond)) {
                                       ^~
                                       =
simulatorDT.c:55:6: warning: unused variable 'nTimes' [-Wunused-variable]
        int nTimes = INTEGER(nTimes_in)[0];
            ^
simulatorDT.c:53:6: warning: unused variable 'nSignals' [-Wunused-variable]
        int nSignals = INTEGER(nSignals_in)[0];
            ^
3 warnings generated.
clang -mmacosx-version-min=10.13 -dynamiclib -Wl,-headerpad_max_install_names -undefined dynamic_lookup -single_module -multiply_defined suppress -L/Library/Frameworks/R.framework/Resources/lib -L/usr/local/lib -o CNORdt.so simulatorDT.o -F/Library/Frameworks/R.framework/.. -framework R -Wl,-framework -Wl,CoreFoundation
installing to /Users/biocbuild/bbs-3.14-bioc/meat/CNORdt.buildbin-libdir/00LOCK-CNORdt/00new/CNORdt/libs
** R
** data
** inst
** byte-compile and prepare package for lazy loading
** help
*** installing help indices
** building package indices
** installing vignettes
** testing if installed package can be loaded from temporary location
** checking absolute paths in shared objects and dynamic libraries
** testing if installed package can be loaded from final location
** testing if installed package keeps a record of temporary installation path
* DONE (CNORdt)


>>>>>>> 
>>>>>>> FIXING LINKS FOR CNORdt.buildbin-libdir/CNORdt/libs/CNORdt.so
>>>>>>> 

install_name_tool -change "/usr/local/lib/libgcc_s.1.dylib" "/Library/Frameworks/R.framework/Versions/4.1/Resources/lib/libgcc_s.1.dylib" "CNORdt.buildbin-libdir/CNORdt/libs/CNORdt.so"
install_name_tool -change "/usr/local/lib/libgfortran.5.dylib" "/Library/Frameworks/R.framework/Versions/4.1/Resources/lib/libgfortran.5.dylib" "CNORdt.buildbin-libdir/CNORdt/libs/CNORdt.so"
install_name_tool -change "/usr/local/lib/libquadmath.0.dylib" "/Library/Frameworks/R.framework/Versions/4.1/Resources/lib/libquadmath.0.dylib" "CNORdt.buildbin-libdir/CNORdt/libs/CNORdt.so"