Back to Multiple platform build/check report for BioC 3.14
AB[C]DEFGHIJKLMNOPQRSTUVWXYZ

This page was generated on 2022-01-14 13:05:01 -0500 (Fri, 14 Jan 2022).

HostnameOSArch (*)R versionInstalled pkgs
nebbiolo2Linux (Ubuntu 20.04.4 LTS)x86_644.1.2 (2021-11-01) -- "Bird Hippie" 4327
tokay2Windows Server 2012 R2 Standardx644.1.2 (2021-11-01) -- "Bird Hippie" 4076
machv2macOS 10.14.6 Mojavex86_644.1.2 (2021-11-01) -- "Bird Hippie" 4137
Click on any hostname to see more info about the system (e.g. compilers)      (*) as reported by 'uname -p', except on Windows and Mac OS X

CHECK results for CMA on nebbiolo2


To the developers/maintainers of the CMA package:
- Please allow up to 24 hours (and sometimes 48 hours) for your latest push to git@git.bioconductor.org:packages/CMA.git to
reflect on this report. See How and When does the builder pull? When will my changes propagate? here for more information.
- Make sure to use the following settings in order to reproduce any error or warning you see on this page.

raw results

Package 345/2083HostnameOS / ArchINSTALLBUILDCHECKBUILD BIN
CMA 1.52.0  (landing page)
Roman Hornung
Snapshot Date: 2022-01-13 01:55:04 -0500 (Thu, 13 Jan 2022)
git_url: https://git.bioconductor.org/packages/CMA
git_branch: RELEASE_3_14
git_last_commit: db591c3
git_last_commit_date: 2021-10-26 11:52:28 -0500 (Tue, 26 Oct 2021)
nebbiolo2Linux (Ubuntu 20.04.4 LTS) / x86_64  OK    OK    OK  UNNEEDED, same version is already published
tokay2Windows Server 2012 R2 Standard / x64  OK    OK    OK    OK  UNNEEDED, same version is already published
machv2macOS 10.14.6 Mojave / x86_64  OK    OK    OK    OK  UNNEEDED, same version is already published

Summary

Package: CMA
Version: 1.52.0
Command: /home/biocbuild/bbs-3.14-bioc/R/bin/R CMD check --install=check:CMA.install-out.txt --library=/home/biocbuild/bbs-3.14-bioc/R/library --no-vignettes --timings CMA_1.52.0.tar.gz
StartedAt: 2022-01-13 06:53:04 -0500 (Thu, 13 Jan 2022)
EndedAt: 2022-01-13 06:54:05 -0500 (Thu, 13 Jan 2022)
EllapsedTime: 61.0 seconds
RetCode: 0
Status:   OK  
CheckDir: CMA.Rcheck
Warnings: 0

Command output

##############################################################################
##############################################################################
###
### Running command:
###
###   /home/biocbuild/bbs-3.14-bioc/R/bin/R CMD check --install=check:CMA.install-out.txt --library=/home/biocbuild/bbs-3.14-bioc/R/library --no-vignettes --timings CMA_1.52.0.tar.gz
###
##############################################################################
##############################################################################


* using log directory ‘/home/biocbuild/bbs-3.14-bioc/meat/CMA.Rcheck’
* using R version 4.1.2 (2021-11-01)
* using platform: x86_64-pc-linux-gnu (64-bit)
* using session charset: UTF-8
* using option ‘--no-vignettes’
* checking for file ‘CMA/DESCRIPTION’ ... OK
* checking extension type ... Package
* this is package ‘CMA’ version ‘1.52.0’
* checking package namespace information ... OK
* checking package dependencies ... OK
* checking if this is a source package ... OK
* checking if there is a namespace ... OK
* checking for hidden files and directories ... OK
* checking for portable file names ... OK
* checking for sufficient/correct file permissions ... OK
* checking whether package ‘CMA’ can be installed ... OK
* checking installed package size ... OK
* checking package directory ... OK
* checking ‘build’ directory ... OK
* checking DESCRIPTION meta-information ... OK
* checking top-level files ... OK
* checking for left-over files ... OK
* checking index information ... OK
* checking package subdirectories ... OK
* checking R files for non-ASCII characters ... OK
* checking R files for syntax errors ... OK
* checking whether the package can be loaded ... OK
* checking whether the package can be loaded with stated dependencies ... OK
* checking whether the package can be unloaded cleanly ... OK
* checking whether the namespace can be loaded with stated dependencies ... OK
* checking whether the namespace can be unloaded cleanly ... OK
* checking dependencies in R code ... NOTE
'library' or 'require' calls in package code:
  ‘MASS’ ‘class’ ‘corpcor’ ‘e1071’ ‘gbm’ ‘glmnet’ ‘limma’ ‘mgcv’
  ‘mvtnorm’ ‘nnet’ ‘plsgenomics’ ‘randomForest’ ‘st’
  Please use :: or requireNamespace() instead.
  See section 'Suggested packages' in the 'Writing R Extensions' manual.
* checking S3 generic/method consistency ... OK
* checking replacement functions ... OK
* checking foreign function calls ... OK
* checking R code for possible problems ... NOTE
ROCinternal: no visible binding for global variable ‘xlab’
ROCinternal: no visible binding for global variable ‘ylab’
ROCinternal: no visible binding for global variable ‘main’
ROCinternal: no visible binding for global variable ‘lwd’
ROCinternal: no visible global function definition for ‘box’
ROCinternal: no visible global function definition for ‘text’
characterplot: no visible global function definition for ‘points’
limmatest: no visible global function definition for ‘lmFit’
limmatest: no visible global function definition for ‘contrasts.fit’
limmatest: no visible global function definition for ‘eBayes’
limmatest: no visible global function definition for ‘classifyTestsF’
plotprob: no visible global function definition for ‘axis’
plotprob: no visible global function definition for ‘points’
plotprob: no visible global function definition for ‘abline’
plotprob: no visible global function definition for ‘text’
rfe: no visible binding for global variable ‘cost’
rfe: no visible binding for global variable ‘svm’
Planarplot,matrix-numeric-missing: no visible global function
  definition for ‘points’
boxplot,evaloutput: no visible binding for global variable ‘main’
compare,list: no visible global function definition for ‘par’
compare,list: no visible global function definition for
  ‘dev.interactive’
compare,list: no visible binding for global variable ‘main’
fdaCMA,matrix-numeric-missing: no visible global function definition
  for ‘points’
flexdaCMA,matrix-numeric-missing: no visible global function definition
  for ‘gam’
flexdaCMA,matrix-numeric-missing: no visible global function definition
  for ‘points’
gbmCMA,matrix-numeric-missing: no visible binding for global variable
  ‘n.minobsinnode’
gbmCMA,matrix-numeric-missing: no visible binding for global variable
  ‘bag.fraction’
gbmCMA,matrix-numeric-missing: no visible binding for global variable
  ‘n.trees’
gbmCMA,matrix-numeric-missing: no visible binding for global variable
  ‘verbose’
gbmCMA,matrix-numeric-missing: no visible binding for global variable
  ‘gbm.fit’
knnCMA,matrix-numeric-missing: no visible global function definition
  for ‘knn’
ldaCMA,matrix-numeric-missing: no visible global function definition
  for ‘lda’
nnetCMA,matrix-numeric-missing: no visible binding for global variable
  ‘size’
nnetCMA,matrix-numeric-missing: no visible binding for global variable
  ‘MaxNWts’
nnetCMA,matrix-numeric-missing: no visible global function definition
  for ‘class.ind’
plot,genesel-missing: no visible binding for global variable ‘xlab’
plot,genesel-missing: no visible binding for global variable ‘ylab’
plot,genesel-missing: no visible binding for global variable ‘main’
plot,genesel-missing: no visible binding for global variable ‘cex.lab’
plot,genesel-missing: no visible binding for global variable ‘ylim’
plot,genesel-missing: no visible binding for global variable ‘barplot’
plot,genesel-missing: no visible global function definition for ‘par’
plot,genesel-missing: no visible global function definition for
  ‘dev.interactive’
plot,tuningresult-missing: no visible binding for global variable
  ‘main’
plot,tuningresult-missing: no visible binding for global variable
  ‘xlab’
plot,tuningresult-missing: no visible binding for global variable
  ‘ylab’
plot,tuningresult-missing: no visible binding for global variable
  ‘ylim’
plot,tuningresult-missing: no visible binding for global variable
  ‘lines’
plot,tuningresult-missing: no visible global function definition for
  ‘abline’
plot,tuningresult-missing: no visible binding for global variable
  ‘contour’
plot,tuningresult-missing: no visible global function definition for
  ‘points’
pls_ldaCMA,matrix-numeric-missing: no visible global function
  definition for ‘pls.regression’
pls_ldaCMA,matrix-numeric-missing: no visible global function
  definition for ‘transformy’
pls_ldaCMA,matrix-numeric-missing: no visible global function
  definition for ‘lda’
pls_lrCMA,matrix-numeric-missing: no visible global function definition
  for ‘pls.regression’
pls_lrCMA,matrix-numeric-missing: no visible global function definition
  for ‘transformy’
pls_rfCMA,matrix-numeric-missing: no visible global function definition
  for ‘pls.regression’
pls_rfCMA,matrix-numeric-missing: no visible global function definition
  for ‘transformy’
pls_rfCMA,matrix-numeric-missing: no visible global function definition
  for ‘randomForest’
prediction,data.frame-missing-data.frame-formula: no visible global
  function definition for ‘predicition’
qdaCMA,matrix-numeric-missing: no visible global function definition
  for ‘qda’
rfCMA,matrix-numeric-missing: no visible global function definition for
  ‘randomForest’
shrinkldaCMA,matrix-numeric-missing: no visible global function
  definition for ‘cov.shrink’
svmCMA,matrix-numeric-missing: no visible binding for global variable
  ‘cost’
weighted.mcr,character-character-numeric-character-matrix-numeric: no
  visible global function definition for ‘make.positive.definite’
weighted.mcr,character-character-numeric-character-matrix-numeric: no
  visible global function definition for ‘pmvnorm’
weighted.mcr,character-character-numeric-character-matrix-numeric: no
  visible global function definition for ‘rmvnorm’
wmc,matrix-numeric-numeric: no visible global function definition for
  ‘make.positive.definite’
wmc,matrix-numeric-numeric: no visible global function definition for
  ‘pmvnorm’
wmc,matrix-numeric-numeric: no visible global function definition for
  ‘rmvnorm’
Undefined global functions or variables:
  MaxNWts abline axis bag.fraction barplot box cex.lab class.ind
  classifyTestsF contour contrasts.fit cost cov.shrink dev.interactive
  eBayes gam gbm.fit knn lda lines lmFit lwd main
  make.positive.definite n.minobsinnode n.trees par pls.regression
  pmvnorm points predicition qda randomForest rmvnorm size svm text
  transformy verbose xlab ylab ylim
Consider adding
  importFrom("grDevices", "dev.interactive")
  importFrom("graphics", "abline", "axis", "barplot", "box", "contour",
             "lines", "par", "points", "text")
to your NAMESPACE file.
* checking Rd files ... OK
* checking Rd metadata ... OK
* checking Rd cross-references ... OK
* checking for missing documentation entries ... OK
* checking for code/documentation mismatches ... OK
* checking Rd \usage sections ... OK
* checking Rd contents ... OK
* checking for unstated dependencies in examples ... OK
* checking contents of ‘data’ directory ... OK
* checking data for non-ASCII characters ... OK
* checking data for ASCII and uncompressed saves ... OK
* checking files in ‘vignettes’ ... OK
* checking examples ... OK
* checking for unstated dependencies in vignettes ... OK
* checking package vignettes in ‘inst/doc’ ... OK
* checking running R code from vignettes ... SKIPPED
* checking re-building of vignette outputs ... SKIPPED
* checking PDF version of manual ... OK
* DONE

Status: 2 NOTEs
See
  ‘/home/biocbuild/bbs-3.14-bioc/meat/CMA.Rcheck/00check.log’
for details.



Installation output

CMA.Rcheck/00install.out

##############################################################################
##############################################################################
###
### Running command:
###
###   /home/biocbuild/bbs-3.14-bioc/R/bin/R CMD INSTALL CMA
###
##############################################################################
##############################################################################


* installing to library ‘/home/biocbuild/bbs-3.14-bioc/R/library’
* installing *source* package ‘CMA’ ...
** using staged installation
** R
** data
** byte-compile and prepare package for lazy loading
** help
*** installing help indices
** building package indices
** installing vignettes
** testing if installed package can be loaded from temporary location
** testing if installed package can be loaded from final location
** testing if installed package keeps a record of temporary installation path
* DONE (CMA)

Tests output


Example timings

CMA.Rcheck/CMA-Ex.timings

nameusersystemelapsed
ElasticNetCMA1.3670.1041.471
GeneSelection0.1000.0040.104
GenerateLearningsets0.0030.0040.007
LassoCMA0.2260.0000.226
Planarplot0.2250.0080.233
classification000
compBoostCMA1.7780.0161.794
compare0.0010.0000.000
dldaCMA0.1840.0040.188
evaluation0.1580.0000.158
fdaCMA0.0840.0040.088
flexdaCMA0.1440.0030.149
gbmCMA1.3940.0321.427
golub0.0290.0000.029
khan0.0420.0000.042
knnCMA0.1080.0200.128
ldaCMA000
nnetCMA0.0620.0000.062
pknnCMA0.070.000.07
plrCMA0.240.000.24
pls_ldaCMA000
pls_lrCMA1.1620.1561.322
pls_rfCMA0.0440.0030.047
pnnCMA0.0450.0000.046
prediction000
qdaCMA0.1060.0040.112
rfCMA0.0570.0000.058
scdaCMA0.1000.0000.099
shrinkldaCMA0.0870.0070.093
svmCMA0.3320.0080.340
tune000
weighted_mcr1.7570.0921.850