Back to Multiple platform build/check report for BioC 3.14
AB[C]DEFGHIJKLMNOPQRSTUVWXYZ

This page was generated on 2022-01-14 13:04:59 -0500 (Fri, 14 Jan 2022).

HostnameOSArch (*)R versionInstalled pkgs
nebbiolo2Linux (Ubuntu 20.04.4 LTS)x86_644.1.2 (2021-11-01) -- "Bird Hippie" 4327
tokay2Windows Server 2012 R2 Standardx644.1.2 (2021-11-01) -- "Bird Hippie" 4076
machv2macOS 10.14.6 Mojavex86_644.1.2 (2021-11-01) -- "Bird Hippie" 4137
Click on any hostname to see more info about the system (e.g. compilers)      (*) as reported by 'uname -p', except on Windows and Mac OS X

CHECK results for CGEN on nebbiolo2


To the developers/maintainers of the CGEN package:
- Please allow up to 24 hours (and sometimes 48 hours) for your latest push to git@git.bioconductor.org:packages/CGEN.git to
reflect on this report. See How and When does the builder pull? When will my changes propagate? here for more information.
- Make sure to use the following settings in order to reproduce any error or warning you see on this page.

raw results

Package 285/2083HostnameOS / ArchINSTALLBUILDCHECKBUILD BIN
CGEN 3.30.0  (landing page)
Justin Lee
Snapshot Date: 2022-01-13 01:55:04 -0500 (Thu, 13 Jan 2022)
git_url: https://git.bioconductor.org/packages/CGEN
git_branch: RELEASE_3_14
git_last_commit: 15192e1
git_last_commit_date: 2021-10-26 13:08:59 -0500 (Tue, 26 Oct 2021)
nebbiolo2Linux (Ubuntu 20.04.4 LTS) / x86_64  OK    OK    OK  UNNEEDED, same version is already published
tokay2Windows Server 2012 R2 Standard / x64  OK    OK    OK    OK  UNNEEDED, same version is already published
machv2macOS 10.14.6 Mojave / x86_64  OK    OK    OK    OK  UNNEEDED, same version is already published

Summary

Package: CGEN
Version: 3.30.0
Command: /home/biocbuild/bbs-3.14-bioc/R/bin/R CMD check --install=check:CGEN.install-out.txt --library=/home/biocbuild/bbs-3.14-bioc/R/library --no-vignettes --timings CGEN_3.30.0.tar.gz
StartedAt: 2022-01-13 06:45:54 -0500 (Thu, 13 Jan 2022)
EndedAt: 2022-01-13 06:48:35 -0500 (Thu, 13 Jan 2022)
EllapsedTime: 161.1 seconds
RetCode: 0
Status:   OK  
CheckDir: CGEN.Rcheck
Warnings: 0

Command output

##############################################################################
##############################################################################
###
### Running command:
###
###   /home/biocbuild/bbs-3.14-bioc/R/bin/R CMD check --install=check:CGEN.install-out.txt --library=/home/biocbuild/bbs-3.14-bioc/R/library --no-vignettes --timings CGEN_3.30.0.tar.gz
###
##############################################################################
##############################################################################


* using log directory ‘/home/biocbuild/bbs-3.14-bioc/meat/CGEN.Rcheck’
* using R version 4.1.2 (2021-11-01)
* using platform: x86_64-pc-linux-gnu (64-bit)
* using session charset: UTF-8
* using option ‘--no-vignettes’
* checking for file ‘CGEN/DESCRIPTION’ ... OK
* this is package ‘CGEN’ version ‘3.30.0’
* checking package namespace information ... OK
* checking package dependencies ... OK
* checking if this is a source package ... OK
* checking if there is a namespace ... OK
* checking for hidden files and directories ... OK
* checking for portable file names ... OK
* checking for sufficient/correct file permissions ... OK
* checking whether package ‘CGEN’ can be installed ... OK
* checking installed package size ... OK
* checking package directory ... OK
* checking ‘build’ directory ... OK
* checking DESCRIPTION meta-information ... NOTE
License components with restrictions not permitted:
  GPL-2 + file LICENSE
* checking top-level files ... OK
* checking for left-over files ... OK
* checking index information ... OK
* checking package subdirectories ... OK
* checking R files for non-ASCII characters ... OK
* checking R files for syntax errors ... OK
* checking whether the package can be loaded ... OK
* checking whether the package can be loaded with stated dependencies ... OK
* checking whether the package can be unloaded cleanly ... OK
* checking whether the namespace can be loaded with stated dependencies ... OK
* checking whether the namespace can be unloaded cleanly ... OK
* checking dependencies in R code ... OK
* checking S3 generic/method consistency ... OK
* checking replacement functions ... OK
* checking foreign function calls ... OK
* checking R code for possible problems ... OK
* checking Rd files ... OK
* checking Rd metadata ... OK
* checking Rd cross-references ... OK
* checking for missing documentation entries ... OK
* checking for code/documentation mismatches ... OK
* checking Rd \usage sections ... OK
* checking Rd contents ... OK
* checking for unstated dependencies in examples ... OK
* checking contents of ‘data’ directory ... OK
* checking data for non-ASCII characters ... OK
* checking data for ASCII and uncompressed saves ... OK
* checking line endings in C/C++/Fortran sources/headers ... OK
* checking compiled code ... NOTE
Note: information on .o files is not available
* checking files in ‘vignettes’ ... OK
* checking examples ... OK
Examples with CPU (user + system) or elapsed time > 5s
                 user system elapsed
additive.test  48.150  0.460  48.611
snp.matched    14.939  0.000  14.939
getMatchedSets 13.489  0.236  13.725
* checking for unstated dependencies in vignettes ... OK
* checking package vignettes in ‘inst/doc’ ... OK
* checking running R code from vignettes ... SKIPPED
* checking re-building of vignette outputs ... SKIPPED
* checking PDF version of manual ... OK
* DONE

Status: 2 NOTEs
See
  ‘/home/biocbuild/bbs-3.14-bioc/meat/CGEN.Rcheck/00check.log’
for details.



Installation output

CGEN.Rcheck/00install.out

##############################################################################
##############################################################################
###
### Running command:
###
###   /home/biocbuild/bbs-3.14-bioc/R/bin/R CMD INSTALL CGEN
###
##############################################################################
##############################################################################


* installing to library ‘/home/biocbuild/bbs-3.14-bioc/R/library’
* installing *source* package ‘CGEN’ ...
** using staged installation
** libs
gcc -I"/home/biocbuild/bbs-3.14-bioc/R/include" -DNDEBUG   -I/usr/local/include   -fpic  -g -O2  -Wall -c Additive.c -o Additive.o
Additive.c: In function ‘compute_g’:
Additive.c:233:19: warning: ‘et22’ may be used uninitialized in this function [-Wmaybe-uninitialized]
  233 |       x    = et12 + et22 - 1;
      |              ~~~~~^~~~~~
Additive.c:235:25: warning: ‘t22’ may be used uninitialized in this function [-Wmaybe-uninitialized]
  235 |       *g22 = logx - t12 - t22;
      |              ~~~~~~~~~~~^~~~~
gcc -I"/home/biocbuild/bbs-3.14-bioc/R/include" -DNDEBUG   -I/usr/local/include   -fpic  -g -O2  -Wall -c CML.c -o CML.o
gcc -I"/home/biocbuild/bbs-3.14-bioc/R/include" -DNDEBUG   -I/usr/local/include   -fpic  -g -O2  -Wall -c ccl.c -o ccl.o
gfortran -fno-optimize-sibling-calls  -fpic  -g -O2  -Wall -c csclust.f -o csclust.o
f951: Warning: Nonconforming tab character in column 1 of line 46 [-Wtabs]
f951: Warning: Nonconforming tab character in column 1 of line 83 [-Wtabs]
f951: Warning: Nonconforming tab character in column 2 of line 190 [-Wtabs]
f951: Warning: Nonconforming tab character in column 1 of line 203 [-Wtabs]
f951: Warning: Nonconforming tab character in column 1 of line 205 [-Wtabs]
f951: Warning: Nonconforming tab character in column 1 of line 207 [-Wtabs]
f951: Warning: Nonconforming tab character in column 1 of line 270 [-Wtabs]
f951: Warning: Nonconforming tab character in column 1 of line 271 [-Wtabs]
f951: Warning: Nonconforming tab character in column 1 of line 275 [-Wtabs]
f951: Warning: Nonconforming tab character in column 1 of line 276 [-Wtabs]
f951: Warning: Nonconforming tab character in column 1 of line 277 [-Wtabs]
f951: Warning: Nonconforming tab character in column 1 of line 278 [-Wtabs]
f951: Warning: Nonconforming tab character in column 1 of line 282 [-Wtabs]
f951: Warning: Nonconforming tab character in column 1 of line 283 [-Wtabs]
f951: Warning: Nonconforming tab character in column 1 of line 286 [-Wtabs]
f951: Warning: Nonconforming tab character in column 1 of line 287 [-Wtabs]
f951: Warning: Nonconforming tab character in column 1 of line 288 [-Wtabs]
f951: Warning: Nonconforming tab character in column 1 of line 289 [-Wtabs]
f951: Warning: Nonconforming tab character in column 1 of line 290 [-Wtabs]
f951: Warning: Nonconforming tab character in column 1 of line 291 [-Wtabs]
f951: Warning: Nonconforming tab character in column 1 of line 292 [-Wtabs]
f951: Warning: Nonconforming tab character in column 1 of line 293 [-Wtabs]
f951: Warning: Nonconforming tab character in column 1 of line 294 [-Wtabs]
f951: Warning: Nonconforming tab character in column 1 of line 295 [-Wtabs]
f951: Warning: Nonconforming tab character in column 1 of line 296 [-Wtabs]
f951: Warning: Nonconforming tab character in column 1 of line 306 [-Wtabs]
f951: Warning: Nonconforming tab character in column 1 of line 307 [-Wtabs]
f951: Warning: Nonconforming tab character in column 1 of line 309 [-Wtabs]
f951: Warning: Nonconforming tab character in column 1 of line 310 [-Wtabs]
f951: Warning: Nonconforming tab character in column 1 of line 311 [-Wtabs]
f951: Warning: Nonconforming tab character in column 1 of line 312 [-Wtabs]
f951: Warning: Nonconforming tab character in column 1 of line 313 [-Wtabs]
f951: Warning: Nonconforming tab character in column 1 of line 314 [-Wtabs]
f951: Warning: Nonconforming tab character in column 1 of line 315 [-Wtabs]
f951: Warning: Nonconforming tab character in column 1 of line 316 [-Wtabs]
f951: Warning: Nonconforming tab character in column 1 of line 317 [-Wtabs]
f951: Warning: Nonconforming tab character in column 1 of line 319 [-Wtabs]
f951: Warning: Nonconforming tab character in column 1 of line 320 [-Wtabs]
f951: Warning: Nonconforming tab character in column 1 of line 321 [-Wtabs]
f951: Warning: Nonconforming tab character in column 1 of line 329 [-Wtabs]
csclust.f:72:72:

   72 |  10      FLAG(I)=.TRUE.
      |                                                                        1
Warning: Fortran 2018 deleted feature: DO termination statement which is not END DO or CONTINUE with label 10 at (1)
csclust.f:222:3:

  222 | 650   RETURN
      |   1
Warning: Label 650 at (1) defined but not used [-Wunused-label]
gcc -I"/home/biocbuild/bbs-3.14-bioc/R/include" -DNDEBUG   -I/usr/local/include   -fpic  -g -O2  -Wall -c fsclust.c -o fsclust.o
gcc -I"/home/biocbuild/bbs-3.14-bioc/R/include" -DNDEBUG   -I/usr/local/include   -fpic  -g -O2  -Wall -c hcl.c -o hcl.o
gcc -I"/home/biocbuild/bbs-3.14-bioc/R/include" -DNDEBUG   -I/usr/local/include   -fpic  -g -O2  -Wall -c pmatch.c -o pmatch.o
gcc -I"/home/biocbuild/bbs-3.14-bioc/R/include" -DNDEBUG   -I/usr/local/include   -fpic  -g -O2  -Wall -c score.c -o score.o
gcc -shared -L/home/biocbuild/bbs-3.14-bioc/R/lib -L/usr/local/lib -o CGEN.so Additive.o CML.o ccl.o csclust.o fsclust.o hcl.o pmatch.o score.o -lgfortran -lm -lquadmath -L/home/biocbuild/bbs-3.14-bioc/R/lib -lR
installing to /home/biocbuild/bbs-3.14-bioc/R/library/00LOCK-CGEN/00new/CGEN/libs
** R
** data
** inst
** byte-compile and prepare package for lazy loading
** help
*** installing help indices
** building package indices
** installing vignettes
** testing if installed package can be loaded from temporary location
** checking absolute paths in shared objects and dynamic libraries
** testing if installed package can be loaded from final location
** testing if installed package keeps a record of temporary installation path
* DONE (CGEN)

Tests output


Example timings

CGEN.Rcheck/CGEN-Ex.timings

nameusersystemelapsed
GxE.scan0.0010.0000.001
GxE.scan.combine000
GxE.scan.partition0.0020.0000.001
LocusMapData0.0210.0000.021
QQ.plot0.0160.0040.020
Xdata0.0080.0000.008
Xdata20.0260.0000.027
additive.test48.150 0.46048.611
chromosome.plot0.5260.0000.525
getMatchedSets13.489 0.23613.725
getSummary0.0050.0000.005
getWaldTest0.0050.0000.005
printEffects0.4110.0000.411
snp.effects0.3850.0000.385
snp.effects.plot1.3060.0071.314
snp.list0.0010.0010.000
snp.logistic0.7380.0000.739
snp.matched14.939 0.00014.939
snp.score0.0200.0000.021