Index of /checkResults/3.14/bioc-LATEST/CAGEr/raw-results

[ICO]NameLast modifiedSizeDescription

[DIR]Parent Directory  -  
[   ]info.dcf23-Oct-2021 01:04 265  
[DIR]merida1/23-Oct-2021 01:04 -  
[DIR]nebbiolo2/23-Oct-2021 01:03 -  
[DIR]riesling1/23-Oct-2021 01:04 -