Back to Multiple platform build/check report for BioC 3.14
A[B]CDEFGHIJKLMNOPQRSTUVWXYZ

This page was generated on 2022-01-21 13:07:26 -0500 (Fri, 21 Jan 2022).

HostnameOSArch (*)R versionInstalled pkgs
nebbiolo2Linux (Ubuntu 20.04.4 LTS)x86_644.1.2 (2021-11-01) -- "Bird Hippie" 4329
tokay2Windows Server 2012 R2 Standardx644.1.2 (2021-11-01) -- "Bird Hippie" 4079
machv2macOS 10.14.6 Mojavex86_644.1.2 (2021-11-01) -- "Bird Hippie" 4140
Click on any hostname to see more info about the system (e.g. compilers)      (*) as reported by 'uname -p', except on Windows and Mac OS X

CHECK results for BioNetStat on machv2


To the developers/maintainers of the BioNetStat package:
- Please allow up to 24 hours (and sometimes 48 hours) for your latest push to git@git.bioconductor.org:packages/BioNetStat.git to
reflect on this report. See How and When does the builder pull? When will my changes propagate? here for more information.
- Make sure to use the following settings in order to reproduce any error or warning you see on this page.

raw results

Package 189/2083HostnameOS / ArchINSTALLBUILDCHECKBUILD BIN
BioNetStat 1.14.0  (landing page)
Vinicius Jardim
Snapshot Date: 2022-01-20 01:55:04 -0500 (Thu, 20 Jan 2022)
git_url: https://git.bioconductor.org/packages/BioNetStat
git_branch: RELEASE_3_14
git_last_commit: 8ff3b2a
git_last_commit_date: 2021-10-26 12:44:15 -0500 (Tue, 26 Oct 2021)
nebbiolo2Linux (Ubuntu 20.04.4 LTS) / x86_64  OK    OK    OK  UNNEEDED, same version is already published
tokay2Windows Server 2012 R2 Standard / x64  OK    OK    OK    OK  UNNEEDED, same version is already published
machv2macOS 10.14.6 Mojave / x86_64  OK    OK    OK    OK  UNNEEDED, same version is already published

Summary

Package: BioNetStat
Version: 1.14.0
Command: /Library/Frameworks/R.framework/Resources/bin/R CMD check --install=check:BioNetStat.install-out.txt --library=/Library/Frameworks/R.framework/Resources/library --no-vignettes --timings BioNetStat_1.14.0.tar.gz
StartedAt: 2022-01-20 10:37:20 -0500 (Thu, 20 Jan 2022)
EndedAt: 2022-01-20 10:41:55 -0500 (Thu, 20 Jan 2022)
EllapsedTime: 274.1 seconds
RetCode: 0
Status:   OK  
CheckDir: BioNetStat.Rcheck
Warnings: 0

Command output

##############################################################################
##############################################################################
###
### Running command:
###
###   /Library/Frameworks/R.framework/Resources/bin/R CMD check --install=check:BioNetStat.install-out.txt --library=/Library/Frameworks/R.framework/Resources/library --no-vignettes --timings BioNetStat_1.14.0.tar.gz
###
##############################################################################
##############################################################################


* using log directory ‘/Users/biocbuild/bbs-3.14-bioc/meat/BioNetStat.Rcheck’
* using R version 4.1.2 (2021-11-01)
* using platform: x86_64-apple-darwin17.0 (64-bit)
* using session charset: UTF-8
* using option ‘--no-vignettes’
* checking for file ‘BioNetStat/DESCRIPTION’ ... OK
* checking extension type ... Package
* this is package ‘BioNetStat’ version ‘1.14.0’
* package encoding: UTF-8
* checking package namespace information ... OK
* checking package dependencies ... OK
* checking if this is a source package ... OK
* checking if there is a namespace ... OK
* checking for hidden files and directories ... OK
* checking for portable file names ... OK
* checking for sufficient/correct file permissions ... OK
* checking whether package ‘BioNetStat’ can be installed ... OK
* checking installed package size ... NOTE
  installed size is  5.4Mb
  sub-directories of 1Mb or more:
    extdata   1.9Mb
    shiny     1.9Mb
* checking package directory ... OK
* checking ‘build’ directory ... OK
* checking DESCRIPTION meta-information ... OK
* checking top-level files ... OK
* checking for left-over files ... OK
* checking index information ... OK
* checking package subdirectories ... NOTE
Found the following CITATION file in a non-standard place:
  CITATION
Most likely ‘inst/CITATION’ should be used instead.
* checking R files for non-ASCII characters ... OK
* checking R files for syntax errors ... OK
* checking whether the package can be loaded ... OK
* checking whether the package can be loaded with stated dependencies ... OK
* checking whether the package can be unloaded cleanly ... OK
* checking whether the namespace can be loaded with stated dependencies ... OK
* checking whether the namespace can be unloaded cleanly ... OK
* checking dependencies in R code ... NOTE
Namespaces in Imports field not imported from:
  ‘BiocParallel’ ‘RColorBrewer’ ‘RJSONIO’ ‘ggplot2’ ‘knitr’ ‘markdown’
  ‘pheatmap’ ‘plyr’ ‘rmarkdown’ ‘stats’ ‘utils’ ‘whisker’ ‘yaml’
  All declared Imports should be used.
Packages in Depends field not imported from:
  ‘DT’ ‘shiny’ ‘shinyBS’
  These packages need to be imported from (in the NAMESPACE file)
  for when this namespace is loaded but not attached.
* checking S3 generic/method consistency ... OK
* checking replacement functions ... OK
* checking foreign function calls ... OK
* checking R code for possible problems ... NOTE
adjacencyMatrix : <anonymous>: no visible global function definition
  for ‘cor’
adjacencyMatrix : <anonymous>: no visible global function definition
  for ‘p.adjust’
betweennessCentralityTest: no visible global function definition for
  ‘bplapply’
betweennessCentralityVertexTest: no visible global function definition
  for ‘bplapply’
closenessCentralityTest: no visible global function definition for
  ‘bplapply’
closenessCentralityVertexTest: no visible global function definition
  for ‘bplapply’
clusteringCoefficientTest : <anonymous>: no visible global function
  definition for ‘dist’
clusteringCoefficientTest : <anonymous> : <anonymous>: no visible
  global function definition for ‘dist’
clusteringCoefficientTest: no visible global function definition for
  ‘bplapply’
clusteringCoefficientVertexTest: no visible global function definition
  for ‘bplapply’
degreeCentralityTest: no visible global function definition for
  ‘bplapply’
degreeCentralityVertexTest: no visible global function definition for
  ‘bplapply’
degreeDistributionTest: no visible global function definition for
  ‘bplapply’
diffNetAnalysis: no visible binding for global variable ‘expr’
diffNetAnalysis: no visible global function definition for ‘p.adjust’
doLabels: no visible global function definition for ‘read.csv’
edgeBetweennessEdgeTest: no visible global function definition for
  ‘bplapply’
edgeBetweennessTest: no visible global function definition for
  ‘bplapply’
edgesResInt : <anonymous>: no visible global function definition for
  ‘dist’
eigenvectorCentralityTest: no visible global function definition for
  ‘bplapply’
eigenvectorCentralityVertexTest: no visible global function definition
  for ‘bplapply’
gaussianDensity: no visible global function definition for ‘bw.nrd0’
gaussianDensity: no visible global function definition for ‘density’
pathPlot: no visible binding for global variable ‘median’
readVarFile: no visible global function definition for ‘read.table’
resInt : <anonymous>: no visible global function definition for ‘dist’
retEdgesTable: no visible global function definition for ‘p.adjust’
retTable: no visible global function definition for ‘p.adjust’
spectralDistributionTest: no visible global function definition for
  ‘bplapply’
spectralEntropyTest: no visible global function definition for
  ‘bplapply’
var.list: no visible global function definition for ‘aggregate’
Undefined global functions or variables:
  aggregate bplapply bw.nrd0 cor density dist expr median p.adjust
  read.csv read.table
Consider adding
  importFrom("stats", "aggregate", "bw.nrd0", "cor", "density", "dist",
             "median", "p.adjust")
  importFrom("utils", "read.csv", "read.table")
to your NAMESPACE file.
* checking Rd files ... OK
* checking Rd metadata ... OK
* checking Rd cross-references ... OK
* checking for missing documentation entries ... OK
* checking for code/documentation mismatches ... OK
* checking Rd \usage sections ... OK
* checking Rd contents ... OK
* checking for unstated dependencies in examples ... OK
* checking contents of ‘data’ directory ... OK
* checking data for non-ASCII characters ... OK
* checking data for ASCII and uncompressed saves ... OK
* checking files in ‘vignettes’ ... OK
* checking examples ... OK
Examples with CPU (user + system) or elapsed time > 5s
                     user system elapsed
networkTest        14.094  0.194  14.329
centralityPathPlot 10.665  0.673  15.296
pathPlot            7.530  0.488   8.023
* checking for unstated dependencies in vignettes ... OK
* checking package vignettes in ‘inst/doc’ ... OK
* checking running R code from vignettes ... SKIPPED
* checking re-building of vignette outputs ... SKIPPED
* checking PDF version of manual ... OK
* DONE

Status: 4 NOTEs
See
  ‘/Users/biocbuild/bbs-3.14-bioc/meat/BioNetStat.Rcheck/00check.log’
for details.



Installation output

BioNetStat.Rcheck/00install.out

##############################################################################
##############################################################################
###
### Running command:
###
###   /Library/Frameworks/R.framework/Resources/bin/R CMD INSTALL BioNetStat
###
##############################################################################
##############################################################################


* installing to library ‘/Library/Frameworks/R.framework/Versions/4.1/Resources/library’
* installing *source* package ‘BioNetStat’ ...
** using staged installation
** R
** data
** inst
** byte-compile and prepare package for lazy loading
** help
*** installing help indices
** building package indices
** installing vignettes
** testing if installed package can be loaded from temporary location
** testing if installed package can be loaded from final location
** testing if installed package keeps a record of temporary installation path
* DONE (BioNetStat)

Tests output


Example timings

BioNetStat.Rcheck/BioNetStat-Ex.timings

nameusersystemelapsed
KLdegree0.0190.0020.021
KLspectrum0.0330.0010.034
adjacencyMatrix0.0020.0000.002
centralityPathPlot10.665 0.67315.296
diffNetAnalysis1.7920.0341.830
doLabels0.1290.0040.134
edgeTest0.0910.0130.105
labels0.0010.0010.003
nDegreeDensities0.0640.0080.072
nSpectralDensities0.1180.0090.128
networkFeature0.1370.0090.147
networkTest14.094 0.19414.329
nodeScores0.0770.0160.093
nodeTest0.1400.0170.157
pathPlot7.5300.4888.023
readSetFile0.1360.0020.139
readVarFile0.1340.0030.138
runBioNetStat0.0000.0010.001
varFile0.0090.0020.011