Back to Multiple platform build/check report for BioC 3.14
A[B]CDEFGHIJKLMNOPQRSTUVWXYZ

This page was generated on 2022-01-17 13:04:51 -0500 (Mon, 17 Jan 2022).

HostnameOSArch (*)R versionInstalled pkgs
nebbiolo2Linux (Ubuntu 20.04.4 LTS)x86_644.1.2 (2021-11-01) -- "Bird Hippie" 4328
tokay2Windows Server 2012 R2 Standardx644.1.2 (2021-11-01) -- "Bird Hippie" 4077
machv2macOS 10.14.6 Mojavex86_644.1.2 (2021-11-01) -- "Bird Hippie" 4138
Click on any hostname to see more info about the system (e.g. compilers)      (*) as reported by 'uname -p', except on Windows and Mac OS X

CHECK results for BioCor on nebbiolo2


To the developers/maintainers of the BioCor package:
- Please allow up to 24 hours (and sometimes 48 hours) for your latest push to git@git.bioconductor.org:packages/BioCor.git to
reflect on this report. See How and When does the builder pull? When will my changes propagate? here for more information.
- Make sure to use the following settings in order to reproduce any error or warning you see on this page.

raw results

Package 164/2083HostnameOS / ArchINSTALLBUILDCHECKBUILD BIN
BioCor 1.18.0  (landing page)
Lluís Revilla Sancho
Snapshot Date: 2022-01-16 01:55:05 -0500 (Sun, 16 Jan 2022)
git_url: https://git.bioconductor.org/packages/BioCor
git_branch: RELEASE_3_14
git_last_commit: 867e619
git_last_commit_date: 2021-10-26 12:33:55 -0500 (Tue, 26 Oct 2021)
nebbiolo2Linux (Ubuntu 20.04.4 LTS) / x86_64  OK    OK    OK  UNNEEDED, same version is already published
tokay2Windows Server 2012 R2 Standard / x64  OK    OK    OK    OK  UNNEEDED, same version is already published
machv2macOS 10.14.6 Mojave / x86_64  OK    OK    OK    OK  UNNEEDED, same version is already published

Summary

Package: BioCor
Version: 1.18.0
Command: /home/biocbuild/bbs-3.14-bioc/R/bin/R CMD check --install=check:BioCor.install-out.txt --library=/home/biocbuild/bbs-3.14-bioc/R/library --no-vignettes --timings BioCor_1.18.0.tar.gz
StartedAt: 2022-01-16 06:46:06 -0500 (Sun, 16 Jan 2022)
EndedAt: 2022-01-16 06:48:22 -0500 (Sun, 16 Jan 2022)
EllapsedTime: 135.8 seconds
RetCode: 0
Status:   OK  
CheckDir: BioCor.Rcheck
Warnings: 0

Command output

##############################################################################
##############################################################################
###
### Running command:
###
###   /home/biocbuild/bbs-3.14-bioc/R/bin/R CMD check --install=check:BioCor.install-out.txt --library=/home/biocbuild/bbs-3.14-bioc/R/library --no-vignettes --timings BioCor_1.18.0.tar.gz
###
##############################################################################
##############################################################################


* using log directory ‘/home/biocbuild/bbs-3.14-bioc/meat/BioCor.Rcheck’
* using R version 4.1.2 (2021-11-01)
* using platform: x86_64-pc-linux-gnu (64-bit)
* using session charset: UTF-8
* using option ‘--no-vignettes’
* checking for file ‘BioCor/DESCRIPTION’ ... OK
* this is package ‘BioCor’ version ‘1.18.0’
* package encoding: UTF-8
* checking package namespace information ... OK
* checking package dependencies ... OK
* checking if this is a source package ... OK
* checking if there is a namespace ... OK
* checking for hidden files and directories ... OK
* checking for portable file names ... OK
* checking for sufficient/correct file permissions ... OK
* checking whether package ‘BioCor’ can be installed ... OK
* checking installed package size ... OK
* checking package directory ... OK
* checking ‘build’ directory ... OK
* checking DESCRIPTION meta-information ... OK
* checking top-level files ... OK
* checking for left-over files ... OK
* checking index information ... OK
* checking package subdirectories ... OK
* checking R files for non-ASCII characters ... OK
* checking R files for syntax errors ... OK
* checking whether the package can be loaded ... OK
* checking whether the package can be loaded with stated dependencies ... OK
* checking whether the package can be unloaded cleanly ... OK
* checking whether the namespace can be loaded with stated dependencies ... OK
* checking whether the namespace can be unloaded cleanly ... OK
* checking dependencies in R code ... OK
* checking S3 generic/method consistency ... OK
* checking replacement functions ... OK
* checking foreign function calls ... OK
* checking R code for possible problems ... OK
* checking Rd files ... OK
* checking Rd metadata ... OK
* checking Rd cross-references ... OK
* checking for missing documentation entries ... OK
* checking for code/documentation mismatches ... OK
* checking Rd \usage sections ... OK
* checking Rd contents ... OK
* checking for unstated dependencies in examples ... OK
* checking R/sysdata.rda ... OK
* checking files in ‘vignettes’ ... OK
* checking examples ... OK
* checking for unstated dependencies in ‘tests’ ... OK
* checking tests ...
  Running ‘spelling.R’
  Running ‘testthat.R’
 OK
* checking for unstated dependencies in vignettes ... OK
* checking package vignettes in ‘inst/doc’ ... OK
* checking running R code from vignettes ... SKIPPED
* checking re-building of vignette outputs ... SKIPPED
* checking PDF version of manual ... OK
* DONE

Status: OK


Installation output

BioCor.Rcheck/00install.out

##############################################################################
##############################################################################
###
### Running command:
###
###   /home/biocbuild/bbs-3.14-bioc/R/bin/R CMD INSTALL BioCor
###
##############################################################################
##############################################################################


* installing to library ‘/home/biocbuild/bbs-3.14-bioc/R/library’
* installing *source* package ‘BioCor’ ...
** using staged installation
** R
** byte-compile and prepare package for lazy loading
Creating a generic function from function ‘clusterGeneSim’ in package ‘BioCor’
Creating a generic function from function ‘clusterSim’ in package ‘BioCor’
Creating a generic function from function ‘geneSim’ in package ‘BioCor’
Creating a generic function from function ‘mclusterGeneSim’ in package ‘BioCor’
Creating a generic function from function ‘mclusterSim’ in package ‘BioCor’
Creating a generic function from function ‘mgeneSim’ in package ‘BioCor’
Creating a generic function from function ‘mpathSim’ in package ‘BioCor’
Creating a generic function from function ‘pathSim’ in package ‘BioCor’
** help
*** installing help indices
*** copying figures
** building package indices
** installing vignettes
** testing if installed package can be loaded from temporary location
** testing if installed package can be loaded from final location
** testing if installed package keeps a record of temporary installation path
* DONE (BioCor)

Tests output

BioCor.Rcheck/tests/spelling.Rout


R version 4.1.2 (2021-11-01) -- "Bird Hippie"
Copyright (C) 2021 The R Foundation for Statistical Computing
Platform: x86_64-pc-linux-gnu (64-bit)

R is free software and comes with ABSOLUTELY NO WARRANTY.
You are welcome to redistribute it under certain conditions.
Type 'license()' or 'licence()' for distribution details.

R is a collaborative project with many contributors.
Type 'contributors()' for more information and
'citation()' on how to cite R or R packages in publications.

Type 'demo()' for some demos, 'help()' for on-line help, or
'help.start()' for an HTML browser interface to help.
Type 'q()' to quit R.

> if (requireNamespace("spelling", quietly = TRUE)) {
+       spelling::spell_check_test(vignettes = TRUE, error = FALSE, skip_on_cran = TRUE)
+   }
NULL
> 
> proc.time()
   user  system elapsed 
  0.136   0.044   0.169 

BioCor.Rcheck/tests/testthat.Rout


R version 4.1.2 (2021-11-01) -- "Bird Hippie"
Copyright (C) 2021 The R Foundation for Statistical Computing
Platform: x86_64-pc-linux-gnu (64-bit)

R is free software and comes with ABSOLUTELY NO WARRANTY.
You are welcome to redistribute it under certain conditions.
Type 'license()' or 'licence()' for distribution details.

R is a collaborative project with many contributors.
Type 'contributors()' for more information and
'citation()' on how to cite R or R packages in publications.

Type 'demo()' for some demos, 'help()' for on-line help, or
'help.start()' for an HTML browser interface to help.
Type 'q()' to quit R.

> library(testthat)
> library(BioCor)
> 
> test_check("BioCor")
[ FAIL 0 | WARN 0 | SKIP 0 | PASS 322 ]
> 
> proc.time()
   user  system elapsed 
 10.908   0.503  11.394 

Example timings

BioCor.Rcheck/BioCor-Ex.timings

nameusersystemelapsed
AintoB0.0010.0000.001
addSimilarities0.0020.0040.006
clusterGeneSim1.3530.0681.421
clusterSim0.5550.0310.587
combinadic0.0010.0000.001
combineScores0.0050.0000.006
combineSources0.0020.0000.002
conversions0.0000.0000.001
diceSim000
duplicateIndices0.0010.0000.000
geneSim2.6750.0712.747
mclusterGeneSim0.6680.0440.711
mclusterSim0.5750.0000.575
mgeneSim1.7660.0591.827
mpathSim3.1300.0323.162
pathSim1.6500.0361.685
removeDup0.0030.0010.003
seq2mat0.0000.0010.001
similarities0.0010.0020.003
weighted000