Back to Multiple platform build/check report for BioC 3.14
A[B]CDEFGHIJKLMNOPQRSTUVWXYZ

This page was generated on 2022-01-14 13:04:55 -0500 (Fri, 14 Jan 2022).

HostnameOSArch (*)R versionInstalled pkgs
nebbiolo2Linux (Ubuntu 20.04.4 LTS)x86_644.1.2 (2021-11-01) -- "Bird Hippie" 4327
tokay2Windows Server 2012 R2 Standardx644.1.2 (2021-11-01) -- "Bird Hippie" 4076
machv2macOS 10.14.6 Mojavex86_644.1.2 (2021-11-01) -- "Bird Hippie" 4137
Click on any hostname to see more info about the system (e.g. compilers)      (*) as reported by 'uname -p', except on Windows and Mac OS X

CHECK results for BiGGR on nebbiolo2


To the developers/maintainers of the BiGGR package:
- Please allow up to 24 hours (and sometimes 48 hours) for your latest push to git@git.bioconductor.org:packages/BiGGR.git to
reflect on this report. See How and When does the builder pull? When will my changes propagate? here for more information.
- Make sure to use the following settings in order to reproduce any error or warning you see on this page.

raw results

Package 147/2083HostnameOS / ArchINSTALLBUILDCHECKBUILD BIN
BiGGR 1.30.0  (landing page)
Anand K. Gavai
Snapshot Date: 2022-01-13 01:55:04 -0500 (Thu, 13 Jan 2022)
git_url: https://git.bioconductor.org/packages/BiGGR
git_branch: RELEASE_3_14
git_last_commit: 5348640
git_last_commit_date: 2021-10-26 12:09:42 -0500 (Tue, 26 Oct 2021)
nebbiolo2Linux (Ubuntu 20.04.4 LTS) / x86_64  OK    OK    OK  UNNEEDED, same version is already published
tokay2Windows Server 2012 R2 Standard / x64  OK    OK    OK    OK  UNNEEDED, same version is already published
machv2macOS 10.14.6 Mojave / x86_64... NOT SUPPORTED ...

Summary

Package: BiGGR
Version: 1.30.0
Command: /home/biocbuild/bbs-3.14-bioc/R/bin/R CMD check --install=check:BiGGR.install-out.txt --library=/home/biocbuild/bbs-3.14-bioc/R/library --no-vignettes --timings BiGGR_1.30.0.tar.gz
StartedAt: 2022-01-13 06:29:55 -0500 (Thu, 13 Jan 2022)
EndedAt: 2022-01-13 06:34:10 -0500 (Thu, 13 Jan 2022)
EllapsedTime: 254.5 seconds
RetCode: 0
Status:   OK  
CheckDir: BiGGR.Rcheck
Warnings: 0

Command output

##############################################################################
##############################################################################
###
### Running command:
###
###   /home/biocbuild/bbs-3.14-bioc/R/bin/R CMD check --install=check:BiGGR.install-out.txt --library=/home/biocbuild/bbs-3.14-bioc/R/library --no-vignettes --timings BiGGR_1.30.0.tar.gz
###
##############################################################################
##############################################################################


* using log directory ‘/home/biocbuild/bbs-3.14-bioc/meat/BiGGR.Rcheck’
* using R version 4.1.2 (2021-11-01)
* using platform: x86_64-pc-linux-gnu (64-bit)
* using session charset: UTF-8
* using option ‘--no-vignettes’
* checking for file ‘BiGGR/DESCRIPTION’ ... OK
* checking extension type ... Package
* this is package ‘BiGGR’ version ‘1.30.0’
* checking package namespace information ... OK
* checking package dependencies ... OK
* checking if this is a source package ... OK
* checking if there is a namespace ... OK
* checking for hidden files and directories ... NOTE
Found the following hidden files and directories:
  .BBSoptions
These were most likely included in error. See section ‘Package
structure’ in the ‘Writing R Extensions’ manual.
* checking for portable file names ... OK
* checking for sufficient/correct file permissions ... OK
* checking whether package ‘BiGGR’ can be installed ... OK
* checking installed package size ... OK
* checking package directory ... OK
* checking ‘build’ directory ... OK
* checking DESCRIPTION meta-information ... OK
* checking top-level files ... OK
* checking for left-over files ... OK
* checking index information ... OK
* checking package subdirectories ... OK
* checking R files for non-ASCII characters ... OK
* checking R files for syntax errors ... OK
* checking whether the package can be loaded ... OK
* checking whether the package can be loaded with stated dependencies ... OK
* checking whether the package can be unloaded cleanly ... OK
* checking whether the namespace can be loaded with stated dependencies ... OK
* checking whether the namespace can be unloaded cleanly ... OK
* checking dependencies in R code ... NOTE
Package in Depends field not imported from: ‘stringr’
  These packages need to be imported from (in the NAMESPACE file)
  for when this namespace is loaded but not attached.
* checking S3 generic/method consistency ... OK
* checking replacement functions ... OK
* checking foreign function calls ... OK
* checking R code for possible problems ... NOTE
.buildSubModel: no visible global function definition for ‘new’
buildSBMLFromBiGG: no visible global function definition for
  ‘read.delim’
buildSBMLFromBiGG : <anonymous>: no visible global function definition
  for ‘new’
buildSBMLFromBiGG: no visible global function definition for ‘new’
createLIMFromSBML: no visible global function definition for ‘hasArg’
gprMapping: no visible global function definition for ‘str_detect’
gprMapping: no visible global function definition for ‘na.omit’
gprMappingAvg: no visible global function definition for ‘na.omit’
sampleFluxEnsemble: no visible global function definition for ‘Xsample’
sbml2hyperdraw : <anonymous>: no visible binding for global variable
  ‘species’
sbml2hyperdraw: no visible global function definition for ‘hasArg’
sbml2hyperdraw: no visible global function definition for ‘graphLayout’
sbml2hyperdraw: no visible global function definition for
  ‘nodeDataDefaults<-’
sbml2hyperdraw: no visible global function definition for
  ‘edgeDataDefaults<-’
sbml2hyperdraw: no visible global function definition for
  ‘graphDataDefaults<-’
sbml2hyperdraw : <anonymous>: no visible global function definition for
  ‘edgeData<-’
Undefined global functions or variables:
  Xsample edgeData<- edgeDataDefaults<- graphDataDefaults<- graphLayout
  hasArg na.omit new nodeDataDefaults<- read.delim species str_detect
Consider adding
  importFrom("methods", "hasArg", "new")
  importFrom("stats", "na.omit")
  importFrom("utils", "read.delim")
to your NAMESPACE file (and ensure that your DESCRIPTION Imports field
contains 'methods').
* checking Rd files ... OK
* checking Rd metadata ... OK
* checking Rd cross-references ... OK
* checking for missing documentation entries ... OK
* checking for code/documentation mismatches ... OK
* checking Rd \usage sections ... OK
* checking Rd contents ... OK
* checking for unstated dependencies in examples ... OK
* checking contents of ‘data’ directory ... OK
* checking data for non-ASCII characters ... OK
* checking data for ASCII and uncompressed saves ... OK
* checking installed files from ‘inst/doc’ ... OK
* checking files in ‘vignettes’ ... OK
* checking examples ... OK
Examples with CPU (user + system) or elapsed time > 5s
                      user system elapsed
gprMapping         123.397  0.367 123.768
gprMappingAvg       14.582  0.071  14.654
buildSBMLFromGenes   5.642  0.284   5.926
* checking for unstated dependencies in vignettes ... OK
* checking package vignettes in ‘inst/doc’ ... OK
* checking running R code from vignettes ... SKIPPED
* checking re-building of vignette outputs ... SKIPPED
* checking PDF version of manual ... OK
* DONE

Status: 3 NOTEs
See
  ‘/home/biocbuild/bbs-3.14-bioc/meat/BiGGR.Rcheck/00check.log’
for details.



Installation output

BiGGR.Rcheck/00install.out

##############################################################################
##############################################################################
###
### Running command:
###
###   /home/biocbuild/bbs-3.14-bioc/R/bin/R CMD INSTALL BiGGR
###
##############################################################################
##############################################################################


* installing to library ‘/home/biocbuild/bbs-3.14-bioc/R/library’
* installing *source* package ‘BiGGR’ ...
** using staged installation
** R
** data
** inst
** byte-compile and prepare package for lazy loading
** help
*** installing help indices
** building package indices
** installing vignettes
** testing if installed package can be loaded from temporary location
** testing if installed package can be loaded from final location
** testing if installed package keeps a record of temporary installation path
* DONE (BiGGR)

Tests output


Example timings

BiGGR.Rcheck/BiGGR-Ex.timings

nameusersystemelapsed
BiGGR-package1.8040.0991.904
E.coli_iAF12600.4950.0160.511
E.coli_iJR9040.3200.0000.319
E.coli_textbook0.0210.0000.020
H.pylori_ilT3410.1240.0000.124
H.sapiens_Recon11.1050.0121.117
M.barkeri_iAF6920.2740.0040.278
M.tuberculosis_iNJ6610.3710.0080.379
P.putida_iJN7460.3510.0040.355
Recon22.2250.0922.317
S.aureus_iSB6190.3110.0080.319
S.cerevisiae_iND7500.3990.0040.403
buildSBMLFromBiGG0.0810.0080.089
buildSBMLFromGenes5.6420.2845.926
buildSBMLFromPathways4.0420.0124.053
buildSBMLFromReactionIDs2.320.002.32
createLIMFromBiGG0.0730.0040.077
createLIMFromSBML1.2250.0161.241
extractGeneAssociations2.4130.0042.419
extractPathways2.7440.0002.744
getPathwaysForSBML2.8260.0122.838
getRates0.0030.0000.003
gprMapping123.397 0.367123.768
gprMappingAvg14.582 0.07114.654
lying.tunell.data0.0020.0010.001
rmvSpliceVariant2.2910.0002.290
sampleFluxEnsemble1.7440.0391.785
sbml2hyperdraw2.50.02.5